BEGIN:VCALENDAR
VERSION:2.0
PRODID:-//WreckMaster - ECPv6.15.20//NONSGML v1.0//EN
CALSCALE:GREGORIAN
METHOD:PUBLISH
X-ORIGINAL-URL:https://wreckmasterstaging.tangiblelaunchpad.com
X-WR-CALDESC:Events for WreckMaster
REFRESH-INTERVAL;VALUE=DURATION:PT1H
X-Robots-Tag:noindex
X-PUBLISHED-TTL:PT1H
BEGIN:VTIMEZONE
TZID:America/Toronto
BEGIN:DAYLIGHT
TZOFFSETFROM:-0500
TZOFFSETTO:-0400
TZNAME:EDT
DTSTART:20240310T070000
END:DAYLIGHT
BEGIN:STANDARD
TZOFFSETFROM:-0400
TZOFFSETTO:-0500
TZNAME:EST
DTSTART:20241103T060000
END:STANDARD
BEGIN:DAYLIGHT
TZOFFSETFROM:-0500
TZOFFSETTO:-0400
TZNAME:EDT
DTSTART:20250309T070000
END:DAYLIGHT
BEGIN:STANDARD
TZOFFSETFROM:-0400
TZOFFSETTO:-0500
TZNAME:EST
DTSTART:20251102T060000
END:STANDARD
BEGIN:DAYLIGHT
TZOFFSETFROM:-0500
TZOFFSETTO:-0400
TZNAME:EDT
DTSTART:20260308T070000
END:DAYLIGHT
BEGIN:STANDARD
TZOFFSETFROM:-0400
TZOFFSETTO:-0500
TZNAME:EST
DTSTART:20261101T060000
END:STANDARD
END:VTIMEZONE
BEGIN:VEVENT
DTSTART;TZID=America/Toronto:20250825T080000
DTEND;TZID=America/Toronto:20250828T170000
DTSTAMP:20260421T093646
CREATED:20250801T143417Z
LAST-MODIFIED:20250811T143009Z
UID:10000757-1756108800-1756400400@wreckmasterstaging.tangiblelaunchpad.com
SUMMARY:San Francisco\, CA 32 Hours In-House August 25-28\, 2025
DESCRIPTION:
URL:https://wreckmasterstaging.tangiblelaunchpad.com/event/houston-tx-32-hours-in-house-august-25-28-2025/
LOCATION:United Airline SFO Hub\, 642 West Cargo Rd\, San Francisco\, CA\, 94128\, United States
CATEGORIES:2024 Classes,IN-HOUSE
ORGANIZER;CN="WreckMaster":MAILTO:info@wreckmaster.com
GEO:37.6230938;-122.3953482
X-APPLE-STRUCTURED-LOCATION;VALUE=URI;X-ADDRESS=United Airline SFO Hub 642 West Cargo Rd San Francisco CA 94128 United States;X-APPLE-RADIUS=500;X-TITLE=642 West Cargo Rd:geo:-122.3953482,37.6230938
END:VEVENT
END:VCALENDAR