BEGIN:VCALENDAR
VERSION:2.0
PRODID:-//WreckMaster - ECPv6.15.20//NONSGML v1.0//EN
CALSCALE:GREGORIAN
METHOD:PUBLISH
X-ORIGINAL-URL:https://wreckmasterstaging.tangiblelaunchpad.com
X-WR-CALDESC:Events for WreckMaster
REFRESH-INTERVAL;VALUE=DURATION:PT1H
X-Robots-Tag:noindex
X-PUBLISHED-TTL:PT1H
BEGIN:VTIMEZONE
TZID:America/Toronto
BEGIN:DAYLIGHT
TZOFFSETFROM:-0500
TZOFFSETTO:-0400
TZNAME:EDT
DTSTART:20250309T070000
END:DAYLIGHT
BEGIN:STANDARD
TZOFFSETFROM:-0400
TZOFFSETTO:-0500
TZNAME:EST
DTSTART:20251102T060000
END:STANDARD
BEGIN:DAYLIGHT
TZOFFSETFROM:-0500
TZOFFSETTO:-0400
TZNAME:EDT
DTSTART:20260308T070000
END:DAYLIGHT
BEGIN:STANDARD
TZOFFSETFROM:-0400
TZOFFSETTO:-0500
TZNAME:EST
DTSTART:20261101T060000
END:STANDARD
BEGIN:DAYLIGHT
TZOFFSETFROM:-0500
TZOFFSETTO:-0400
TZNAME:EDT
DTSTART:20270314T070000
END:DAYLIGHT
BEGIN:STANDARD
TZOFFSETFROM:-0400
TZOFFSETTO:-0500
TZNAME:EST
DTSTART:20271107T060000
END:STANDARD
END:VTIMEZONE
BEGIN:VEVENT
DTSTART;TZID=America/Toronto:20260226T000000
DTEND;TZID=America/Toronto:20260227T000000
DTSTAMP:20260421T045649
CREATED:20260226T131820Z
LAST-MODIFIED:20260226T131820Z
UID:10000879-1772064000-1772150400@wreckmasterstaging.tangiblelaunchpad.com
SUMMARY:This is a test event
DESCRIPTION:this is a test
URL:https://wreckmasterstaging.tangiblelaunchpad.com/event/this-is-a-test-event/
LOCATION:Union Station\, 30 W Pershing Rd\, Chicago\, IL\, 60605\, United States
CATEGORIES:IN-HOUSE
END:VEVENT
BEGIN:VEVENT
DTSTART;TZID=America/Toronto:20260129T000000
DTEND;TZID=America/Toronto:20260130T000000
DTSTAMP:20260421T045649
CREATED:20260126T163057Z
LAST-MODIFIED:20260126T163057Z
UID:10000875-1769644800-1769731200@wreckmasterstaging.tangiblelaunchpad.com
SUMMARY:Event venue test
DESCRIPTION:
URL:https://wreckmasterstaging.tangiblelaunchpad.com/event/event-venue-test/
LOCATION:Union Station\, 30 W Pershing Rd\, Chicago\, IL\, 60605\, United States
CATEGORIES:23 Hands-On
END:VEVENT
END:VCALENDAR