BEGIN:VCALENDAR
VERSION:2.0
PRODID:-//WreckMaster - ECPv6.15.20//NONSGML v1.0//EN
CALSCALE:GREGORIAN
METHOD:PUBLISH
X-WR-CALNAME:WreckMaster
X-ORIGINAL-URL:https://wreckmasterstaging.tangiblelaunchpad.com
X-WR-CALDESC:Events for WreckMaster
REFRESH-INTERVAL;VALUE=DURATION:PT1H
X-Robots-Tag:noindex
X-PUBLISHED-TTL:PT1H
BEGIN:VTIMEZONE
TZID:America/Toronto
BEGIN:DAYLIGHT
TZOFFSETFROM:-0500
TZOFFSETTO:-0400
TZNAME:EDT
DTSTART:20220313T070000
END:DAYLIGHT
BEGIN:STANDARD
TZOFFSETFROM:-0400
TZOFFSETTO:-0500
TZNAME:EST
DTSTART:20221106T060000
END:STANDARD
BEGIN:DAYLIGHT
TZOFFSETFROM:-0500
TZOFFSETTO:-0400
TZNAME:EDT
DTSTART:20230312T070000
END:DAYLIGHT
BEGIN:STANDARD
TZOFFSETFROM:-0400
TZOFFSETTO:-0500
TZNAME:EST
DTSTART:20231105T060000
END:STANDARD
BEGIN:DAYLIGHT
TZOFFSETFROM:-0500
TZOFFSETTO:-0400
TZNAME:EDT
DTSTART:20240310T070000
END:DAYLIGHT
BEGIN:STANDARD
TZOFFSETFROM:-0400
TZOFFSETTO:-0500
TZNAME:EST
DTSTART:20241103T060000
END:STANDARD
BEGIN:DAYLIGHT
TZOFFSETFROM:-0500
TZOFFSETTO:-0400
TZNAME:EDT
DTSTART:20250309T070000
END:DAYLIGHT
BEGIN:STANDARD
TZOFFSETFROM:-0400
TZOFFSETTO:-0500
TZNAME:EST
DTSTART:20251102T060000
END:STANDARD
END:VTIMEZONE
BEGIN:VEVENT
DTSTART;TZID=America/Toronto:20240224T080000
DTEND;TZID=America/Toronto:20240225T170000
DTSTAMP:20260421T111355
CREATED:20231004T141816Z
LAST-MODIFIED:20250811T192010Z
UID:10000333-1708761600-1708880400@wreckmasterstaging.tangiblelaunchpad.com
SUMMARY:Chesnee SC Level 2/3 February 24-25 2024
DESCRIPTION:Our flagship training course\, Level 2/3: Fundamentals course focuses primarily on light-duty vehicles\, with introductory techniques for medium and heavy-duty work. \nUpon successful completion of the training evaluation\, attendees will receive a training certificate. \nLevel 2/3: Fundamentals is best for business owners\, company managers\, trainers\, health and safety reps or any career-oriented operators.
URL:https://wreckmasterstaging.tangiblelaunchpad.com/event/chesnee-sc-level-2-3-february-24-25-2024/
LOCATION:TRASC/Atlanta Wrecker Sales\, 4959 chesnee Hwy\, Chesnee\, SC\, 39323\, United States
CATEGORIES:2024 Classes,2024 Hands-On Training,2024 Level 2/3 Hands-On,23 Hands-On
ATTACH;FMTTYPE=image/png:https://wreckmasterstaging.tangiblelaunchpad.com/wp-content/uploads/2022/08/23-HANDS-ON-300x300-1.png
ORGANIZER;CN="WreckMaster":MAILTO:info@wreckmaster.com
GEO:35.0953561;-81.8547744
X-APPLE-STRUCTURED-LOCATION;VALUE=URI;X-ADDRESS=TRASC/Atlanta Wrecker Sales 4959 chesnee Hwy Chesnee SC 39323 United States;X-APPLE-RADIUS=500;X-TITLE=4959 chesnee Hwy:geo:-81.8547744,35.0953561
END:VEVENT
BEGIN:VEVENT
DTSTART;TZID=America/Toronto:20230909T080000
DTEND;TZID=America/Toronto:20230910T170000
DTSTAMP:20260421T111355
CREATED:20230712T181843Z
LAST-MODIFIED:20240208T191317Z
UID:10000290-1694246400-1694365200@wreckmasterstaging.tangiblelaunchpad.com
SUMMARY:Chesnee SC 2/3 September 9-10 2023
DESCRIPTION:Our flagship training course\, Level 2/3: Fundamentals course focuses primarily on light-duty vehicles\, with introductory techniques for medium and heavy-duty work. \n****Please note WreckMaster is no longer offer Certification with the Training we offer.**** \nLevel 2/3: Fundamentals is best for business owners\, company managers\, trainers\, health and safety reps or any career-oriented operators.
URL:https://wreckmasterstaging.tangiblelaunchpad.com/event/chesnee-sc-2-3-september-9-10-2023/
LOCATION:TRASC/Atlanta Wrecker Sales\, 4959 chesnee Hwy\, Chesnee\, SC\, 39323\, United States
CATEGORIES:2023 Classes (Archived)
ATTACH;FMTTYPE=image/png:https://wreckmasterstaging.tangiblelaunchpad.com/wp-content/uploads/2022/08/23-HANDS-ON.png
ORGANIZER;CN="WreckMaster":MAILTO:info@wreckmaster.com
GEO:35.0953561;-81.8547744
X-APPLE-STRUCTURED-LOCATION;VALUE=URI;X-ADDRESS=TRASC/Atlanta Wrecker Sales 4959 chesnee Hwy Chesnee SC 39323 United States;X-APPLE-RADIUS=500;X-TITLE=4959 chesnee Hwy:geo:-81.8547744,35.0953561
END:VEVENT
BEGIN:VEVENT
DTSTART;TZID=America/Toronto:20230908T140000
DTEND;TZID=America/Toronto:20230908T160000
DTSTAMP:20260421T111355
CREATED:20230829T162242Z
LAST-MODIFIED:20240208T214640Z
UID:10000308-1694181600-1694188800@wreckmasterstaging.tangiblelaunchpad.com
SUMMARY:TRASC EV Seminar September 8 2023
DESCRIPTION:The modern era of electrified vehicles is upon us. Hybrid and battery electric vehicles are presenting new challenges to professional towing and recovery operators. The towing industry has questions and WreckMaster has answers. In WreckMaster’s alternative propulsion vehicle course\, you’ll learn strategies to safely and efficiently interact with this challenging new breed of automobiles. We’ll discuss EV history\, vehicle classifications\, how to immobilize and stabilize the casualty for transport. An operator will leave the presentation with confidence and knowledge to serve your client’s electrified vehicle towing and recovery needs. \nLearn about: \n» Electric Vehicle Construction \n» Two-System Operation \n» Thermal Events \n» Proper Equipment \n» High Voltage Disconnect \n» Vehicle Specific information on codes\, locations\, tool-kits\, hook-ups \n» Damage Prevention \nSponsored and Paid for by TowMAX Insurance.  If you are interested in more information with regards to TowMAX insurance click the link below. \nhttps://towmaxinsurance.com/
URL:https://wreckmasterstaging.tangiblelaunchpad.com/event/trasc-ev-seminar-september-8-2023/
LOCATION:TRASC/Atlanta Wrecker Sales\, 4959 chesnee Hwy\, Chesnee\, SC\, 39323\, United States
CATEGORIES:2023 Classes (Archived)
ATTACH;FMTTYPE=image/png:https://wreckmasterstaging.tangiblelaunchpad.com/wp-content/uploads/2023/08/HEV-SEMINAR-BUTTON-PI.png
ORGANIZER;CN="WreckMaster":MAILTO:info@wreckmaster.com
GEO:35.0953561;-81.8547744
X-APPLE-STRUCTURED-LOCATION;VALUE=URI;X-ADDRESS=TRASC/Atlanta Wrecker Sales 4959 chesnee Hwy Chesnee SC 39323 United States;X-APPLE-RADIUS=500;X-TITLE=4959 chesnee Hwy:geo:-81.8547744,35.0953561
END:VEVENT
END:VCALENDAR