BEGIN:VCALENDAR
VERSION:2.0
PRODID:-//WreckMaster - ECPv6.15.20//NONSGML v1.0//EN
CALSCALE:GREGORIAN
METHOD:PUBLISH
X-WR-CALNAME:WreckMaster
X-ORIGINAL-URL:https://wreckmasterstaging.tangiblelaunchpad.com
X-WR-CALDESC:Events for WreckMaster
REFRESH-INTERVAL;VALUE=DURATION:PT1H
X-Robots-Tag:noindex
X-PUBLISHED-TTL:PT1H
BEGIN:VTIMEZONE
TZID:America/Toronto
BEGIN:DAYLIGHT
TZOFFSETFROM:-0500
TZOFFSETTO:-0400
TZNAME:EDT
DTSTART:20240310T070000
END:DAYLIGHT
BEGIN:STANDARD
TZOFFSETFROM:-0400
TZOFFSETTO:-0500
TZNAME:EST
DTSTART:20241103T060000
END:STANDARD
BEGIN:DAYLIGHT
TZOFFSETFROM:-0500
TZOFFSETTO:-0400
TZNAME:EDT
DTSTART:20250309T070000
END:DAYLIGHT
BEGIN:STANDARD
TZOFFSETFROM:-0400
TZOFFSETTO:-0500
TZNAME:EST
DTSTART:20251102T060000
END:STANDARD
BEGIN:DAYLIGHT
TZOFFSETFROM:-0500
TZOFFSETTO:-0400
TZNAME:EDT
DTSTART:20260308T070000
END:DAYLIGHT
BEGIN:STANDARD
TZOFFSETFROM:-0400
TZOFFSETTO:-0500
TZNAME:EST
DTSTART:20261101T060000
END:STANDARD
END:VTIMEZONE
BEGIN:VEVENT
DTSTART;TZID=America/Toronto:20250208T080000
DTEND;TZID=America/Toronto:20250209T170000
DTSTAMP:20260421T084518
CREATED:20241016T150617Z
LAST-MODIFIED:20250204T144842Z
UID:10000557-1739001600-1739120400@wreckmasterstaging.tangiblelaunchpad.com
SUMMARY:Tom’s Brook VA TRIP Level 1 February 8-9 2025
DESCRIPTION:The I-95 Corridor Coalition worked with the Georgia Department of Transportation and Georgia Regional Transportation Authority to develop and implement the Towing and Recovery Incentive Program (TRIP) in 2008 to pay heavy- duty recovery companies a monetary bonus for clearing commercial vehicle wrecks within 90 minutes. TRIP facilitates quick and safe clearance of commercial vehicle crashes by improving towing procedures\, and improves traffic incident management in the region while building a mutually beneficial relationship within the towing community to meet quick clearance goals. Only highly skilled companies with trained operators and specialized equipment may participate in TRIP. \nThe Coalition has been a partner in this Program since 2007\, which included the development\, issuance\, and award of a competitive Request for Proposal . Fellow Coalition Members States benefit from the information derived during this RFP process \, including developing the certification process\, determining the criteria and training course requirements\, and selecting qualified trainers. These training courses can be hosted in any Coalition State to provide training to TRIP operators and supervisors.
URL:https://wreckmasterstaging.tangiblelaunchpad.com/event/toms-brook-va-trip-level-1-february-8-9-2025/
LOCATION:Tom’s Brook Fire Department\, South Main Street\, Toms Brook\, VA\, 22660\, United States
CATEGORIES:2024 Classes,T.R.I.P L1
ATTACH;FMTTYPE=image/png:https://wreckmasterstaging.tangiblelaunchpad.com/wp-content/uploads/2023/04/TRIP-1-smaller.png
ORGANIZER;CN="WreckMaster":MAILTO:info@wreckmaster.com
GEO:38.9464951;-78.439894
X-APPLE-STRUCTURED-LOCATION;VALUE=URI;X-ADDRESS=Tom’s Brook Fire Department South Main Street Toms Brook VA 22660 United States;X-APPLE-RADIUS=500;X-TITLE=South Main Street:geo:-78.439894,38.9464951
END:VEVENT
END:VCALENDAR