BEGIN:VCALENDAR
VERSION:2.0
PRODID:-//WreckMaster - ECPv6.15.20//NONSGML v1.0//EN
CALSCALE:GREGORIAN
METHOD:PUBLISH
X-ORIGINAL-URL:https://wreckmasterstaging.tangiblelaunchpad.com
X-WR-CALDESC:Events for WreckMaster
REFRESH-INTERVAL;VALUE=DURATION:PT1H
X-Robots-Tag:noindex
X-PUBLISHED-TTL:PT1H
BEGIN:VTIMEZONE
TZID:America/Toronto
BEGIN:DAYLIGHT
TZOFFSETFROM:-0500
TZOFFSETTO:-0400
TZNAME:EDT
DTSTART:20250309T070000
END:DAYLIGHT
BEGIN:STANDARD
TZOFFSETFROM:-0400
TZOFFSETTO:-0500
TZNAME:EST
DTSTART:20251102T060000
END:STANDARD
BEGIN:DAYLIGHT
TZOFFSETFROM:-0500
TZOFFSETTO:-0400
TZNAME:EDT
DTSTART:20260308T070000
END:DAYLIGHT
BEGIN:STANDARD
TZOFFSETFROM:-0400
TZOFFSETTO:-0500
TZNAME:EST
DTSTART:20261101T060000
END:STANDARD
BEGIN:DAYLIGHT
TZOFFSETFROM:-0500
TZOFFSETTO:-0400
TZNAME:EDT
DTSTART:20270314T070000
END:DAYLIGHT
BEGIN:STANDARD
TZOFFSETFROM:-0400
TZOFFSETTO:-0500
TZNAME:EST
DTSTART:20271107T060000
END:STANDARD
END:VTIMEZONE
BEGIN:VEVENT
DTSTART;TZID=America/Toronto:20260226T000000
DTEND;TZID=America/Toronto:20260227T000000
DTSTAMP:20260421T045619
CREATED:20260226T133309Z
LAST-MODIFIED:20260226T133309Z
UID:10000883-1772064000-1772150400@wreckmasterstaging.tangiblelaunchpad.com
SUMMARY:test event 2/26 (3)
DESCRIPTION:test event 2/26 (3)
URL:https://wreckmasterstaging.tangiblelaunchpad.com/event/test-event-2-26-3/
LOCATION:Test Email Event\, Test Email Event\, Test Email Event\, Test Email Event\, Test Email Event
CATEGORIES:4/5 On-Line
END:VEVENT
BEGIN:VEVENT
DTSTART;TZID=America/Toronto:20260115T000000
DTEND;TZID=America/Toronto:20260116T000000
DTSTAMP:20260421T045619
CREATED:20260115T144507Z
LAST-MODIFIED:20260115T145504Z
UID:10000865-1768435200-1768521600@wreckmasterstaging.tangiblelaunchpad.com
SUMMARY:Pending 1
DESCRIPTION:sdf
URL:https://wreckmasterstaging.tangiblelaunchpad.com/event/pending-1/
LOCATION:Test Email Event\, Test Email Event\, Test Email Event\, Test Email Event\, Test Email Event
CATEGORIES:8/9R Hands-On With Rotator
END:VEVENT
END:VCALENDAR