BEGIN:VCALENDAR
VERSION:2.0
PRODID:-//WreckMaster - ECPv6.15.20//NONSGML v1.0//EN
CALSCALE:GREGORIAN
METHOD:PUBLISH
X-ORIGINAL-URL:https://wreckmasterstaging.tangiblelaunchpad.com
X-WR-CALDESC:Events for WreckMaster
REFRESH-INTERVAL;VALUE=DURATION:PT1H
X-Robots-Tag:noindex
X-PUBLISHED-TTL:PT1H
BEGIN:VTIMEZONE
TZID:America/Toronto
BEGIN:DAYLIGHT
TZOFFSETFROM:-0500
TZOFFSETTO:-0400
TZNAME:EDT
DTSTART:20230312T070000
END:DAYLIGHT
BEGIN:STANDARD
TZOFFSETFROM:-0400
TZOFFSETTO:-0500
TZNAME:EST
DTSTART:20231105T060000
END:STANDARD
BEGIN:DAYLIGHT
TZOFFSETFROM:-0500
TZOFFSETTO:-0400
TZNAME:EDT
DTSTART:20240310T070000
END:DAYLIGHT
BEGIN:STANDARD
TZOFFSETFROM:-0400
TZOFFSETTO:-0500
TZNAME:EST
DTSTART:20241103T060000
END:STANDARD
BEGIN:DAYLIGHT
TZOFFSETFROM:-0500
TZOFFSETTO:-0400
TZNAME:EDT
DTSTART:20250309T070000
END:DAYLIGHT
BEGIN:STANDARD
TZOFFSETFROM:-0400
TZOFFSETTO:-0500
TZNAME:EST
DTSTART:20251102T060000
END:STANDARD
END:VTIMEZONE
BEGIN:VEVENT
DTSTART;TZID=America/Toronto:20241026T080000
DTEND;TZID=America/Toronto:20241027T170000
DTSTAMP:20260421T131524
CREATED:20240815T141006Z
LAST-MODIFIED:20241024T153602Z
UID:10000533-1729929600-1730048400@wreckmasterstaging.tangiblelaunchpad.com
SUMMARY:Elkton\, MD Level 2/3 October 26-27\, 2024
DESCRIPTION:Our flagship training course\, Level 2/3: Fundamentals course focuses primarily on light-duty vehicles\, with introductory techniques for medium and heavy-duty work. \nUpon successful completion of the training evaluation\, attendees will receive a training certificate. \nLevel 2/3: Fundamentals is best for business owners\, company managers\, trainers\, health and safety reps or any career-oriented operators.
URL:https://wreckmasterstaging.tangiblelaunchpad.com/event/elkton-md-level-2-3-october-26-27-2024/
LOCATION:Singerly Fire Compay\, 300 Newark Avenue\, Elkton\, MD\, 21921\, United States
CATEGORIES:2024 Classes,23 Hands-On
ATTACH;FMTTYPE=image/png:https://wreckmasterstaging.tangiblelaunchpad.com/wp-content/uploads/2022/08/23-HANDS-ON-300x300-1.png
ORGANIZER;CN="WreckMaster":MAILTO:info@wreckmaster.com
GEO:39.619605;-75.8370086
X-APPLE-STRUCTURED-LOCATION;VALUE=URI;X-ADDRESS=Singerly Fire Compay 300 Newark Avenue Elkton MD 21921 United States;X-APPLE-RADIUS=500;X-TITLE=300 Newark Avenue:geo:-75.8370086,39.619605
END:VEVENT
END:VCALENDAR