BEGIN:VCALENDAR
VERSION:2.0
PRODID:-//WreckMaster - ECPv6.15.20//NONSGML v1.0//EN
CALSCALE:GREGORIAN
METHOD:PUBLISH
X-ORIGINAL-URL:https://wreckmasterstaging.tangiblelaunchpad.com
X-WR-CALDESC:Events for WreckMaster
REFRESH-INTERVAL;VALUE=DURATION:PT1H
X-Robots-Tag:noindex
X-PUBLISHED-TTL:PT1H
BEGIN:VTIMEZONE
TZID:America/Toronto
BEGIN:DAYLIGHT
TZOFFSETFROM:-0500
TZOFFSETTO:-0400
TZNAME:EDT
DTSTART:20240310T070000
END:DAYLIGHT
BEGIN:STANDARD
TZOFFSETFROM:-0400
TZOFFSETTO:-0500
TZNAME:EST
DTSTART:20241103T060000
END:STANDARD
BEGIN:DAYLIGHT
TZOFFSETFROM:-0500
TZOFFSETTO:-0400
TZNAME:EDT
DTSTART:20250309T070000
END:DAYLIGHT
BEGIN:STANDARD
TZOFFSETFROM:-0400
TZOFFSETTO:-0500
TZNAME:EST
DTSTART:20251102T060000
END:STANDARD
BEGIN:DAYLIGHT
TZOFFSETFROM:-0500
TZOFFSETTO:-0400
TZNAME:EDT
DTSTART:20260308T070000
END:DAYLIGHT
BEGIN:STANDARD
TZOFFSETFROM:-0400
TZOFFSETTO:-0500
TZNAME:EST
DTSTART:20261101T060000
END:STANDARD
END:VTIMEZONE
BEGIN:VEVENT
DTSTART;TZID=America/Toronto:20250927T080000
DTEND;TZID=America/Toronto:20250928T170000
DTSTAMP:20260421T080256
CREATED:20250619T152647Z
LAST-MODIFIED:20250909T141814Z
UID:10000734-1758960000-1759078800@wreckmasterstaging.tangiblelaunchpad.com
SUMMARY:Exeter\, RI Level 4/5 September 27-28\, 2025
DESCRIPTION:Level 4/5: Advanced Techniques gives you the skills needed to tackle medium and heavy-duty jobs the first time\, every time. No more near misses or failed attempts. \nIf you’ve taken the WreckMaster Level 2/3: Fundamentals course and you want to be able to tow and recover in even more complicated and potentially dangerous scenarios\, the Level 4/5: Advanced Techniques course is for you. \nIt’s an especially good fit for company owners\, trainers and organizations that work with or train fire and rescue personnel \nUpon successful completion of the training evaluation\, attendees will receive a training certificate.
URL:https://wreckmasterstaging.tangiblelaunchpad.com/event/exeter-ri-level-4-5-september-27-28-2025/
LOCATION:Rhode Island Fire Academy\, 4 Green Lane\, Exeter\, RI\, 2822\, United States
CATEGORIES:2024 Classes,4/5 Hands-On
ATTACH;FMTTYPE=image/png:https://wreckmasterstaging.tangiblelaunchpad.com/wp-content/uploads/2023/05/45-HANDS-ON-smaller.png
ORGANIZER;CN="WreckMaster":MAILTO:info@wreckmaster.com
GEO:41.5591838;-71.5438923
X-APPLE-STRUCTURED-LOCATION;VALUE=URI;X-ADDRESS=Rhode Island Fire Academy 4 Green Lane Exeter RI 2822 United States;X-APPLE-RADIUS=500;X-TITLE=4 Green Lane:geo:-71.5438923,41.5591838
END:VEVENT
BEGIN:VEVENT
DTSTART;TZID=America/Toronto:20250531T080000
DTEND;TZID=America/Toronto:20250601T170000
DTSTAMP:20260421T080256
CREATED:20250219T163717Z
LAST-MODIFIED:20250306T153212Z
UID:10000642-1748678400-1748797200@wreckmasterstaging.tangiblelaunchpad.com
SUMMARY:Exeter\, RI Level 2/3 May 31-June 1\, 2025
DESCRIPTION:Our flagship training course\, Level 2/3: Fundamentals course focuses primarily on light-duty vehicles\, with introductory techniques for medium and heavy-duty work. \nUpon successful completion of the training evaluation\, attendees will receive a training certificate. \nLevel 2/3: Fundamentals is best for business owners\, company managers\, trainers\, health and safety reps or any career-oriented operators.
URL:https://wreckmasterstaging.tangiblelaunchpad.com/event/exeter-ri-level-2-3-may-31-june-1-2025/
LOCATION:Rhode Island Fire Academy\, 4 Green Lane\, Exeter\, RI\, 2822\, United States
CATEGORIES:2024 Classes,23 Hands-On
ATTACH;FMTTYPE=image/png:https://wreckmasterstaging.tangiblelaunchpad.com/wp-content/uploads/2022/08/23-HANDS-ON-300x300-1.png
ORGANIZER;CN="WreckMaster":MAILTO:info@wreckmaster.com
GEO:41.5591838;-71.5438923
X-APPLE-STRUCTURED-LOCATION;VALUE=URI;X-ADDRESS=Rhode Island Fire Academy 4 Green Lane Exeter RI 2822 United States;X-APPLE-RADIUS=500;X-TITLE=4 Green Lane:geo:-71.5438923,41.5591838
END:VEVENT
END:VCALENDAR