BEGIN:VCALENDAR
VERSION:2.0
PRODID:-//WreckMaster - ECPv6.15.20//NONSGML v1.0//EN
CALSCALE:GREGORIAN
METHOD:PUBLISH
X-WR-CALNAME:WreckMaster
X-ORIGINAL-URL:https://wreckmasterstaging.tangiblelaunchpad.com
X-WR-CALDESC:Events for WreckMaster
REFRESH-INTERVAL;VALUE=DURATION:PT1H
X-Robots-Tag:noindex
X-PUBLISHED-TTL:PT1H
BEGIN:VTIMEZONE
TZID:America/Toronto
BEGIN:DAYLIGHT
TZOFFSETFROM:-0500
TZOFFSETTO:-0400
TZNAME:EDT
DTSTART:20240310T070000
END:DAYLIGHT
BEGIN:STANDARD
TZOFFSETFROM:-0400
TZOFFSETTO:-0500
TZNAME:EST
DTSTART:20241103T060000
END:STANDARD
BEGIN:DAYLIGHT
TZOFFSETFROM:-0500
TZOFFSETTO:-0400
TZNAME:EDT
DTSTART:20250309T070000
END:DAYLIGHT
BEGIN:STANDARD
TZOFFSETFROM:-0400
TZOFFSETTO:-0500
TZNAME:EST
DTSTART:20251102T060000
END:STANDARD
BEGIN:DAYLIGHT
TZOFFSETFROM:-0500
TZOFFSETTO:-0400
TZNAME:EDT
DTSTART:20260308T070000
END:DAYLIGHT
BEGIN:STANDARD
TZOFFSETFROM:-0400
TZOFFSETTO:-0500
TZNAME:EST
DTSTART:20261101T060000
END:STANDARD
END:VTIMEZONE
BEGIN:VEVENT
DTSTART;TZID=America/Toronto:20251206T080000
DTEND;TZID=America/Toronto:20251207T170000
DTSTAMP:20260421T040012
CREATED:20251013T145721Z
LAST-MODIFIED:20251204T174910Z
UID:10000807-1765008000-1765126800@wreckmasterstaging.tangiblelaunchpad.com
SUMMARY:Myrtle Beach\, SC Level 2/3 Dec 6-7\, 2025
DESCRIPTION:
URL:https://wreckmasterstaging.tangiblelaunchpad.com/event/myrtle-beach-sc-level-2-3-dec-6-7-2025/
LOCATION:Quality Towing/ Myrtle Beach Fire Station 3\, 2108 S Kings Hwy\, Myrtle Beach\, SC\, 29577\, United States
CATEGORIES:23 Hands-On
ATTACH;FMTTYPE=image/png:https://wreckmasterstaging.tangiblelaunchpad.com/wp-content/uploads/2025/10/23-HANDS-ON-300x300-1.png
GEO:33.6726272;-78.9109979
X-APPLE-STRUCTURED-LOCATION;VALUE=URI;X-ADDRESS=Quality Towing/ Myrtle Beach Fire Station 3 2108 S Kings Hwy Myrtle Beach SC 29577 United States;X-APPLE-RADIUS=500;X-TITLE=2108 S Kings Hwy:geo:-78.9109979,33.6726272
END:VEVENT
END:VCALENDAR