BEGIN:VCALENDAR
VERSION:2.0
PRODID:-//WreckMaster - ECPv6.15.20//NONSGML v1.0//EN
CALSCALE:GREGORIAN
METHOD:PUBLISH
X-WR-CALNAME:WreckMaster
X-ORIGINAL-URL:https://wreckmasterstaging.tangiblelaunchpad.com
X-WR-CALDESC:Events for WreckMaster
REFRESH-INTERVAL;VALUE=DURATION:PT1H
X-Robots-Tag:noindex
X-PUBLISHED-TTL:PT1H
BEGIN:VTIMEZONE
TZID:America/Toronto
BEGIN:DAYLIGHT
TZOFFSETFROM:-0500
TZOFFSETTO:-0400
TZNAME:EDT
DTSTART:20230312T070000
END:DAYLIGHT
BEGIN:STANDARD
TZOFFSETFROM:-0400
TZOFFSETTO:-0500
TZNAME:EST
DTSTART:20231105T060000
END:STANDARD
BEGIN:DAYLIGHT
TZOFFSETFROM:-0500
TZOFFSETTO:-0400
TZNAME:EDT
DTSTART:20240310T070000
END:DAYLIGHT
BEGIN:STANDARD
TZOFFSETFROM:-0400
TZOFFSETTO:-0500
TZNAME:EST
DTSTART:20241103T060000
END:STANDARD
BEGIN:DAYLIGHT
TZOFFSETFROM:-0500
TZOFFSETTO:-0400
TZNAME:EDT
DTSTART:20250309T070000
END:DAYLIGHT
BEGIN:STANDARD
TZOFFSETFROM:-0400
TZOFFSETTO:-0500
TZNAME:EST
DTSTART:20251102T060000
END:STANDARD
END:VTIMEZONE
BEGIN:VEVENT
DTSTART;TZID=America/Toronto:20240524T080000
DTEND;TZID=America/Toronto:20240526T170000
DTSTAMP:20260421T095938
CREATED:20240325T142605Z
LAST-MODIFIED:20250811T191853Z
UID:10000464-1716537600-1716742800@wreckmasterstaging.tangiblelaunchpad.com
SUMMARY:Greenwood Mississippi 24 Hours (3 Day) May 24-26-2024
DESCRIPTION:
URL:https://wreckmasterstaging.tangiblelaunchpad.com/event/greenwood-mississippi-24-hours-3-day-may-24-26-2024/
LOCATION:Parker Wrecker\, 1011 Church\, Winona\, MS\, 38967\, United States
CATEGORIES:2024 Classes,2024 In-house Training,IN-HOUSE
ORGANIZER;CN="WreckMaster":MAILTO:info@wreckmaster.com
GEO:33.4621497;-89.73445
X-APPLE-STRUCTURED-LOCATION;VALUE=URI;X-ADDRESS=Parker Wrecker 1011 Church Winona MS 38967 United States;X-APPLE-RADIUS=500;X-TITLE=1011 Church:geo:-89.73445,33.4621497
END:VEVENT
END:VCALENDAR