BEGIN:VCALENDAR
VERSION:2.0
PRODID:-//WreckMaster - ECPv6.15.20//NONSGML v1.0//EN
CALSCALE:GREGORIAN
METHOD:PUBLISH
X-ORIGINAL-URL:https://wreckmasterstaging.tangiblelaunchpad.com
X-WR-CALDESC:Events for WreckMaster
REFRESH-INTERVAL;VALUE=DURATION:PT1H
X-Robots-Tag:noindex
X-PUBLISHED-TTL:PT1H
BEGIN:VTIMEZONE
TZID:America/Toronto
BEGIN:DAYLIGHT
TZOFFSETFROM:-0500
TZOFFSETTO:-0400
TZNAME:EDT
DTSTART:20220313T070000
END:DAYLIGHT
BEGIN:STANDARD
TZOFFSETFROM:-0400
TZOFFSETTO:-0500
TZNAME:EST
DTSTART:20221106T060000
END:STANDARD
BEGIN:DAYLIGHT
TZOFFSETFROM:-0500
TZOFFSETTO:-0400
TZNAME:EDT
DTSTART:20230312T070000
END:DAYLIGHT
BEGIN:STANDARD
TZOFFSETFROM:-0400
TZOFFSETTO:-0500
TZNAME:EST
DTSTART:20231105T060000
END:STANDARD
BEGIN:DAYLIGHT
TZOFFSETFROM:-0500
TZOFFSETTO:-0400
TZNAME:EDT
DTSTART:20240310T070000
END:DAYLIGHT
BEGIN:STANDARD
TZOFFSETFROM:-0400
TZOFFSETTO:-0500
TZNAME:EST
DTSTART:20241103T060000
END:STANDARD
BEGIN:DAYLIGHT
TZOFFSETFROM:-0500
TZOFFSETTO:-0400
TZNAME:EDT
DTSTART:20250309T070000
END:DAYLIGHT
BEGIN:STANDARD
TZOFFSETFROM:-0400
TZOFFSETTO:-0500
TZNAME:EST
DTSTART:20251102T060000
END:STANDARD
BEGIN:DAYLIGHT
TZOFFSETFROM:-0500
TZOFFSETTO:-0400
TZNAME:EDT
DTSTART:20260308T070000
END:DAYLIGHT
BEGIN:STANDARD
TZOFFSETFROM:-0400
TZOFFSETTO:-0500
TZNAME:EST
DTSTART:20261101T060000
END:STANDARD
END:VTIMEZONE
BEGIN:VEVENT
DTSTART;TZID=America/Toronto:20250329T080000
DTEND;TZID=America/Toronto:20250330T170000
DTSTAMP:20260421T130544
CREATED:20241206T171522Z
LAST-MODIFIED:20250403T153023Z
UID:10000592-1743235200-1743354000@wreckmasterstaging.tangiblelaunchpad.com
SUMMARY:Cartersville Ga Level 2/3 March 29-30-2025
DESCRIPTION:Our flagship training course\, Level 2/3: Fundamentals course focuses primarily on light-duty vehicles\, with introductory techniques for medium and heavy-duty work. \nUpon successful completion of the training evaluation\, attendees will receive a training certificate. \nLevel 2/3: Fundamentals is best for business owners\, company managers\, trainers\, health and safety reps or any career-oriented operators.
URL:https://wreckmasterstaging.tangiblelaunchpad.com/event/cartersville-ga-level-2-3-march-29-30-2025/
LOCATION:Matthews Garage\, 513 Martin Rd SW\, Cartersville\, GA\, 30120\, United States
CATEGORIES:2024 Classes,23 Hands-On
ATTACH;FMTTYPE=image/png:https://wreckmasterstaging.tangiblelaunchpad.com/wp-content/uploads/2022/08/23-HANDS-ON-300x300-1.png
ORGANIZER;CN="WreckMaster":MAILTO:info@wreckmaster.com
GEO:34.1909433;-84.8815266
X-APPLE-STRUCTURED-LOCATION;VALUE=URI;X-ADDRESS=Matthews Garage 513 Martin Rd SW Cartersville GA 30120 United States;X-APPLE-RADIUS=500;X-TITLE=513 Martin Rd SW:geo:-84.8815266,34.1909433
END:VEVENT
BEGIN:VEVENT
DTSTART;TZID=America/Toronto:20231104T080000
DTEND;TZID=America/Toronto:20231105T170000
DTSTAMP:20260421T130544
CREATED:20230428T174407Z
LAST-MODIFIED:20250811T192401Z
UID:10000263-1699084800-1699203600@wreckmasterstaging.tangiblelaunchpad.com
SUMMARY:Cartersville\, GA TRIP 2 November 4-5 2023
DESCRIPTION:The I-95 Corridor Coalition worked with the Georgia Department of Transportation and Georgia Regional Transportation Authority to develop and implement the Towing and Recovery Incentive Program (TRIP) in 2008 to pay heavy- duty recovery companies a monetary bonus for clearing commercial vehicle wrecks within 90 minutes. TRIP facilitates quick and safe clearance of commercial vehicle crashes by improving towing procedures\, and improves traffic incident management in the region while building a mutually beneficial relationship within the towing community to meet quick clearance goals. Only highly skilled companies with trained operators and specialized equipment may participate in TRIP. \nThe Coalition has been a partner in this Program since 2007\, which included the development\, issuance\, and award of a competitive Request for Proposal . Fellow Coalition Members States benefit from the information derived during this RFP process \, including developing the certification process\, determining the criteria and training course requirements\, and selecting qualified trainers. These training courses can be hosted in any Coalition State to provide training to TRIP operators and supervisors.
URL:https://wreckmasterstaging.tangiblelaunchpad.com/event/cartersville-ga-trip-2-november-4-5-2023/
LOCATION:Matthews Garage\, 513 Martin Rd SW\, Cartersville\, GA\, 30120\, United States
CATEGORIES:2023 Classes (Archived)
ATTACH;FMTTYPE=image/png:https://wreckmasterstaging.tangiblelaunchpad.com/wp-content/uploads/2023/04/TRIP-2-smaller.png
ORGANIZER;CN="WreckMaster":MAILTO:info@wreckmaster.com
GEO:34.1909433;-84.8815266
X-APPLE-STRUCTURED-LOCATION;VALUE=URI;X-ADDRESS=Matthews Garage 513 Martin Rd SW Cartersville GA 30120 United States;X-APPLE-RADIUS=500;X-TITLE=513 Martin Rd SW:geo:-84.8815266,34.1909433
END:VEVENT
BEGIN:VEVENT
DTSTART;TZID=America/Toronto:20231021T080000
DTEND;TZID=America/Toronto:20231022T170000
DTSTAMP:20260421T130544
CREATED:20230428T173439Z
LAST-MODIFIED:20250811T192415Z
UID:10000261-1697875200-1697994000@wreckmasterstaging.tangiblelaunchpad.com
SUMMARY:Cartersville\, GA TRIP 1 October 21-22 2023
DESCRIPTION:The I-95 Corridor Coalition worked with the Georgia Department of Transportation and Georgia Regional Transportation Authority to develop and implement the Towing and Recovery Incentive Program (TRIP) in 2008 to pay heavy- duty recovery companies a monetary bonus for clearing commercial vehicle wrecks within 90 minutes. TRIP facilitates quick and safe clearance of commercial vehicle crashes by improving towing procedures\, and improves traffic incident management in the region while building a mutually beneficial relationship within the towing community to meet quick clearance goals. Only highly skilled companies with trained operators and specialized equipment may participate in TRIP. \nThe Coalition has been a partner in this Program since 2007\, which included the development\, issuance\, and award of a competitive Request for Proposal . Fellow Coalition Members States benefit from the information derived during this RFP process \, including developing the certification process\, determining the criteria and training course requirements\, and selecting qualified trainers. These training courses can be hosted in any Coalition State to provide training to TRIP operators and supervisors.
URL:https://wreckmasterstaging.tangiblelaunchpad.com/event/cartersville-ga-trip-1-october-21-22-2023/
LOCATION:Matthews Garage\, 513 Martin Rd SW\, Cartersville\, GA\, 30120\, United States
CATEGORIES:2023 Classes (Archived)
ATTACH;FMTTYPE=image/png:https://wreckmasterstaging.tangiblelaunchpad.com/wp-content/uploads/2023/04/TRIP-1-smaller.png
ORGANIZER;CN="WreckMaster":MAILTO:info@wreckmaster.com
GEO:34.1909433;-84.8815266
X-APPLE-STRUCTURED-LOCATION;VALUE=URI;X-ADDRESS=Matthews Garage 513 Martin Rd SW Cartersville GA 30120 United States;X-APPLE-RADIUS=500;X-TITLE=513 Martin Rd SW:geo:-84.8815266,34.1909433
END:VEVENT
END:VCALENDAR