BEGIN:VCALENDAR
VERSION:2.0
PRODID:-//WreckMaster - ECPv6.15.20//NONSGML v1.0//EN
CALSCALE:GREGORIAN
METHOD:PUBLISH
X-WR-CALNAME:WreckMaster
X-ORIGINAL-URL:https://wreckmasterstaging.tangiblelaunchpad.com
X-WR-CALDESC:Events for WreckMaster
REFRESH-INTERVAL;VALUE=DURATION:PT1H
X-Robots-Tag:noindex
X-PUBLISHED-TTL:PT1H
BEGIN:VTIMEZONE
TZID:America/Toronto
BEGIN:DAYLIGHT
TZOFFSETFROM:-0500
TZOFFSETTO:-0400
TZNAME:EDT
DTSTART:20220313T070000
END:DAYLIGHT
BEGIN:STANDARD
TZOFFSETFROM:-0400
TZOFFSETTO:-0500
TZNAME:EST
DTSTART:20221106T060000
END:STANDARD
BEGIN:DAYLIGHT
TZOFFSETFROM:-0500
TZOFFSETTO:-0400
TZNAME:EDT
DTSTART:20230312T070000
END:DAYLIGHT
BEGIN:STANDARD
TZOFFSETFROM:-0400
TZOFFSETTO:-0500
TZNAME:EST
DTSTART:20231105T060000
END:STANDARD
BEGIN:DAYLIGHT
TZOFFSETFROM:-0500
TZOFFSETTO:-0400
TZNAME:EDT
DTSTART:20240310T070000
END:DAYLIGHT
BEGIN:STANDARD
TZOFFSETFROM:-0400
TZOFFSETTO:-0500
TZNAME:EST
DTSTART:20241103T060000
END:STANDARD
BEGIN:DAYLIGHT
TZOFFSETFROM:-0500
TZOFFSETTO:-0400
TZNAME:EDT
DTSTART:20250309T070000
END:DAYLIGHT
BEGIN:STANDARD
TZOFFSETFROM:-0400
TZOFFSETTO:-0500
TZNAME:EST
DTSTART:20251102T060000
END:STANDARD
BEGIN:DAYLIGHT
TZOFFSETFROM:-0500
TZOFFSETTO:-0400
TZNAME:EDT
DTSTART:20260308T070000
END:DAYLIGHT
BEGIN:STANDARD
TZOFFSETFROM:-0400
TZOFFSETTO:-0500
TZNAME:EST
DTSTART:20261101T060000
END:STANDARD
BEGIN:DAYLIGHT
TZOFFSETFROM:-0500
TZOFFSETTO:-0400
TZNAME:EDT
DTSTART:20270314T070000
END:DAYLIGHT
BEGIN:STANDARD
TZOFFSETFROM:-0400
TZOFFSETTO:-0500
TZNAME:EST
DTSTART:20271107T060000
END:STANDARD
END:VTIMEZONE
BEGIN:VEVENT
DTSTART;TZID=America/Toronto:20260117T080000
DTEND;TZID=America/Toronto:20260118T170000
DTSTAMP:20260421T081020
CREATED:20251029T160811Z
LAST-MODIFIED:20251117T170809Z
UID:10000824-1768636800-1768755600@wreckmasterstaging.tangiblelaunchpad.com
SUMMARY:Cartersville\, GA Trip Level 2 January 17-18\, 2026
DESCRIPTION:
URL:https://wreckmasterstaging.tangiblelaunchpad.com/event/cartersville-ga-trip-level-2-january-17-18-2026/
LOCATION:Matthews Garage-TRAG\, 541 Martin Rd\, Cartersville\, GA\, 30121\, United States
CATEGORIES:T.R.I.P. L2
ATTACH;FMTTYPE=image/png:https://wreckmasterstaging.tangiblelaunchpad.com/wp-content/uploads/2025/10/TRIP-2-smaller.png
GEO:34.2093435;-84.8300178
X-APPLE-STRUCTURED-LOCATION;VALUE=URI;X-ADDRESS=Matthews Garage-TRAG 541 Martin Rd Cartersville GA 30121 United States;X-APPLE-RADIUS=500;X-TITLE=541 Martin Rd:geo:-84.8300178,34.2093435
END:VEVENT
BEGIN:VEVENT
DTSTART;TZID=America/Toronto:20260110T080000
DTEND;TZID=America/Toronto:20260111T170000
DTSTAMP:20260421T081020
CREATED:20251029T154644Z
LAST-MODIFIED:20251117T165611Z
UID:10000823-1768032000-1768150800@wreckmasterstaging.tangiblelaunchpad.com
SUMMARY:Cartersville\, GA TRIP Level 1 January 10-11\, 2026
DESCRIPTION:
URL:https://wreckmasterstaging.tangiblelaunchpad.com/event/cartersville-ga-trip-level-1-january-10-11-2026/
LOCATION:Matthews Garage-TRAG\, 541 Martin Rd\, Cartersville\, GA\, 30121\, United States
CATEGORIES:T.R.I.P L1
ATTACH;FMTTYPE=image/png:https://wreckmasterstaging.tangiblelaunchpad.com/wp-content/uploads/2025/10/TRIP-1-1-New-Size-1.png
GEO:34.2093435;-84.8300178
X-APPLE-STRUCTURED-LOCATION;VALUE=URI;X-ADDRESS=Matthews Garage-TRAG 541 Martin Rd Cartersville GA 30121 United States;X-APPLE-RADIUS=500;X-TITLE=541 Martin Rd:geo:-84.8300178,34.2093435
END:VEVENT
BEGIN:VEVENT
DTSTART;TZID=America/Toronto:20230825T080000
DTEND;TZID=America/Toronto:20230827T170000
DTSTAMP:20260421T081020
CREATED:20230808T153148Z
LAST-MODIFIED:20250811T192656Z
UID:10000233-1692950400-1693155600@wreckmasterstaging.tangiblelaunchpad.com
SUMMARY:Cartersville\, GA 6/7 August 25-27 2023
DESCRIPTION:Learn the skills to safely and efficiently manage the most complicated scenarios\, recover the heaviest casualties and impress the most demanding teams on-scene. \nAre you the go-to operator for your company’s most difficult jobs? Are you the problem solver\, the one who gets it right the first time\, every time? Take Level 6/7: Heavy-Duty Applications and become that operator. \nIf you want your customers to say “how did they do that so fast?” and “we’re calling them again\,” take the Level 6/7: Heavy Duty Applications course. Your instructors did.
URL:https://wreckmasterstaging.tangiblelaunchpad.com/event/cartersville-ga-6-7-august-25-27-2023/
LOCATION:Matthews Garage-TRAG\, 541 Martin Rd\, Cartersville\, GA\, 30121\, United States
CATEGORIES:2023 Classes (Archived)
ATTACH;FMTTYPE=image/png:https://wreckmasterstaging.tangiblelaunchpad.com/wp-content/uploads/2022/08/67-HANDS-ON.png
ORGANIZER;CN="WreckMaster":MAILTO:info@wreckmaster.com
GEO:34.2093435;-84.8300178
X-APPLE-STRUCTURED-LOCATION;VALUE=URI;X-ADDRESS=Matthews Garage-TRAG 541 Martin Rd Cartersville GA 30121 United States;X-APPLE-RADIUS=500;X-TITLE=541 Martin Rd:geo:-84.8300178,34.2093435
END:VEVENT
END:VCALENDAR