BEGIN:VCALENDAR
VERSION:2.0
PRODID:-//WreckMaster - ECPv6.15.20//NONSGML v1.0//EN
CALSCALE:GREGORIAN
METHOD:PUBLISH
X-ORIGINAL-URL:https://wreckmasterstaging.tangiblelaunchpad.com
X-WR-CALDESC:Events for WreckMaster
REFRESH-INTERVAL;VALUE=DURATION:PT1H
X-Robots-Tag:noindex
X-PUBLISHED-TTL:PT1H
BEGIN:VTIMEZONE
TZID:America/Toronto
BEGIN:DAYLIGHT
TZOFFSETFROM:-0500
TZOFFSETTO:-0400
TZNAME:EDT
DTSTART:20220313T070000
END:DAYLIGHT
BEGIN:STANDARD
TZOFFSETFROM:-0400
TZOFFSETTO:-0500
TZNAME:EST
DTSTART:20221106T060000
END:STANDARD
BEGIN:DAYLIGHT
TZOFFSETFROM:-0500
TZOFFSETTO:-0400
TZNAME:EDT
DTSTART:20230312T070000
END:DAYLIGHT
BEGIN:STANDARD
TZOFFSETFROM:-0400
TZOFFSETTO:-0500
TZNAME:EST
DTSTART:20231105T060000
END:STANDARD
BEGIN:DAYLIGHT
TZOFFSETFROM:-0500
TZOFFSETTO:-0400
TZNAME:EDT
DTSTART:20240310T070000
END:DAYLIGHT
BEGIN:STANDARD
TZOFFSETFROM:-0400
TZOFFSETTO:-0500
TZNAME:EST
DTSTART:20241103T060000
END:STANDARD
END:VTIMEZONE
BEGIN:VEVENT
DTSTART;TZID=America/Toronto:20230911T080000
DTEND;TZID=America/Toronto:20230915T170000
DTSTAMP:20260421T170120
CREATED:20230613T155459Z
LAST-MODIFIED:20250811T192624Z
UID:10000222-1694419200-1694797200@wreckmasterstaging.tangiblelaunchpad.com
SUMMARY:Cartersville\, GA 8/9R September 11-15 2023
DESCRIPTION:The program pushes the limits of both people and equipment\, taking participants from having a specialized toolbox of skills to embodying a way of life. \nThrough demanding in-class and hands-on exploration of the toughest\, most dangerous and unusual situations\, participants practice their advanced math\, sharpen their critical thinking\, and enhance their leadership. As a team with their instructors\, they refine best practices and advance the industry. At the end of the five days\, they are more successful professionals\, better people and part of an elite brotherhood for life.
URL:https://wreckmasterstaging.tangiblelaunchpad.com/event/cartersville-ga-8-9r-september-11-15-2023/
LOCATION:Matthews Garage-TRAG 18 Pinson Dr Cartersville 30121 GA\, 18 Pinson Dr\, Cartersville\, GA\, 30121\, United States
ATTACH;FMTTYPE=image/png:https://wreckmasterstaging.tangiblelaunchpad.com/wp-content/uploads/2022/08/89R-HANDS-ON.png
ORGANIZER;CN="WreckMaster":MAILTO:info@wreckmaster.com
GEO:34.2093435;-84.8300178
X-APPLE-STRUCTURED-LOCATION;VALUE=URI;X-ADDRESS=Matthews Garage-TRAG 18 Pinson Dr Cartersville 30121 GA 18 Pinson Dr Cartersville GA 30121 United States;X-APPLE-RADIUS=500;X-TITLE=18 Pinson Dr:geo:-84.8300178,34.2093435
END:VEVENT
END:VCALENDAR