BEGIN:VCALENDAR
VERSION:2.0
PRODID:-//WreckMaster - ECPv6.15.20//NONSGML v1.0//EN
CALSCALE:GREGORIAN
METHOD:PUBLISH
X-WR-CALNAME:WreckMaster
X-ORIGINAL-URL:https://wreckmasterstaging.tangiblelaunchpad.com
X-WR-CALDESC:Events for WreckMaster
REFRESH-INTERVAL;VALUE=DURATION:PT1H
X-Robots-Tag:noindex
X-PUBLISHED-TTL:PT1H
BEGIN:VTIMEZONE
TZID:America/Toronto
BEGIN:DAYLIGHT
TZOFFSETFROM:-0500
TZOFFSETTO:-0400
TZNAME:EDT
DTSTART:20230312T070000
END:DAYLIGHT
BEGIN:STANDARD
TZOFFSETFROM:-0400
TZOFFSETTO:-0500
TZNAME:EST
DTSTART:20231105T060000
END:STANDARD
BEGIN:DAYLIGHT
TZOFFSETFROM:-0500
TZOFFSETTO:-0400
TZNAME:EDT
DTSTART:20240310T070000
END:DAYLIGHT
BEGIN:STANDARD
TZOFFSETFROM:-0400
TZOFFSETTO:-0500
TZNAME:EST
DTSTART:20241103T060000
END:STANDARD
BEGIN:DAYLIGHT
TZOFFSETFROM:-0500
TZOFFSETTO:-0400
TZNAME:EDT
DTSTART:20250309T070000
END:DAYLIGHT
BEGIN:STANDARD
TZOFFSETFROM:-0400
TZOFFSETTO:-0500
TZNAME:EST
DTSTART:20251102T060000
END:STANDARD
END:VTIMEZONE
BEGIN:VEVENT
DTSTART;TZID=America/Toronto:20240928T080000
DTEND;TZID=America/Toronto:20240929T170000
DTSTAMP:20260421T123518
CREATED:20240111T163756Z
LAST-MODIFIED:20240311T183706Z
UID:10000432-1727510400-1727629200@wreckmasterstaging.tangiblelaunchpad.com
SUMMARY:Louisburg\, NC TRIP Level 2 September 28-29 2024  In-House (Private)
DESCRIPTION:
URL:https://wreckmasterstaging.tangiblelaunchpad.com/event/louisburg-nc-trip-level-2-march-16-17-2024-in-house-private/
LOCATION:Justice fire dept\, 4113 Hwy 581\, North spring hope\, NC\, 27882\, United States
CATEGORIES:IN-HOUSE
ORGANIZER;CN="WreckMaster":MAILTO:info@wreckmaster.com
GEO:36.0539101;-78.1686009
X-APPLE-STRUCTURED-LOCATION;VALUE=URI;X-ADDRESS=Justice fire dept 4113 Hwy 581 North spring hope NC 27882 United States;X-APPLE-RADIUS=500;X-TITLE=4113 Hwy 581:geo:-78.1686009,36.0539101
END:VEVENT
BEGIN:VEVENT
DTSTART;TZID=America/Toronto:20240926T080000
DTEND;TZID=America/Toronto:20240927T170000
DTSTAMP:20260421T123518
CREATED:20240111T163235Z
LAST-MODIFIED:20240311T183300Z
UID:10000431-1727337600-1727456400@wreckmasterstaging.tangiblelaunchpad.com
SUMMARY:Louisburg NC TRIP Level 1 September 26-27 2024 In-House (Private)
DESCRIPTION:
URL:https://wreckmasterstaging.tangiblelaunchpad.com/event/louisburg-nc-trip-level-1-march-14-15-2024-in-house-private/
LOCATION:Justice fire dept\, 4113 Hwy 581\, North spring hope\, NC\, 27882\, United States
CATEGORIES:IN-HOUSE
ORGANIZER;CN="WreckMaster":MAILTO:info@wreckmaster.com
GEO:36.0539101;-78.1686009
X-APPLE-STRUCTURED-LOCATION;VALUE=URI;X-ADDRESS=Justice fire dept 4113 Hwy 581 North spring hope NC 27882 United States;X-APPLE-RADIUS=500;X-TITLE=4113 Hwy 581:geo:-78.1686009,36.0539101
END:VEVENT
END:VCALENDAR