BEGIN:VCALENDAR
VERSION:2.0
PRODID:-//WreckMaster - ECPv6.15.20//NONSGML v1.0//EN
CALSCALE:GREGORIAN
METHOD:PUBLISH
X-ORIGINAL-URL:https://wreckmasterstaging.tangiblelaunchpad.com
X-WR-CALDESC:Events for WreckMaster
REFRESH-INTERVAL;VALUE=DURATION:PT1H
X-Robots-Tag:noindex
X-PUBLISHED-TTL:PT1H
BEGIN:VTIMEZONE
TZID:America/Toronto
BEGIN:DAYLIGHT
TZOFFSETFROM:-0500
TZOFFSETTO:-0400
TZNAME:EDT
DTSTART:20240310T070000
END:DAYLIGHT
BEGIN:STANDARD
TZOFFSETFROM:-0400
TZOFFSETTO:-0500
TZNAME:EST
DTSTART:20241103T060000
END:STANDARD
BEGIN:DAYLIGHT
TZOFFSETFROM:-0500
TZOFFSETTO:-0400
TZNAME:EDT
DTSTART:20250309T070000
END:DAYLIGHT
BEGIN:STANDARD
TZOFFSETFROM:-0400
TZOFFSETTO:-0500
TZNAME:EST
DTSTART:20251102T060000
END:STANDARD
BEGIN:DAYLIGHT
TZOFFSETFROM:-0500
TZOFFSETTO:-0400
TZNAME:EDT
DTSTART:20260308T070000
END:DAYLIGHT
BEGIN:STANDARD
TZOFFSETFROM:-0400
TZOFFSETTO:-0500
TZNAME:EST
DTSTART:20261101T060000
END:STANDARD
END:VTIMEZONE
BEGIN:VEVENT
DTSTART;TZID=America/Toronto:20250623T080000
DTEND;TZID=America/Toronto:20250624T170000
DTSTAMP:20260421T093303
CREATED:20250603T151338Z
LAST-MODIFIED:20250603T151338Z
UID:10000723-1750665600-1750784400@wreckmasterstaging.tangiblelaunchpad.com
SUMMARY:Ashton\, ON Level 2/3 June 23-24\, 2025 In-House
DESCRIPTION:
URL:https://wreckmasterstaging.tangiblelaunchpad.com/event/ashton-on-level-2-3-june-23-24-2025-in-house/
LOCATION:Dwyer Hill Training Center (Veh Maint)\, 3153 Dwyer Hill Rd\, Ashton\, Ontario\, K0A 1B0\, Canada
CATEGORIES:2024 Classes,IN-HOUSE
ORGANIZER;CN="WreckMaster":MAILTO:info@wreckmaster.com
GEO:45.1347684;-75.9533142
X-APPLE-STRUCTURED-LOCATION;VALUE=URI;X-ADDRESS=Dwyer Hill Training Center (Veh Maint) 3153 Dwyer Hill Rd Ashton Ontario K0A 1B0 Canada;X-APPLE-RADIUS=500;X-TITLE=3153 Dwyer Hill Rd:geo:-75.9533142,45.1347684
END:VEVENT
END:VCALENDAR