BEGIN:VCALENDAR
VERSION:2.0
PRODID:-//WreckMaster - ECPv6.15.20//NONSGML v1.0//EN
CALSCALE:GREGORIAN
METHOD:PUBLISH
X-WR-CALNAME:WreckMaster
X-ORIGINAL-URL:https://wreckmasterstaging.tangiblelaunchpad.com
X-WR-CALDESC:Events for WreckMaster
REFRESH-INTERVAL;VALUE=DURATION:PT1H
X-Robots-Tag:noindex
X-PUBLISHED-TTL:PT1H
BEGIN:VTIMEZONE
TZID:America/Toronto
BEGIN:DAYLIGHT
TZOFFSETFROM:-0500
TZOFFSETTO:-0400
TZNAME:EDT
DTSTART:20230312T070000
END:DAYLIGHT
BEGIN:STANDARD
TZOFFSETFROM:-0400
TZOFFSETTO:-0500
TZNAME:EST
DTSTART:20231105T060000
END:STANDARD
BEGIN:DAYLIGHT
TZOFFSETFROM:-0500
TZOFFSETTO:-0400
TZNAME:EDT
DTSTART:20240310T070000
END:DAYLIGHT
BEGIN:STANDARD
TZOFFSETFROM:-0400
TZOFFSETTO:-0500
TZNAME:EST
DTSTART:20241103T060000
END:STANDARD
BEGIN:DAYLIGHT
TZOFFSETFROM:-0500
TZOFFSETTO:-0400
TZNAME:EDT
DTSTART:20250309T070000
END:DAYLIGHT
BEGIN:STANDARD
TZOFFSETFROM:-0400
TZOFFSETTO:-0500
TZNAME:EST
DTSTART:20251102T060000
END:STANDARD
BEGIN:DAYLIGHT
TZOFFSETFROM:-0500
TZOFFSETTO:-0400
TZNAME:EDT
DTSTART:20260308T070000
END:DAYLIGHT
BEGIN:STANDARD
TZOFFSETFROM:-0400
TZOFFSETTO:-0500
TZNAME:EST
DTSTART:20261101T060000
END:STANDARD
END:VTIMEZONE
BEGIN:VEVENT
DTSTART;TZID=America/Toronto:20251108T080000
DTEND;TZID=America/Toronto:20251109T170000
DTSTAMP:20260421T080139
CREATED:20250801T144114Z
LAST-MODIFIED:20251017T180703Z
UID:10000758-1762588800-1762707600@wreckmasterstaging.tangiblelaunchpad.com
SUMMARY:Cranbury NJ Level 6/7 Nov 8-9 2025
DESCRIPTION:Learn the skills to safely and efficiently manage the most complicated scenarios\, recover the heaviest casualties and impress the most demanding teams on-scene. \nAre you the go-to operator for your company’s most difficult jobs? Are you the problem solver\, the one who gets it right the first time\, every time? Take Level 6/7: Heavy-Duty Applications and become that operator. \nUpon successful completion of the training evaluation\, attendees will receive a training certificate. \nIf you want your customers to say “how did they do that so fast?” and “we’re calling them again\,” take the Level 6/7: Heavy Duty Applications course. Your instructors did.
URL:https://wreckmasterstaging.tangiblelaunchpad.com/event/cranbury-nj-level-6-7-nov-8-9-2025/
LOCATION:Cranbury service center\, 44 Hightstown-Cranbury Station Rd\, Cranbury\, NJ\, 08512\, United States
CATEGORIES:2024 Classes,6/7 Hands-On
ATTACH;FMTTYPE=image/png:https://wreckmasterstaging.tangiblelaunchpad.com/wp-content/uploads/2024/05/67-HANDS-ON-smaller.png
ORGANIZER;CN="WreckMaster":MAILTO:info@wreckmaster.com
GEO:40.2843533;-74.5091348
X-APPLE-STRUCTURED-LOCATION;VALUE=URI;X-ADDRESS=Cranbury service center 44 Hightstown-Cranbury Station Rd Cranbury NJ 08512 United States;X-APPLE-RADIUS=500;X-TITLE=44 Hightstown-Cranbury Station Rd:geo:-74.5091348,40.2843533
END:VEVENT
BEGIN:VEVENT
DTSTART;TZID=America/Toronto:20250405T080000
DTEND;TZID=America/Toronto:20250406T170000
DTSTAMP:20260421T080139
CREATED:20241016T144647Z
LAST-MODIFIED:20250527T155800Z
UID:10000556-1743840000-1743958800@wreckmasterstaging.tangiblelaunchpad.com
SUMMARY:Cranbury NJ Level 4/5 April 5-6 2025
DESCRIPTION:Level 4/5: Advanced Techniques gives you the skills needed to tackle medium and heavy-duty jobs the first time\, every time. No more near misses or failed attempts. \nIf you’ve taken the WreckMaster Level 2/3: Fundamentals course and you want to be able to tow and recover in even more complicated and potentially dangerous scenarios\, the Level 4/5: Advanced Techniques course is for you. \nIt’s an especially good fit for company owners\, trainers and organizations that work with or train fire and rescue personnel \nUpon successful completion of the training evaluation\, attendees will receive a training certificate.
URL:https://wreckmasterstaging.tangiblelaunchpad.com/event/cranbury-nj-level-4-5-april-5-6-2025/
LOCATION:Cranbury service center\, 44 Hightstown-Cranbury Station Rd\, Cranbury\, NJ\, 08512\, United States
CATEGORIES:2024 Classes,4/5 Hands-On
ATTACH;FMTTYPE=image/png:https://wreckmasterstaging.tangiblelaunchpad.com/wp-content/uploads/2023/05/45-HANDS-ON-smaller.png
ORGANIZER;CN="WreckMaster":MAILTO:info@wreckmaster.com
GEO:40.2843533;-74.5091348
X-APPLE-STRUCTURED-LOCATION;VALUE=URI;X-ADDRESS=Cranbury service center 44 Hightstown-Cranbury Station Rd Cranbury NJ 08512 United States;X-APPLE-RADIUS=500;X-TITLE=44 Hightstown-Cranbury Station Rd:geo:-74.5091348,40.2843533
END:VEVENT
BEGIN:VEVENT
DTSTART;TZID=America/Toronto:20240921T080000
DTEND;TZID=America/Toronto:20240922T170000
DTSTAMP:20260421T080139
CREATED:20240508T163353Z
LAST-MODIFIED:20240508T163353Z
UID:10000491-1726905600-1727024400@wreckmasterstaging.tangiblelaunchpad.com
SUMMARY:Cranbury\, NJ Level 2/3 Sept. 21-22 2024
DESCRIPTION:Our flagship training course\, Level 2/3: Fundamentals course focuses primarily on light-duty vehicles\, with introductory techniques for medium and heavy-duty work. \nUpon successful completion of the training evaluation\, attendees will receive a training certificate. \nLevel 2/3: Fundamentals is best for business owners\, company managers\, trainers\, health and safety reps or any career-oriented operators.
URL:https://wreckmasterstaging.tangiblelaunchpad.com/event/cranbury-nj-level-2-3-sept-21-22-2024/
LOCATION:Cranbury service center\, 44 Hightstown-Cranbury Station Rd\, Cranbury\, NJ\, 08512\, United States
CATEGORIES:2024 Classes,23 Hands-On
ATTACH;FMTTYPE=image/png:https://wreckmasterstaging.tangiblelaunchpad.com/wp-content/uploads/2022/08/23-HANDS-ON-300x300-1.png
ORGANIZER;CN="WreckMaster":MAILTO:info@wreckmaster.com
GEO:40.2843533;-74.5091348
X-APPLE-STRUCTURED-LOCATION;VALUE=URI;X-ADDRESS=Cranbury service center 44 Hightstown-Cranbury Station Rd Cranbury NJ 08512 United States;X-APPLE-RADIUS=500;X-TITLE=44 Hightstown-Cranbury Station Rd:geo:-74.5091348,40.2843533
END:VEVENT
END:VCALENDAR