BEGIN:VCALENDAR
VERSION:2.0
PRODID:-//WreckMaster - ECPv6.15.20//NONSGML v1.0//EN
CALSCALE:GREGORIAN
METHOD:PUBLISH
X-ORIGINAL-URL:https://wreckmasterstaging.tangiblelaunchpad.com
X-WR-CALDESC:Events for WreckMaster
REFRESH-INTERVAL;VALUE=DURATION:PT1H
X-Robots-Tag:noindex
X-PUBLISHED-TTL:PT1H
BEGIN:VTIMEZONE
TZID:America/Toronto
BEGIN:DAYLIGHT
TZOFFSETFROM:-0500
TZOFFSETTO:-0400
TZNAME:EDT
DTSTART:20230312T070000
END:DAYLIGHT
BEGIN:STANDARD
TZOFFSETFROM:-0400
TZOFFSETTO:-0500
TZNAME:EST
DTSTART:20231105T060000
END:STANDARD
BEGIN:DAYLIGHT
TZOFFSETFROM:-0500
TZOFFSETTO:-0400
TZNAME:EDT
DTSTART:20240310T070000
END:DAYLIGHT
BEGIN:STANDARD
TZOFFSETFROM:-0400
TZOFFSETTO:-0500
TZNAME:EST
DTSTART:20241103T060000
END:STANDARD
BEGIN:DAYLIGHT
TZOFFSETFROM:-0500
TZOFFSETTO:-0400
TZNAME:EDT
DTSTART:20250309T070000
END:DAYLIGHT
BEGIN:STANDARD
TZOFFSETFROM:-0400
TZOFFSETTO:-0500
TZNAME:EST
DTSTART:20251102T060000
END:STANDARD
END:VTIMEZONE
BEGIN:VEVENT
DTSTART;TZID=America/Toronto:20240925T080000
DTEND;TZID=America/Toronto:20240926T170000
DTSTAMP:20260421T105747
CREATED:20240510T195717Z
LAST-MODIFIED:20240923T163741Z
UID:10000496-1727251200-1727370000@wreckmasterstaging.tangiblelaunchpad.com
SUMMARY:Chattanooga\, Tennessee Mastering Mechanical Advantage September 25-26 2024
DESCRIPTION:
URL:https://wreckmasterstaging.tangiblelaunchpad.com/event/chattanooga-tennessee-heavy-duty-winching-september-25-26-2024/
LOCATION:Chattanooga Marriott Downtown\, Two Carter St\, Chattanooga\, TN\, 37402\, United States
CATEGORIES:2024 Hands-On Training,Specialty Events
ATTACH;FMTTYPE=image/png:https://wreckmasterstaging.tangiblelaunchpad.com/wp-content/uploads/2024/05/SPECIALTY-EVENT-PI.png
ORGANIZER;CN="WreckMaster":MAILTO:info@wreckmaster.com
GEO:35.0424953;-85.3134164
X-APPLE-STRUCTURED-LOCATION;VALUE=URI;X-ADDRESS=Chattanooga Marriott Downtown Two Carter St Chattanooga TN 37402 United States;X-APPLE-RADIUS=500;X-TITLE=Two Carter St:geo:-85.3134164,35.0424953
END:VEVENT
END:VCALENDAR