BEGIN:VCALENDAR
VERSION:2.0
PRODID:-//WreckMaster - ECPv6.15.20//NONSGML v1.0//EN
CALSCALE:GREGORIAN
METHOD:PUBLISH
X-WR-CALNAME:WreckMaster
X-ORIGINAL-URL:https://wreckmasterstaging.tangiblelaunchpad.com
X-WR-CALDESC:Events for WreckMaster
REFRESH-INTERVAL;VALUE=DURATION:PT1H
X-Robots-Tag:noindex
X-PUBLISHED-TTL:PT1H
BEGIN:VTIMEZONE
TZID:America/Toronto
BEGIN:DAYLIGHT
TZOFFSETFROM:-0500
TZOFFSETTO:-0400
TZNAME:EDT
DTSTART:20230312T070000
END:DAYLIGHT
BEGIN:STANDARD
TZOFFSETFROM:-0400
TZOFFSETTO:-0500
TZNAME:EST
DTSTART:20231105T060000
END:STANDARD
BEGIN:DAYLIGHT
TZOFFSETFROM:-0500
TZOFFSETTO:-0400
TZNAME:EDT
DTSTART:20240310T070000
END:DAYLIGHT
BEGIN:STANDARD
TZOFFSETFROM:-0400
TZOFFSETTO:-0500
TZNAME:EST
DTSTART:20241103T060000
END:STANDARD
BEGIN:DAYLIGHT
TZOFFSETFROM:-0500
TZOFFSETTO:-0400
TZNAME:EDT
DTSTART:20250309T070000
END:DAYLIGHT
BEGIN:STANDARD
TZOFFSETFROM:-0400
TZOFFSETTO:-0500
TZNAME:EST
DTSTART:20251102T060000
END:STANDARD
END:VTIMEZONE
BEGIN:VEVENT
DTSTART;TZID=America/Toronto:20240614T080000
DTEND;TZID=America/Toronto:20240615T170000
DTSTAMP:20260421T105853
CREATED:20240112T170645Z
LAST-MODIFIED:20240208T180237Z
UID:10000433-1718352000-1718470800@wreckmasterstaging.tangiblelaunchpad.com
SUMMARY:Greenville\,TN Level 6/7 June 14-15 2024
DESCRIPTION:Learn the skills to safely and efficiently manage the most complicated scenarios\, recover the heaviest casualties and impress the most demanding teams on-scene. \nAre you the go-to operator for your company’s most difficult jobs? Are you the problem solver\, the one who gets it right the first time\, every time? Take Level 6/7: Heavy-Duty Applications and become that operator. \nUpon successful completion of the training evaluation\, attendees will receive a training certificate. \nIf you want your customers to say “how did they do that so fast?” and “we’re calling them again\,” take the Level 6/7: Heavy Duty Applications course. Your instructors did.
URL:https://wreckmasterstaging.tangiblelaunchpad.com/event/greenvilletn-level-6-7-june-14-15-2024/
LOCATION:Caspers Body Shop & Wrecker Service\, 402 W.Depot St\, Greenville\, TN\, 37743\, United States
CATEGORIES:2024 Classes,2024 Hands-On Training,2024 Level 6/7 Hands-On,6/7 Hands-On
ATTACH;FMTTYPE=image/png:https://wreckmasterstaging.tangiblelaunchpad.com/wp-content/uploads/2023/05/67-HANDS-ON-smaller.png
ORGANIZER;CN="WreckMaster":MAILTO:info@wreckmaster.com
GEO:36.1657271;-82.8366514
X-APPLE-STRUCTURED-LOCATION;VALUE=URI;X-ADDRESS=Caspers Body Shop & Wrecker Service 402 W.Depot St Greenville TN 37743 United States;X-APPLE-RADIUS=500;X-TITLE=402 W.Depot St:geo:-82.8366514,36.1657271
END:VEVENT
BEGIN:VEVENT
DTSTART;TZID=America/Toronto:20240612T080000
DTEND;TZID=America/Toronto:20240613T170000
DTSTAMP:20260421T105853
CREATED:20240108T152646Z
LAST-MODIFIED:20240318T204506Z
UID:10000419-1718179200-1718298000@wreckmasterstaging.tangiblelaunchpad.com
SUMMARY:Greenville\,TN Level 4/5 June 12-13 2024
DESCRIPTION:Level 4/5: Advanced Techniques gives you the skills needed to tackle medium and heavy-duty jobs the first time\, every time. No more near misses or failed attempts. \nIf you’ve taken the WreckMaster Level 2/3: Fundamentals course and you want to be able to tow and recover in even more complicated and potentially dangerous scenarios\, the Level 4/5: Advanced Techniques course is for you. \nUpon successful completion of the training evaluation\, attendees will receive a training certificate. \nIt’s an especially good fit for company owners\, trainers and organizations that work with or train fire and rescue personnel
URL:https://wreckmasterstaging.tangiblelaunchpad.com/event/greenvilletn-level-4-5-june-13-14-2024/
LOCATION:Caspers Body Shop & Wrecker Service\, 402 W.Depot St\, Greenville\, TN\, 37743\, United States
CATEGORIES:2024 Classes,2024 Hands-On Training,2024 Level 4/5 Hands-On,4/5 Hands-On
ATTACH;FMTTYPE=image/png:https://wreckmasterstaging.tangiblelaunchpad.com/wp-content/uploads/2023/05/45-HANDS-ON-smaller.png
ORGANIZER;CN="WreckMaster":MAILTO:info@wreckmaster.com
GEO:36.1657271;-82.8366514
X-APPLE-STRUCTURED-LOCATION;VALUE=URI;X-ADDRESS=Caspers Body Shop & Wrecker Service 402 W.Depot St Greenville TN 37743 United States;X-APPLE-RADIUS=500;X-TITLE=402 W.Depot St:geo:-82.8366514,36.1657271
END:VEVENT
END:VCALENDAR