BEGIN:VCALENDAR
VERSION:2.0
PRODID:-//WreckMaster - ECPv6.15.20//NONSGML v1.0//EN
CALSCALE:GREGORIAN
METHOD:PUBLISH
X-WR-CALNAME:WreckMaster
X-ORIGINAL-URL:https://wreckmasterstaging.tangiblelaunchpad.com
X-WR-CALDESC:Events for WreckMaster
REFRESH-INTERVAL;VALUE=DURATION:PT1H
X-Robots-Tag:noindex
X-PUBLISHED-TTL:PT1H
BEGIN:VTIMEZONE
TZID:America/Toronto
BEGIN:DAYLIGHT
TZOFFSETFROM:-0500
TZOFFSETTO:-0400
TZNAME:EDT
DTSTART:20240310T070000
END:DAYLIGHT
BEGIN:STANDARD
TZOFFSETFROM:-0400
TZOFFSETTO:-0500
TZNAME:EST
DTSTART:20241103T060000
END:STANDARD
BEGIN:DAYLIGHT
TZOFFSETFROM:-0500
TZOFFSETTO:-0400
TZNAME:EDT
DTSTART:20250309T070000
END:DAYLIGHT
BEGIN:STANDARD
TZOFFSETFROM:-0400
TZOFFSETTO:-0500
TZNAME:EST
DTSTART:20251102T060000
END:STANDARD
BEGIN:DAYLIGHT
TZOFFSETFROM:-0500
TZOFFSETTO:-0400
TZNAME:EDT
DTSTART:20260308T070000
END:DAYLIGHT
BEGIN:STANDARD
TZOFFSETFROM:-0400
TZOFFSETTO:-0500
TZNAME:EST
DTSTART:20261101T060000
END:STANDARD
END:VTIMEZONE
BEGIN:VEVENT
DTSTART;TZID=America/Toronto:20250505T080000
DTEND;TZID=America/Toronto:20250509T170000
DTSTAMP:20260421T113000
CREATED:20250326T150213Z
LAST-MODIFIED:20250527T152941Z
UID:10000685-1746432000-1746810000@wreckmasterstaging.tangiblelaunchpad.com
SUMMARY:Quebec City QC Level 8/9R (With Rotator) May 5-9\, 2025
DESCRIPTION:The program pushes the limits of both people and equipment\, taking participants from having a specialized toolbox of skills to embodying a way of life. \nThrough demanding in-class and hands-on exploration of the toughest\, most dangerous and unusual situations\, participants practice their advanced math\, sharpen their critical thinking\, and enhance their leadership. As a team with their instructors\, they refine best practices and advance the industry. At the end of the five days\, they are more successful professionals\, better people and part of an elite brotherhood for life. \n*All ticket prices are displayed in USD.  Currency conversion will be completed at checkout.
URL:https://wreckmasterstaging.tangiblelaunchpad.com/event/quebec-city-qc-level-8-9r-with-rotator-may-5-9-2025-2/
LOCATION:700 Rue De L’Argon\, 700 Rue De L'Argon\, Quebec\, QC\, G2N 2G5\, Canada
CATEGORIES:2024 Classes,Canada Hands-on
ATTACH;FMTTYPE=image/png:https://wreckmasterstaging.tangiblelaunchpad.com/wp-content/uploads/2023/02/89R-HANDS-ON-smaller.png
ORGANIZER;CN="WreckMaster":MAILTO:info@wreckmaster.com
GEO:46.887544;-71.325038
X-APPLE-STRUCTURED-LOCATION;VALUE=URI;X-ADDRESS=700 Rue De L’Argon 700 Rue De L'Argon Quebec QC G2N 2G5 Canada;X-APPLE-RADIUS=500;X-TITLE=700 Rue De L'Argon:geo:-71.325038,46.887544
END:VEVENT
END:VCALENDAR