BEGIN:VCALENDAR
VERSION:2.0
PRODID:-//WreckMaster - ECPv6.15.20//NONSGML v1.0//EN
CALSCALE:GREGORIAN
METHOD:PUBLISH
X-WR-CALNAME:WreckMaster
X-ORIGINAL-URL:https://wreckmasterstaging.tangiblelaunchpad.com
X-WR-CALDESC:Events for WreckMaster
REFRESH-INTERVAL;VALUE=DURATION:PT1H
X-Robots-Tag:noindex
X-PUBLISHED-TTL:PT1H
BEGIN:VTIMEZONE
TZID:America/Toronto
BEGIN:DAYLIGHT
TZOFFSETFROM:-0500
TZOFFSETTO:-0400
TZNAME:EDT
DTSTART:20240310T070000
END:DAYLIGHT
BEGIN:STANDARD
TZOFFSETFROM:-0400
TZOFFSETTO:-0500
TZNAME:EST
DTSTART:20241103T060000
END:STANDARD
BEGIN:DAYLIGHT
TZOFFSETFROM:-0500
TZOFFSETTO:-0400
TZNAME:EDT
DTSTART:20250309T070000
END:DAYLIGHT
BEGIN:STANDARD
TZOFFSETFROM:-0400
TZOFFSETTO:-0500
TZNAME:EST
DTSTART:20251102T060000
END:STANDARD
BEGIN:DAYLIGHT
TZOFFSETFROM:-0500
TZOFFSETTO:-0400
TZNAME:EDT
DTSTART:20260308T070000
END:DAYLIGHT
BEGIN:STANDARD
TZOFFSETFROM:-0400
TZOFFSETTO:-0500
TZNAME:EST
DTSTART:20261101T060000
END:STANDARD
END:VTIMEZONE
BEGIN:VEVENT
DTSTART;TZID=America/Toronto:20250405T080000
DTEND;TZID=America/Toronto:20250406T170000
DTSTAMP:20260421T093026
CREATED:20241206T170952Z
LAST-MODIFIED:20250415T145827Z
UID:10000591-1743840000-1743958800@wreckmasterstaging.tangiblelaunchpad.com
SUMMARY:Cartersville Ga Level 4/5 April 5-6-2025
DESCRIPTION:Level 4/5: Advanced Techniques gives you the skills needed to tackle medium and heavy-duty jobs the first time\, every time. No more near misses or failed attempts. \nIf you’ve taken the WreckMaster Level 2/3: Fundamentals course and you want to be able to tow and recover in even more complicated and potentially dangerous scenarios\, the Level 4/5: Advanced Techniques course is for you. \nIt’s an especially good fit for company owners\, trainers and organizations that work with or train fire and rescue personnel \nUpon successful completion of the training evaluation\, attendees will receive a training certificate.
URL:https://wreckmasterstaging.tangiblelaunchpad.com/event/cartersville-ga-level-4-5-april-5-6-2025/
LOCATION:541 Martin Rd SW\, Cartersville\, GA\, 30120\, United States
CATEGORIES:2024 Classes,4/5 Hands-On
ATTACH;FMTTYPE=image/png:https://wreckmasterstaging.tangiblelaunchpad.com/wp-content/uploads/2023/05/45-HANDS-ON-smaller.png
ORGANIZER;CN="WreckMaster":MAILTO:info@wreckmaster.com
GEO:34.1577811;-84.8776392
END:VEVENT
END:VCALENDAR