BEGIN:VCALENDAR
VERSION:2.0
PRODID:-//WreckMaster - ECPv6.15.20//NONSGML v1.0//EN
CALSCALE:GREGORIAN
METHOD:PUBLISH
X-ORIGINAL-URL:https://wreckmasterstaging.tangiblelaunchpad.com
X-WR-CALDESC:Events for WreckMaster
REFRESH-INTERVAL;VALUE=DURATION:PT1H
X-Robots-Tag:noindex
X-PUBLISHED-TTL:PT1H
BEGIN:VTIMEZONE
TZID:America/Toronto
BEGIN:DAYLIGHT
TZOFFSETFROM:-0500
TZOFFSETTO:-0400
TZNAME:EDT
DTSTART:20250309T070000
END:DAYLIGHT
BEGIN:STANDARD
TZOFFSETFROM:-0400
TZOFFSETTO:-0500
TZNAME:EST
DTSTART:20251102T060000
END:STANDARD
BEGIN:DAYLIGHT
TZOFFSETFROM:-0500
TZOFFSETTO:-0400
TZNAME:EDT
DTSTART:20260308T070000
END:DAYLIGHT
BEGIN:STANDARD
TZOFFSETFROM:-0400
TZOFFSETTO:-0500
TZNAME:EST
DTSTART:20261101T060000
END:STANDARD
BEGIN:DAYLIGHT
TZOFFSETFROM:-0500
TZOFFSETTO:-0400
TZNAME:EDT
DTSTART:20270314T070000
END:DAYLIGHT
BEGIN:STANDARD
TZOFFSETFROM:-0400
TZOFFSETTO:-0500
TZNAME:EST
DTSTART:20271107T060000
END:STANDARD
BEGIN:DAYLIGHT
TZOFFSETFROM:-0500
TZOFFSETTO:-0400
TZNAME:EDT
DTSTART:20280312T070000
END:DAYLIGHT
BEGIN:STANDARD
TZOFFSETFROM:-0400
TZOFFSETTO:-0500
TZNAME:EST
DTSTART:20281105T060000
END:STANDARD
END:VTIMEZONE
BEGIN:VEVENT
DTSTART;TZID=America/Toronto:20260207T080000
DTEND;TZID=America/Toronto:20270208T170000
DTSTAMP:20260421T020222
CREATED:20251016T225153Z
LAST-MODIFIED:20260318T074811Z
UID:10000811-1770451200-1802106000@wreckmasterstaging.tangiblelaunchpad.com
SUMMARY:Doswell VA\, TRIP Level 1\, Feb 7-8\, 2026
DESCRIPTION:
URL:https://wreckmasterstaging.tangiblelaunchpad.com/event/trip-level-1-doswell-va/
LOCATION:Anytime Towing & Recovery\, 16269 Washington Hwy\, Doswell\, VA\, 23006\, United States
CATEGORIES:T.R.I.P L1
ATTACH;FMTTYPE=image/png:https://wreckmasterstaging.tangiblelaunchpad.com/wp-content/uploads/2025/10/TRIP-1-1-New-Size-1.png
ORGANIZER;CN="WreckMaster":MAILTO:info@wreckmaster.com
GEO:37.8516157;-77.464864
X-APPLE-STRUCTURED-LOCATION;VALUE=URI;X-ADDRESS=Anytime Towing & Recovery 16269 Washington Hwy Doswell VA 23006 United States;X-APPLE-RADIUS=500;X-TITLE=16269 Washington Hwy:geo:-77.464864,37.8516157
END:VEVENT
BEGIN:VEVENT
DTSTART;TZID=America/Toronto:20260314T080000
DTEND;TZID=America/Toronto:20261016T170000
DTSTAMP:20260421T020222
CREATED:20251017T181120Z
LAST-MODIFIED:20251017T181120Z
UID:10000812-1773475200-1792170000@wreckmasterstaging.tangiblelaunchpad.com
SUMMARY:Trip Level 2 Doswell VA
DESCRIPTION:
URL:https://wreckmasterstaging.tangiblelaunchpad.com/event/trip-level-2-doswell-va/
LOCATION:Anytime Towing & Recovery\, 16269 Washington Hwy\, Doswell\, VA\, 23006\, United States
CATEGORIES:T.R.I.P. L2
GEO:37.8516157;-77.464864
X-APPLE-STRUCTURED-LOCATION;VALUE=URI;X-ADDRESS=Anytime Towing & Recovery 16269 Washington Hwy Doswell VA 23006 United States;X-APPLE-RADIUS=500;X-TITLE=16269 Washington Hwy:geo:-77.464864,37.8516157
END:VEVENT
END:VCALENDAR