BEGIN:VCALENDAR
VERSION:2.0
PRODID:-//WreckMaster - ECPv6.15.20//NONSGML v1.0//EN
CALSCALE:GREGORIAN
METHOD:PUBLISH
X-ORIGINAL-URL:https://wreckmasterstaging.tangiblelaunchpad.com
X-WR-CALDESC:Events for WreckMaster
REFRESH-INTERVAL;VALUE=DURATION:PT1H
X-Robots-Tag:noindex
X-PUBLISHED-TTL:PT1H
BEGIN:VTIMEZONE
TZID:America/Toronto
BEGIN:DAYLIGHT
TZOFFSETFROM:-0500
TZOFFSETTO:-0400
TZNAME:EDT
DTSTART:20220313T070000
END:DAYLIGHT
BEGIN:STANDARD
TZOFFSETFROM:-0400
TZOFFSETTO:-0500
TZNAME:EST
DTSTART:20221106T060000
END:STANDARD
BEGIN:DAYLIGHT
TZOFFSETFROM:-0500
TZOFFSETTO:-0400
TZNAME:EDT
DTSTART:20230312T070000
END:DAYLIGHT
BEGIN:STANDARD
TZOFFSETFROM:-0400
TZOFFSETTO:-0500
TZNAME:EST
DTSTART:20231105T060000
END:STANDARD
BEGIN:DAYLIGHT
TZOFFSETFROM:-0500
TZOFFSETTO:-0400
TZNAME:EDT
DTSTART:20240310T070000
END:DAYLIGHT
BEGIN:STANDARD
TZOFFSETFROM:-0400
TZOFFSETTO:-0500
TZNAME:EST
DTSTART:20241103T060000
END:STANDARD
BEGIN:DAYLIGHT
TZOFFSETFROM:-0500
TZOFFSETTO:-0400
TZNAME:EDT
DTSTART:20250309T070000
END:DAYLIGHT
BEGIN:STANDARD
TZOFFSETFROM:-0400
TZOFFSETTO:-0500
TZNAME:EST
DTSTART:20251102T060000
END:STANDARD
BEGIN:DAYLIGHT
TZOFFSETFROM:-0500
TZOFFSETTO:-0400
TZNAME:EDT
DTSTART:20260308T070000
END:DAYLIGHT
BEGIN:STANDARD
TZOFFSETFROM:-0400
TZOFFSETTO:-0500
TZNAME:EST
DTSTART:20261101T060000
END:STANDARD
END:VTIMEZONE
BEGIN:VEVENT
DTSTART;TZID=America/Toronto:20230617T080000
DTEND;TZID=America/Toronto:20230618T170000
DTSTAMP:20260421T070743
CREATED:20230724T135507Z
LAST-MODIFIED:20240425T203120Z
UID:10000228-1686988800-1687107600@wreckmasterstaging.tangiblelaunchpad.com
SUMMARY:Lockport\, NY IH 2/3 June 17-18 2023
DESCRIPTION:
URL:https://wreckmasterstaging.tangiblelaunchpad.com/event/lockport-ny-ih-2-3-june-17-18-2023/
LOCATION:Beauman’s Garage Inc 175 Oakhurst St Lockport 14094 NY\, 175 Oakhurst St\, Lockport\, 14094\, United States
CATEGORIES:2023 Classes (Archived)
ATTACH;FMTTYPE=image/png:https://wreckmasterstaging.tangiblelaunchpad.com/wp-content/uploads/2022/08/23-HANDS-ON.png
ORGANIZER;CN="WreckMaster":MAILTO:info@wreckmaster.com
GEO:43.1709939;-78.7164691
X-APPLE-STRUCTURED-LOCATION;VALUE=URI;X-ADDRESS=Beauman’s Garage Inc 175 Oakhurst St Lockport 14094 NY 175 Oakhurst St Lockport 14094 United States;X-APPLE-RADIUS=500;X-TITLE=175 Oakhurst St:geo:-78.7164691,43.1709939
END:VEVENT
BEGIN:VEVENT
DTSTART;TZID=America/Toronto:20230624T080000
DTEND;TZID=America/Toronto:20230625T170000
DTSTAMP:20260421T070743
CREATED:20230428T160712Z
LAST-MODIFIED:20240425T203150Z
UID:10000250-1687593600-1687712400@wreckmasterstaging.tangiblelaunchpad.com
SUMMARY:Littleton\, NH 2/3 June 24-25 2023
DESCRIPTION:Our flagship training course\, Level 2/3: Fundamentals course focuses primarily on light-duty vehicles\, with introductory techniques for medium and heavy-duty work. \n****Please note WreckMaster is no longer offer Certification with the Training we offer.**** \nLevel 2/3: Fundamentals is best for business owners\, company managers\, trainers\, health and safety reps or any career-oriented operators.
URL:https://wreckmasterstaging.tangiblelaunchpad.com/event/littleton-nh-2-3-june-24-25-2023/
LOCATION:B&B Towing & Recovery\, 248 Riverside Drive\, Littleton\, NH\, 03561\, United States
CATEGORIES:2023 Classes (Archived)
ATTACH;FMTTYPE=image/png:https://wreckmasterstaging.tangiblelaunchpad.com/wp-content/uploads/2023/02/23-HANDS-ON-smaller.png
ORGANIZER;CN="WreckMaster":MAILTO:info@wreckmaster.com
GEO:44.3074919;-71.7878637
X-APPLE-STRUCTURED-LOCATION;VALUE=URI;X-ADDRESS=B&B Towing & Recovery 248 Riverside Drive Littleton NH 03561 United States;X-APPLE-RADIUS=500;X-TITLE=248 Riverside Drive:geo:-71.7878637,44.3074919
END:VEVENT
BEGIN:VEVENT
DTSTART;TZID=America/Toronto:20230722T080000
DTEND;TZID=America/Toronto:20230723T170000
DTSTAMP:20260421T070743
CREATED:20230428T165723Z
LAST-MODIFIED:20240208T192114Z
UID:10000254-1690012800-1690131600@wreckmasterstaging.tangiblelaunchpad.com
SUMMARY:Emmaus\, PA 4/5 July 22-23 2023
DESCRIPTION:Level 4/5: Advanced Techniques gives you the skills needed to tackle medium and heavy-duty jobs the first time\, every time. No more near misses or failed attempts. \nIf you’ve taken the WreckMaster Level 2/3: Fundamentals course and you want to be able to tow and recover in even more complicated and potentially dangerous scenarios\, the Level 4/5: Advanced Techniques course is for you. \nIt’s an especially good fit for company owners\, trainers and organizations that work with or train fire and rescue personnel
URL:https://wreckmasterstaging.tangiblelaunchpad.com/event/emmaus-pa-4-5-july-22-23-2023/
LOCATION:Mechanics Plus Towing and Transport Inc\, 4701 Colebrook Ave\, Emmaus\, PA\, 18049\, United States
CATEGORIES:2023 Classes (Archived)
ATTACH;FMTTYPE=image/png:https://wreckmasterstaging.tangiblelaunchpad.com/wp-content/uploads/2023/05/45-HANDS-ON-smaller.png
ORGANIZER;CN="WreckMaster":MAILTO:info@wreckmaster.com
GEO:40.5216077;-75.524201
X-APPLE-STRUCTURED-LOCATION;VALUE=URI;X-ADDRESS=Mechanics Plus Towing and Transport Inc 4701 Colebrook Ave Emmaus PA 18049 United States;X-APPLE-RADIUS=500;X-TITLE=4701 Colebrook Ave:geo:-75.524201,40.5216077
END:VEVENT
BEGIN:VEVENT
DTSTART;TZID=America/Toronto:20230916T080000
DTEND;TZID=America/Toronto:20230916T170000
DTSTAMP:20260421T070743
CREATED:20230821T181111Z
LAST-MODIFIED:20240208T213413Z
UID:10000303-1694851200-1694883600@wreckmasterstaging.tangiblelaunchpad.com
SUMMARY:Merj Fleet Service In-House Level 1 September 16 2023
DESCRIPTION:
URL:https://wreckmasterstaging.tangiblelaunchpad.com/event/merj-fleet-service-in-house-level-1-september-16-2023/
LOCATION:WreckMaster\, 150 Lawrence Bell Drive\, Williamsville\, NY\, 14221\, United States
CATEGORIES:2023 Classes (Archived)
ATTACH;FMTTYPE=image/png:https://wreckmasterstaging.tangiblelaunchpad.com/wp-content/uploads/2023/07/in-house-wide.png
ORGANIZER;CN="WreckMaster":MAILTO:info@wreckmaster.com
GEO:42.9533621;-78.7194825
X-APPLE-STRUCTURED-LOCATION;VALUE=URI;X-ADDRESS=WreckMaster 150 Lawrence Bell Drive Williamsville NY 14221 United States;X-APPLE-RADIUS=500;X-TITLE=150 Lawrence Bell Drive:geo:-78.7194825,42.9533621
END:VEVENT
BEGIN:VEVENT
DTSTART;TZID=America/Toronto:20231014T080000
DTEND;TZID=America/Toronto:20231015T170000
DTSTAMP:20260421T070743
CREATED:20230207T184528Z
LAST-MODIFIED:20230922T163600Z
UID:10000248-1697270400-1697389200@wreckmasterstaging.tangiblelaunchpad.com
SUMMARY:Rochester\, NY 2/3 October 14-15 2023
DESCRIPTION:Our flagship training course\, Level 2/3: Fundamentals course focuses primarily on light-duty vehicles\, with introductory techniques for medium and heavy-duty work. \n****Please note WreckMaster is no longer offer Certification with the Training we offer.**** \nLevel 2/3: Fundamentals is best for business owners\, company managers\, trainers\, health and safety reps or any career-oriented operators.
URL:https://wreckmasterstaging.tangiblelaunchpad.com/event/rochester-ny-2-3-october-14-15-2023/
LOCATION:Gates Towing\, 1421 Scottsdale Rd\, Rochester\, NY\, 14624\, United States
ATTACH;FMTTYPE=image/png:https://wreckmasterstaging.tangiblelaunchpad.com/wp-content/uploads/2023/02/23-HANDS-ON-smaller.png
ORGANIZER;CN="WreckMaster":MAILTO:info@wreckmaster.com
GEO:43.1101766;-77.6739686
X-APPLE-STRUCTURED-LOCATION;VALUE=URI;X-ADDRESS=Gates Towing 1421 Scottsdale Rd Rochester NY 14624 United States;X-APPLE-RADIUS=500;X-TITLE=1421 Scottsdale Rd:geo:-77.6739686,43.1101766
END:VEVENT
BEGIN:VEVENT
DTSTART;TZID=America/Toronto:20231028T080000
DTEND;TZID=America/Toronto:20231029T170000
DTSTAMP:20260421T070743
CREATED:20230821T002302Z
LAST-MODIFIED:20231016T180536Z
UID:10000236-1698480000-1698598800@wreckmasterstaging.tangiblelaunchpad.com
SUMMARY:Merrimack\, NH 2/3 October 28-29 2023
DESCRIPTION:Our flagship training course\, Level 2/3: Fundamentals course focuses primarily on light-duty vehicles\, with introductory techniques for medium and heavy-duty work. \n****Please note WreckMaster no longer offers Certification with the Training we offer**** \nLevel 2/3: Fundamentals is best for business owners\, company managers\, trainers\, health and safety reps or any career-oriented operators.
URL:https://wreckmasterstaging.tangiblelaunchpad.com/event/merrimack-nh-2-3-october-28-29-2023/
LOCATION:Merrimack Police Department\, 31 Baboosic Lake Rd\, Merrimack\, NH\, 03054\, United States
ATTACH;FMTTYPE=image/png:https://wreckmasterstaging.tangiblelaunchpad.com/wp-content/uploads/2022/08/23-HANDS-ON.png
ORGANIZER;CN="WreckMaster":MAILTO:info@wreckmaster.com
GEO:42.8679383;-71.4983293
X-APPLE-STRUCTURED-LOCATION;VALUE=URI;X-ADDRESS=Merrimack Police Department 31 Baboosic Lake Rd Merrimack NH 03054 United States;X-APPLE-RADIUS=500;X-TITLE=31 Baboosic Lake Rd:geo:-71.4983293,42.8679383
END:VEVENT
BEGIN:VEVENT
DTSTART;TZID=America/Toronto:20231211T080000
DTEND;TZID=America/Toronto:20231212T170000
DTSTAMP:20260421T070743
CREATED:20231107T175354Z
LAST-MODIFIED:20240208T213801Z
UID:10000370-1702281600-1702400400@wreckmasterstaging.tangiblelaunchpad.com
SUMMARY:Dover DE 16 Hours (2 Day) December 11-12 2023 In House
DESCRIPTION:
URL:https://wreckmasterstaging.tangiblelaunchpad.com/event/dover-de-16-hours-2-day-december-11-12-2023-in-house/
LOCATION:Delaware DOT\, 800 South Bay Rd\, Dover\, DE\, 19901\, United States
CATEGORIES:2023 Classes (Archived)
ORGANIZER;CN="WreckMaster":MAILTO:info@wreckmaster.com
GEO:39.1486337;-75.5050131
X-APPLE-STRUCTURED-LOCATION;VALUE=URI;X-ADDRESS=Delaware DOT 800 South Bay Rd Dover DE 19901 United States;X-APPLE-RADIUS=500;X-TITLE=800 South Bay Rd:geo:-75.5050131,39.1486337
END:VEVENT
BEGIN:VEVENT
DTSTART;TZID=America/Toronto:20231213T080000
DTEND;TZID=America/Toronto:20231214T170000
DTSTAMP:20260421T070743
CREATED:20231107T175632Z
LAST-MODIFIED:20240208T213849Z
UID:10000371-1702454400-1702573200@wreckmasterstaging.tangiblelaunchpad.com
SUMMARY:Dover DE 16 Hours (2 Day) December 13-14 2023 In House
DESCRIPTION:
URL:https://wreckmasterstaging.tangiblelaunchpad.com/event/dover-de-16-hours-2-day-december-13-14-2023-in-house/
LOCATION:Delaware DOT\, 800 South Bay Rd\, Dover\, DE\, 19901\, United States
CATEGORIES:2023 Classes (Archived)
ORGANIZER;CN="WreckMaster":MAILTO:info@wreckmaster.com
GEO:39.1486337;-75.5050131
X-APPLE-STRUCTURED-LOCATION;VALUE=URI;X-ADDRESS=Delaware DOT 800 South Bay Rd Dover DE 19901 United States;X-APPLE-RADIUS=500;X-TITLE=800 South Bay Rd:geo:-75.5050131,39.1486337
END:VEVENT
BEGIN:VEVENT
DTSTART;TZID=America/Toronto:20240116T080000
DTEND;TZID=America/Toronto:20240116T170000
DTSTAMP:20260421T070743
CREATED:20240116T183318Z
LAST-MODIFIED:20240116T183318Z
UID:10000435-1705392000-1705424400@wreckmasterstaging.tangiblelaunchpad.com
SUMMARY:Danville VA Level 1 4 Hour Seminar March 21 2024 In-House (Private)
DESCRIPTION:
URL:https://wreckmasterstaging.tangiblelaunchpad.com/event/danville-va-level-1-4-hour-seminar-march-21-2024-in-house-private/
CATEGORIES:IN-HOUSE
END:VEVENT
BEGIN:VEVENT
DTSTART;TZID=America/Toronto:20240321T080000
DTEND;TZID=America/Toronto:20240321T170000
DTSTAMP:20260421T070743
CREATED:20240125T151213Z
LAST-MODIFIED:20240129T203050Z
UID:10000437-1711008000-1711040400@wreckmasterstaging.tangiblelaunchpad.com
SUMMARY:Danville VA 3 Hour Seminar Level 1 March 21 2024 In-House (Private)
DESCRIPTION:
URL:https://wreckmasterstaging.tangiblelaunchpad.com/event/danville-va-3-hour-seminar-level-1-march-21-2024-in-house-private/
LOCATION:City of Danville VA\, Public Works\, 998 South Boston Rd\, Danville\, VA\, 24540\, United States
CATEGORIES:IN-HOUSE
ORGANIZER;CN="WreckMaster":MAILTO:info@wreckmaster.com
GEO:36.5847193;-79.3784332
X-APPLE-STRUCTURED-LOCATION;VALUE=URI;X-ADDRESS=City of Danville VA Public Works 998 South Boston Rd Danville VA 24540 United States;X-APPLE-RADIUS=500;X-TITLE=998 South Boston Rd:geo:-79.3784332,36.5847193
END:VEVENT
BEGIN:VEVENT
DTSTART;TZID=America/Toronto:20240413T080000
DTEND;TZID=America/Toronto:20240414T170000
DTSTAMP:20260421T070743
CREATED:20240105T161010Z
LAST-MODIFIED:20240208T151219Z
UID:10000414-1712995200-1713114000@wreckmasterstaging.tangiblelaunchpad.com
SUMMARY:Mount Upton New York Level 2/3 April 13-14 2024
DESCRIPTION:Our flagship training course\, Level 2/3: Fundamentals course focuses primarily on light-duty vehicles\, with introductory techniques for medium and heavy-duty work. \nUpon successful completion of the training evaluation\, attendees will receive a training certificate. \nLevel 2/3: Fundamentals is best for business owners\, company managers\, trainers\, health and safety reps or any career-oriented operators.
URL:https://wreckmasterstaging.tangiblelaunchpad.com/event/mount-upton-new-york-level-2-3-april-13-14-2024/
LOCATION:C.A.R.S Towing & Recovery\, 321 High Bridge Rd\, Mt. Upton\, NY\, 13809\, United States
CATEGORIES:2024 Classes,2024 Hands-On Training,2024 Level 2/3 Hands-On,23 Hands-On
ATTACH;FMTTYPE=image/png:https://wreckmasterstaging.tangiblelaunchpad.com/wp-content/uploads/2023/02/23-HANDS-ON-smaller.png
ORGANIZER;CN="WreckMaster":MAILTO:info@wreckmaster.com
GEO:42.3961976;-75.4096847
X-APPLE-STRUCTURED-LOCATION;VALUE=URI;X-ADDRESS=C.A.R.S Towing & Recovery 321 High Bridge Rd Mt. Upton NY 13809 United States;X-APPLE-RADIUS=500;X-TITLE=321 High Bridge Rd:geo:-75.4096847,42.3961976
END:VEVENT
BEGIN:VEVENT
DTSTART;TZID=America/Toronto:20240427T080000
DTEND;TZID=America/Toronto:20240428T170000
DTSTAMP:20260421T070743
CREATED:20240220T172044Z
LAST-MODIFIED:20240429T230109Z
UID:10000448-1714204800-1714323600@wreckmasterstaging.tangiblelaunchpad.com
SUMMARY:Windsor VT Level 2/3 April 27-28 2024
DESCRIPTION:Our flagship training course\, Level 2/3: Fundamentals course focuses primarily on light-duty vehicles\, with introductory techniques for medium and heavy-duty work. \nUpon successful completion of the training evaluation\, attendees will receive a training certificate. \nLevel 2/3: Fundamentals is best for business owners\, company managers\, trainers\, health and safety reps or any career-oriented operators.
URL:https://wreckmasterstaging.tangiblelaunchpad.com/event/windsor-vt-level-2-3-april-27-28-2024/
LOCATION:Vermont Towing Association Inc.-Twinline Towing & Auto Repair\, 834 VT Route 131\, Windsor\, VT\, 05089\, United States
CATEGORIES:2024 Level 2/3 Hands-On,23 Hands-On
ATTACH;FMTTYPE=image/png:https://wreckmasterstaging.tangiblelaunchpad.com/wp-content/uploads/2022/08/23-HANDS-ON-300x300-1.png
ORGANIZER;CN="WreckMaster":MAILTO:info@wreckmaster.com
GEO:43.4012858;-72.4216998
X-APPLE-STRUCTURED-LOCATION;VALUE=URI;X-ADDRESS=Vermont Towing Association Inc.-Twinline Towing & Auto Repair 834 VT Route 131 Windsor VT 05089 United States;X-APPLE-RADIUS=500;X-TITLE=834 VT Route 131:geo:-72.4216998,43.4012858
END:VEVENT
BEGIN:VEVENT
DTSTART;TZID=America/Toronto:20240508T080000
DTEND;TZID=America/Toronto:20240508T170000
DTSTAMP:20260421T070743
CREATED:20240507T155740Z
LAST-MODIFIED:20240507T155740Z
UID:10000490-1715155200-1715187600@wreckmasterstaging.tangiblelaunchpad.com
SUMMARY:Plymouth Meeting PA 1 Hour Seminar May 8 2024 In-House (Private)
DESCRIPTION:
URL:https://wreckmasterstaging.tangiblelaunchpad.com/event/plymouth-meeting-pa-1-hour-seminar-may-8-2024-in-house-private/
LOCATION:PennDot\, United States
CATEGORIES:2024 Classes,IN-HOUSE
ORGANIZER;CN="WreckMaster":MAILTO:info@wreckmaster.com
GEO:37.09024;-95.712891
END:VEVENT
BEGIN:VEVENT
DTSTART;TZID=America/Toronto:20240601T080000
DTEND;TZID=America/Toronto:20240602T170000
DTSTAMP:20260421T070743
CREATED:20231207T173159Z
LAST-MODIFIED:20240208T150924Z
UID:10000406-1717228800-1717347600@wreckmasterstaging.tangiblelaunchpad.com
SUMMARY:Merrimack NH Level 2/3 June 1-2 2024
DESCRIPTION:Our flagship training course\, Level 2/3: Fundamentals course focuses primarily on light-duty vehicles\, with introductory techniques for medium and heavy-duty work. \nUpon successful completion of the training evaluation\, attendees will receive a training certificate. \nLevel 2/3: Fundamentals is best for business owners\, company managers\, trainers\, health and safety reps or any career-oriented operators. \n 
URL:https://wreckmasterstaging.tangiblelaunchpad.com/event/merrimack-nh-level-2-3-june-1-2-2024/
LOCATION:Bailey’s Towing & Autobody\, 54 Baboosic Lake Rd\, Merrimack\, NH\, 03054\, United States
CATEGORIES:2024 Classes,2024 Hands-On Training,2024 Level 2/3 Hands-On,23 Hands-On
ATTACH;FMTTYPE=image/png:https://wreckmasterstaging.tangiblelaunchpad.com/wp-content/uploads/2022/08/23-HANDS-ON-300x300-1.png
ORGANIZER;CN="WreckMaster":MAILTO:info@wreckmaster.com
GEO:42.8683012;-71.5037004
X-APPLE-STRUCTURED-LOCATION;VALUE=URI;X-ADDRESS=Bailey’s Towing & Autobody 54 Baboosic Lake Rd Merrimack NH 03054 United States;X-APPLE-RADIUS=500;X-TITLE=54 Baboosic Lake Rd:geo:-71.5037004,42.8683012
END:VEVENT
BEGIN:VEVENT
DTSTART;TZID=America/Toronto:20240712T170000
DTEND;TZID=America/Toronto:20240712T190000
DTSTAMP:20260421T070743
CREATED:20240625T133946Z
LAST-MODIFIED:20240625T133946Z
UID:10000517-1720803600-1720810800@wreckmasterstaging.tangiblelaunchpad.com
SUMMARY:Littleton NH 2 Hour Seminar / Keys to Hybrid/EV Success July 12 2024
DESCRIPTION:This Seminar will provide Tow and Recovery professionals with an understanding of knowledge\, skills\, and abilities to safely interact with hybrid and electric vehicles at an operational level.
URL:https://wreckmasterstaging.tangiblelaunchpad.com/event/littleton-nh-2-hour-seminar-keys-to-hybrid-ev-success-july-12-2024/
LOCATION:B&B Towing & Recovery\, 248 Riverside Drive\, Littleton\, NH\, 03561\, United States
CATEGORIES:2024 Classes,HEV
ATTACH;FMTTYPE=image/png:https://wreckmasterstaging.tangiblelaunchpad.com/wp-content/uploads/2023/06/HYBRID-ELECTRIC-HEV-SEMINAR-button-RESIZED.png
ORGANIZER;CN="WreckMaster":MAILTO:info@wreckmaster.com
GEO:44.3074919;-71.7878637
X-APPLE-STRUCTURED-LOCATION;VALUE=URI;X-ADDRESS=B&B Towing & Recovery 248 Riverside Drive Littleton NH 03561 United States;X-APPLE-RADIUS=500;X-TITLE=248 Riverside Drive:geo:-71.7878637,44.3074919
END:VEVENT
BEGIN:VEVENT
DTSTART;TZID=America/Toronto:20240713T080000
DTEND;TZID=America/Toronto:20240714T170000
DTSTAMP:20260421T070743
CREATED:20231207T174651Z
LAST-MODIFIED:20240715T163914Z
UID:10000407-1720857600-1720976400@wreckmasterstaging.tangiblelaunchpad.com
SUMMARY:Littleton NH Level 4/5 July 13-14 2024
DESCRIPTION:Level 4/5: Advanced Techniques gives you the skills needed to tackle medium and heavy-duty jobs the first time\, every time. No more near misses or failed attempts. \nIf you’ve taken the WreckMaster Level 2/3: Fundamentals course and you want to be able to tow and recover in even more complicated and potentially dangerous scenarios\, the Level 4/5: Advanced Techniques course is for you. \nIt’s an especially good fit for company owners\, trainers and organizations that work with or train fire and rescue personnel \nUpon successful completion of the training evaluation\, attendees will receive a training certificate.
URL:https://wreckmasterstaging.tangiblelaunchpad.com/event/littleton-nh-level-4-5-july-13-14-2024/
LOCATION:B&B Towing & Recovery\, 248 Riverside Drive\, Littleton\, NH\, 03561\, United States
CATEGORIES:2024 Classes,2024 Hands-On Training,2024 Level 4/5 Hands-On,4/5 Hands-On
ATTACH;FMTTYPE=image/png:https://wreckmasterstaging.tangiblelaunchpad.com/wp-content/uploads/2023/05/45-HANDS-ON-smaller.png
ORGANIZER;CN="WreckMaster":MAILTO:info@wreckmaster.com
GEO:44.3074919;-71.7878637
X-APPLE-STRUCTURED-LOCATION;VALUE=URI;X-ADDRESS=B&B Towing & Recovery 248 Riverside Drive Littleton NH 03561 United States;X-APPLE-RADIUS=500;X-TITLE=248 Riverside Drive:geo:-71.7878637,44.3074919
END:VEVENT
BEGIN:VEVENT
DTSTART;TZID=America/Toronto:20240810T080000
DTEND;TZID=America/Toronto:20240811T170000
DTSTAMP:20260421T070743
CREATED:20231211T152844Z
LAST-MODIFIED:20240208T150854Z
UID:10000408-1723276800-1723395600@wreckmasterstaging.tangiblelaunchpad.com
SUMMARY:Canton NY Level 2/3 August 10-11 2024
DESCRIPTION:Our flagship training course\, Level 2/3: Fundamentals course focuses primarily on light-duty vehicles\, with introductory techniques for medium and heavy-duty work. \nUpon successful completion of the training evaluation\, attendees will receive a training certificate. \nLevel 2/3: Fundamentals is best for business owners\, company managers\, trainers\, health and safety reps or any career-oriented operators. \n 
URL:https://wreckmasterstaging.tangiblelaunchpad.com/event/canton-ny-level-2-3-august-13-14-2024/
LOCATION:Canton Fire Department\, 77 Riverside Drive\, Canton\, NY\, 13617\, United States
CATEGORIES:2024 Classes,2024 Hands-On Training,2024 Level 2/3 Hands-On,23 Hands-On
ATTACH;FMTTYPE=image/png:https://wreckmasterstaging.tangiblelaunchpad.com/wp-content/uploads/2023/02/23-HANDS-ON-smaller.png
ORGANIZER;CN="WreckMaster":MAILTO:info@wreckmaster.com
GEO:44.6022669;-75.1772426
X-APPLE-STRUCTURED-LOCATION;VALUE=URI;X-ADDRESS=Canton Fire Department 77 Riverside Drive Canton NY 13617 United States;X-APPLE-RADIUS=500;X-TITLE=77 Riverside Drive:geo:-75.1772426,44.6022669
END:VEVENT
BEGIN:VEVENT
DTSTART;TZID=America/Toronto:20240815T080000
DTEND;TZID=America/Toronto:20240816T170000
DTSTAMP:20260421T070743
CREATED:20240610T161219Z
LAST-MODIFIED:20240610T161219Z
UID:10000507-1723708800-1723827600@wreckmasterstaging.tangiblelaunchpad.com
SUMMARY:Wrightstown NJ 16 Hours (2 Day) August 15-16 2024 In-House (Private)
DESCRIPTION:
URL:https://wreckmasterstaging.tangiblelaunchpad.com/event/wrightstown-nj-16-hours-2-day-august-15-16-2024-in-house-private/
LOCATION:USAF Joint Base-McGuire-Dix-Lakehurst\, 3002 Tuskegee Airman Avenue\, Wrightstown\, NJ\, 08641\, United States
CATEGORIES:2024 Classes,IN-HOUSE
ORGANIZER;CN="WreckMaster":MAILTO:info@wreckmaster.com
GEO:40.0347691;-74.5910292
X-APPLE-STRUCTURED-LOCATION;VALUE=URI;X-ADDRESS=USAF Joint Base-McGuire-Dix-Lakehurst 3002 Tuskegee Airman Avenue Wrightstown NJ 08641 United States;X-APPLE-RADIUS=500;X-TITLE=3002 Tuskegee Airman Avenue:geo:-74.5910292,40.0347691
END:VEVENT
BEGIN:VEVENT
DTSTART;TZID=America/Toronto:20240918T080000
DTEND;TZID=America/Toronto:20240919T170000
DTSTAMP:20260421T070743
CREATED:20240726T145328Z
LAST-MODIFIED:20240726T145328Z
UID:10000524-1726646400-1726765200@wreckmasterstaging.tangiblelaunchpad.com
SUMMARY:Washington DC 2 Day IH September 18-19 2024
DESCRIPTION:
URL:https://wreckmasterstaging.tangiblelaunchpad.com/event/washington-dc-2-day-ih-september-18-19-2024/
LOCATION:US Capital Police Building\, K Street Southwest\, Washington\, DC\, 20024\, United States
CATEGORIES:2024 Classes,IN-HOUSE
ORGANIZER;CN="WreckMaster":MAILTO:info@wreckmaster.com
GEO:38.8786734;-77.0112243
X-APPLE-STRUCTURED-LOCATION;VALUE=URI;X-ADDRESS=US Capital Police Building K Street Southwest Washington DC 20024 United States;X-APPLE-RADIUS=500;X-TITLE=K Street Southwest:geo:-77.0112243,38.8786734
END:VEVENT
BEGIN:VEVENT
DTSTART;TZID=America/Toronto:20241005T080000
DTEND;TZID=America/Toronto:20241006T170000
DTSTAMP:20260421T070743
CREATED:20240826T195349Z
LAST-MODIFIED:20240826T195349Z
UID:10000538-1728115200-1728234000@wreckmasterstaging.tangiblelaunchpad.com
SUMMARY:Bristol NY Level 2/3 October 5-6 2024
DESCRIPTION:Our flagship training course\, Level 2/3: Fundamentals course focuses primarily on light-duty vehicles\, with introductory techniques for medium and heavy-duty work. \nUpon successful completion of the training evaluation\, attendees will receive a training certificate. \nLevel 2/3: Fundamentals is best for business owners\, company managers\, trainers\, health and safety reps or any career-oriented operators.
URL:https://wreckmasterstaging.tangiblelaunchpad.com/event/bristol-ny-level-2-3-october-5-6-2024/
LOCATION:Bristol Volunteer Fire Department\, New York 64\, Canandaigua\, NY\, 14424\, United States
CATEGORIES:2024 Classes,23 Hands-On
ATTACH;FMTTYPE=image/png:https://wreckmasterstaging.tangiblelaunchpad.com/wp-content/uploads/2023/02/23-HANDS-ON-smaller.png
ORGANIZER;CN="WreckMaster":MAILTO:info@wreckmaster.com
GEO:42.8165789;-77.3946303
X-APPLE-STRUCTURED-LOCATION;VALUE=URI;X-ADDRESS=Bristol Volunteer Fire Department New York 64 Canandaigua NY 14424 United States;X-APPLE-RADIUS=500;X-TITLE=New York 64:geo:-77.3946303,42.8165789
END:VEVENT
BEGIN:VEVENT
DTSTART;TZID=America/Toronto:20241214T080000
DTEND;TZID=America/Toronto:20241215T170000
DTSTAMP:20260421T070743
CREATED:20241114T164429Z
LAST-MODIFIED:20241114T164429Z
UID:10000578-1734163200-1734282000@wreckmasterstaging.tangiblelaunchpad.com
SUMMARY:Cumberland\, RI Level 2/3 In-House (Private) December 14-15 2024
DESCRIPTION:
URL:https://wreckmasterstaging.tangiblelaunchpad.com/event/cumberland-ri-level-2-3-in-house-private-december-14-15-2024/
LOCATION:S&D Auto & Truck LLC\, Whipple Street\, Cumberland\, RI\, 02864\, United States
CATEGORIES:2024 Classes,IN-HOUSE
ORGANIZER;CN="WreckMaster":MAILTO:info@wreckmaster.com
GEO:41.929464;-71.4206026
X-APPLE-STRUCTURED-LOCATION;VALUE=URI;X-ADDRESS=S&D Auto & Truck LLC Whipple Street Cumberland RI 02864 United States;X-APPLE-RADIUS=500;X-TITLE=Whipple Street:geo:-71.4206026,41.929464
END:VEVENT
BEGIN:VEVENT
DTSTART;TZID=America/Toronto:20250115T080000
DTEND;TZID=America/Toronto:20250115T170000
DTSTAMP:20260421T070743
CREATED:20241213T172337Z
LAST-MODIFIED:20250203T175733Z
UID:10000600-1736928000-1736960400@wreckmasterstaging.tangiblelaunchpad.com
SUMMARY:Buffalo NY In-House Winching Course 1/15/2025
DESCRIPTION:
URL:https://wreckmasterstaging.tangiblelaunchpad.com/event/buffalo-ny-winching-course-1-15-2025/
LOCATION:365 Mineral Springs Rd\, Buffalo\, NY\, 14210\, United States
CATEGORIES:2024 Classes,IN-HOUSE
ORGANIZER;CN="WreckMaster":MAILTO:info@wreckmaster.com
GEO:42.8671413;-78.8297701
END:VEVENT
BEGIN:VEVENT
DTSTART;TZID=America/Toronto:20250802T080000
DTEND;TZID=America/Toronto:20250803T170000
DTSTAMP:20260421T070743
CREATED:20250613T135348Z
LAST-MODIFIED:20250613T135348Z
UID:10000728-1754121600-1754240400@wreckmasterstaging.tangiblelaunchpad.com
SUMMARY:Sparrow Bush\, NY Level 2/3 IN House August 2-3\, 2025
DESCRIPTION:
URL:https://wreckmasterstaging.tangiblelaunchpad.com/event/sparrow-bush-ny-level-2-3-in-house-august-2-3-2025/
LOCATION:Hockenberry’s Garage\, 47 Upper Brook Rd\, Sparrow Bush\, NY\, 12780\, United States
CATEGORIES:2024 Classes,IN-HOUSE
ORGANIZER;CN="WreckMaster":MAILTO:info@wreckmaster.com
GEO:41.4038946;-74.7199946
X-APPLE-STRUCTURED-LOCATION;VALUE=URI;X-ADDRESS=Hockenberry’s Garage 47 Upper Brook Rd Sparrow Bush NY 12780 United States;X-APPLE-RADIUS=500;X-TITLE=47 Upper Brook Rd:geo:-74.7199946,41.4038946
END:VEVENT
BEGIN:VEVENT
DTSTART;TZID=America/Toronto:20251202T080000
DTEND;TZID=America/Toronto:20251202T170000
DTSTAMP:20260421T070743
CREATED:20251014T150653Z
LAST-MODIFIED:20251014T150653Z
UID:10000809-1764662400-1764694800@wreckmasterstaging.tangiblelaunchpad.com
SUMMARY:Wellsville NY Level 1 In-House December 2 2025
DESCRIPTION:
URL:https://wreckmasterstaging.tangiblelaunchpad.com/event/wellsville-ny-level-1-in-house-december-2-2025/
LOCATION:National Fuel Gas Distribution Corporation\, 349 S Brooklyn Ave\, Wellsville\, NY\, 14895\, United States
CATEGORIES:2024 Classes,IN-HOUSE
ORGANIZER;CN="WreckMaster":MAILTO:info@wreckmaster.com
GEO:42.1118447;-77.9455984
X-APPLE-STRUCTURED-LOCATION;VALUE=URI;X-ADDRESS=National Fuel Gas Distribution Corporation 349 S Brooklyn Ave Wellsville NY 14895 United States;X-APPLE-RADIUS=500;X-TITLE=349 S Brooklyn Ave:geo:-77.9455984,42.1118447
END:VEVENT
END:VCALENDAR