BEGIN:VCALENDAR
VERSION:2.0
PRODID:-//WreckMaster - ECPv6.15.20//NONSGML v1.0//EN
CALSCALE:GREGORIAN
METHOD:PUBLISH
X-ORIGINAL-URL:https://wreckmasterstaging.tangiblelaunchpad.com
X-WR-CALDESC:Events for WreckMaster
REFRESH-INTERVAL;VALUE=DURATION:PT1H
X-Robots-Tag:noindex
X-PUBLISHED-TTL:PT1H
BEGIN:VTIMEZONE
TZID:America/Toronto
BEGIN:DAYLIGHT
TZOFFSETFROM:-0500
TZOFFSETTO:-0400
TZNAME:EDT
DTSTART:20330313T070000
END:DAYLIGHT
BEGIN:STANDARD
TZOFFSETFROM:-0400
TZOFFSETTO:-0500
TZNAME:EST
DTSTART:20331106T060000
END:STANDARD
BEGIN:DAYLIGHT
TZOFFSETFROM:-0500
TZOFFSETTO:-0400
TZNAME:EDT
DTSTART:20340312T070000
END:DAYLIGHT
BEGIN:STANDARD
TZOFFSETFROM:-0400
TZOFFSETTO:-0500
TZNAME:EST
DTSTART:20341105T060000
END:STANDARD
BEGIN:DAYLIGHT
TZOFFSETFROM:-0500
TZOFFSETTO:-0400
TZNAME:EDT
DTSTART:20350311T070000
END:DAYLIGHT
BEGIN:STANDARD
TZOFFSETFROM:-0400
TZOFFSETTO:-0500
TZNAME:EST
DTSTART:20351104T060000
END:STANDARD
END:VTIMEZONE
BEGIN:VEVENT
DTSTART;TZID=America/Toronto:20341216T080000
DTEND;TZID=America/Toronto:20341216T080000
DTSTAMP:20260421T015300
CREATED:20241114T164329Z
LAST-MODIFIED:20260318T072559Z
UID:10000579-2049868800-2049868800@wreckmasterstaging.tangiblelaunchpad.com
SUMMARY:FREE Introduction to T.R.I.P. 2
DESCRIPTION:This is a FREE online course. No purchase is necessary. Once registered\, you can proceed to the self-guided course and take at your convenience. \n 
URL:https://wreckmasterstaging.tangiblelaunchpad.com/event/free-introduction-to-t-r-i-p-2/
LOCATION:IL
CATEGORIES:Free Intro
ATTACH;FMTTYPE=image/png:https://wreckmasterstaging.tangiblelaunchpad.com/wp-content/uploads/2024/11/INTRO-TO-TRIP2-BUTTON-S.png
END:VEVENT
BEGIN:VEVENT
DTSTART;TZID=America/Toronto:20341216T080000
DTEND;TZID=America/Toronto:20341216T170000
DTSTAMP:20260421T015300
CREATED:20241114T162844Z
LAST-MODIFIED:20250210T143932Z
UID:10000577-2049868800-2049901200@wreckmasterstaging.tangiblelaunchpad.com
SUMMARY:FREE Introduction to T.R.I.P. 1
DESCRIPTION:This is a FREE online course. No purchase is necessary. Once registered\, you can proceed to the self-guided course and take at your convenience.
URL:https://wreckmasterstaging.tangiblelaunchpad.com/event/free-introduction-to-t-r-i-p-1/
LOCATION:IL
CATEGORIES:Free Intro
ATTACH;FMTTYPE=image/png:https://wreckmasterstaging.tangiblelaunchpad.com/wp-content/uploads/2024/11/INTRO-TO-TRIP1-BUTTON-S.png
END:VEVENT
BEGIN:VEVENT
DTSTART;TZID=America/Toronto:20341216T080000
DTEND;TZID=America/Toronto:20341216T170000
DTSTAMP:20260421T015300
CREATED:20241118T143658Z
LAST-MODIFIED:20241118T144807Z
UID:10000581-2049868800-2049901200@wreckmasterstaging.tangiblelaunchpad.com
SUMMARY:Level 2/3: Self-Guided
DESCRIPTION:WreckMaster’s Level 2/3 Fundamentals course teaches you the skills to work faster\, safer and smarter.  \nWe focus on light-duty vehicles\, with some techniques for medium and heavy duty work. This foundational program is a pre-requisite for all other WreckMaster certifications. Level 2 Towing teaches you how to safely get the most out of your equipment and keep your customers happy. Level 3 Recovery shows you how to recover a casualty the right way the first time\, every time.
URL:https://wreckmasterstaging.tangiblelaunchpad.com/event/level-2-3-self-guided/
LOCATION:IL
CATEGORIES:Self-Guided
ATTACH;FMTTYPE=image/png:https://wreckmasterstaging.tangiblelaunchpad.com/wp-content/uploads/2024/11/23-self-guided.png
END:VEVENT
BEGIN:VEVENT
DTSTART;TZID=America/Toronto:20341216T080000
DTEND;TZID=America/Toronto:20341216T170000
DTSTAMP:20260421T015300
CREATED:20241118T144044Z
LAST-MODIFIED:20241118T144600Z
UID:10000582-2049868800-2049901200@wreckmasterstaging.tangiblelaunchpad.com
SUMMARY:Level 4/5: Self-Guided
DESCRIPTION:Wreckmaster’s Level 4/5 Advanced Techniques course helps operators develop the practical know-how and skills to execute complex towing and recovery scenarios with confidence. Take the course from start to finish to earn a certificate of completion. \n\n\n\n\n\n\nTopics in this online course include WreckMaster’s 5-point protocol for staying safe and working efficiently; calculating resistance\, including damage\, mire and gradient resistance and weight transfer; anchoring; one-lane parallel uprighting; how to split and separate a tractor-trailer and tow a trailer; calculating a truck’s lift capacity; how to increase the working load limit of a winch using snatch blocks; and advanced scenarios involving uprighting\, vertical lifting and jack-knifes. 
URL:https://wreckmasterstaging.tangiblelaunchpad.com/event/level-4-5-self-guided/
LOCATION:IL
CATEGORIES:Self-Guided
ATTACH;FMTTYPE=image/png:https://wreckmasterstaging.tangiblelaunchpad.com/wp-content/uploads/2024/11/45-self-guided.png
END:VEVENT
BEGIN:VEVENT
DTSTART;TZID=America/Toronto:20341216T080000
DTEND;TZID=America/Toronto:20341216T170000
DTSTAMP:20260421T015300
CREATED:20241118T145113Z
LAST-MODIFIED:20260318T072621Z
UID:10000583-2049868800-2049901200@wreckmasterstaging.tangiblelaunchpad.com
SUMMARY:Level 6/7: Self-Guided
DESCRIPTION:In Wreckmaster’s Level 6/7 Heavy-duty course you will learn the skills to safely and efficiently manage the most complicated scenarios\, recover the heaviest casualties and impress the most demanding teams on-scene. \n\n\n\n\n\n\nLearn advanced winching\, compound layups and how mechanical advantage affects line load. Discover how block loading affects winching and vertical lifting\, and how to use angles to calculate your truck’s lifting capacity for safer\, more effective towing under difficult circumstances. Practice challenging scene management and learn how to communicate effectively with incident commanders on the scene.\ \nTest 1 \nTesting
URL:https://wreckmasterstaging.tangiblelaunchpad.com/event/level-6-7-self-guided/
LOCATION:IL
CATEGORIES:Self-Guided
ATTACH;FMTTYPE=image/png:https://wreckmasterstaging.tangiblelaunchpad.com/wp-content/uploads/2024/11/67-self-guided.png
END:VEVENT
END:VCALENDAR