BEGIN:VCALENDAR
VERSION:2.0
PRODID:-//WreckMaster - ECPv6.15.20//NONSGML v1.0//EN
CALSCALE:GREGORIAN
METHOD:PUBLISH
X-ORIGINAL-URL:https://wreckmasterstaging.tangiblelaunchpad.com
X-WR-CALDESC:Events for WreckMaster
REFRESH-INTERVAL;VALUE=DURATION:PT1H
X-Robots-Tag:noindex
X-PUBLISHED-TTL:PT1H
BEGIN:VTIMEZONE
TZID:America/Toronto
BEGIN:DAYLIGHT
TZOFFSETFROM:-0500
TZOFFSETTO:-0400
TZNAME:EDT
DTSTART:20230312T070000
END:DAYLIGHT
BEGIN:STANDARD
TZOFFSETFROM:-0400
TZOFFSETTO:-0500
TZNAME:EST
DTSTART:20231105T060000
END:STANDARD
BEGIN:DAYLIGHT
TZOFFSETFROM:-0500
TZOFFSETTO:-0400
TZNAME:EDT
DTSTART:20240310T070000
END:DAYLIGHT
BEGIN:STANDARD
TZOFFSETFROM:-0400
TZOFFSETTO:-0500
TZNAME:EST
DTSTART:20241103T060000
END:STANDARD
BEGIN:DAYLIGHT
TZOFFSETFROM:-0500
TZOFFSETTO:-0400
TZNAME:EDT
DTSTART:20250309T070000
END:DAYLIGHT
BEGIN:STANDARD
TZOFFSETFROM:-0400
TZOFFSETTO:-0500
TZNAME:EST
DTSTART:20251102T060000
END:STANDARD
BEGIN:DAYLIGHT
TZOFFSETFROM:-0500
TZOFFSETTO:-0400
TZNAME:EDT
DTSTART:20260308T070000
END:DAYLIGHT
BEGIN:STANDARD
TZOFFSETFROM:-0400
TZOFFSETTO:-0500
TZNAME:EST
DTSTART:20261101T060000
END:STANDARD
BEGIN:DAYLIGHT
TZOFFSETFROM:-0500
TZOFFSETTO:-0400
TZNAME:EDT
DTSTART:20270314T070000
END:DAYLIGHT
BEGIN:STANDARD
TZOFFSETFROM:-0400
TZOFFSETTO:-0500
TZNAME:EST
DTSTART:20271107T060000
END:STANDARD
END:VTIMEZONE
BEGIN:VEVENT
DTSTART;TZID=America/Toronto:20260117T080000
DTEND;TZID=America/Toronto:20260118T170000
DTSTAMP:20260421T040011
CREATED:20251029T160811Z
LAST-MODIFIED:20251117T170809Z
UID:10000824-1768636800-1768755600@wreckmasterstaging.tangiblelaunchpad.com
SUMMARY:Cartersville\, GA Trip Level 2 January 17-18\, 2026
DESCRIPTION:
URL:https://wreckmasterstaging.tangiblelaunchpad.com/event/cartersville-ga-trip-level-2-january-17-18-2026/
LOCATION:Matthews Garage-TRAG\, 541 Martin Rd\, Cartersville\, GA\, 30121\, United States
CATEGORIES:T.R.I.P. L2
ATTACH;FMTTYPE=image/png:https://wreckmasterstaging.tangiblelaunchpad.com/wp-content/uploads/2025/10/TRIP-2-smaller.png
GEO:34.2093435;-84.8300178
X-APPLE-STRUCTURED-LOCATION;VALUE=URI;X-ADDRESS=Matthews Garage-TRAG 541 Martin Rd Cartersville GA 30121 United States;X-APPLE-RADIUS=500;X-TITLE=541 Martin Rd:geo:-84.8300178,34.2093435
END:VEVENT
BEGIN:VEVENT
DTSTART;TZID=America/Toronto:20251004T080000
DTEND;TZID=America/Toronto:20251005T170000
DTSTAMP:20260421T040011
CREATED:20250212T164215Z
LAST-MODIFIED:20251017T150918Z
UID:10000639-1759564800-1759683600@wreckmasterstaging.tangiblelaunchpad.com
SUMMARY:Doswell VA TRIP Level 2 October 4-5 2025
DESCRIPTION:The I-95 Corridor Coalition worked with the Georgia Department of Transportation and Georgia Regional Transportation Authority to develop and implement the Towing and Recovery Incentive Program (TRIP) in 2008 to pay heavy- duty recovery companies a monetary bonus for clearing commercial vehicle wrecks within 90 minutes. TRIP facilitates quick and safe clearance of commercial vehicle crashes by improving towing procedures\, and improves traffic incident management in the region while building a mutually beneficial relationship within the towing community to meet quick clearance goals. Only highly skilled companies with trained operators and specialized equipment may participate in TRIP. \nThe Coalition has been a partner in this Program since 2007\, which included the development\, issuance\, and award of a competitive Request for Proposal . Fellow Coalition Members States benefit from the information derived during this RFP process \, including developing the certification process\, determining the criteria and training course requirements\, and selecting qualified trainers. These training courses can be hosted in any Coalition State to provide training to TRIP operators and supervisors. \n  \nUpon completion of this course you will receive a Training Certificate. 
URL:https://wreckmasterstaging.tangiblelaunchpad.com/event/doswell-va-trip-level-2-october-4-5-2025/
LOCATION:Anytime Towing & Recovery\, 16269 Washington Hwy\, Doswell\, VA\, 23006\, United States
CATEGORIES:2024 Classes,T.R.I.P. L2
ATTACH;FMTTYPE=image/png:https://wreckmasterstaging.tangiblelaunchpad.com/wp-content/uploads/2023/04/TRIP-2-smaller.png
ORGANIZER;CN="WreckMaster":MAILTO:info@wreckmaster.com
GEO:37.8516157;-77.464864
X-APPLE-STRUCTURED-LOCATION;VALUE=URI;X-ADDRESS=Anytime Towing & Recovery 16269 Washington Hwy Doswell VA 23006 United States;X-APPLE-RADIUS=500;X-TITLE=16269 Washington Hwy:geo:-77.464864,37.8516157
END:VEVENT
BEGIN:VEVENT
DTSTART;TZID=America/Toronto:20250607T080000
DTEND;TZID=America/Toronto:20250608T170000
DTSTAMP:20260421T040011
CREATED:20250117T004127Z
LAST-MODIFIED:20250415T145530Z
UID:10000626-1749283200-1749402000@wreckmasterstaging.tangiblelaunchpad.com
SUMMARY:Cartersville\, GA TRIP Level 2 June 7-8 2025
DESCRIPTION:The I-95 Corridor Coalition worked with the Georgia Department of Transportation and Georgia Regional Transportation Authority to develop and implement the Towing and Recovery Incentive Program (TRIP) in 2008 to pay heavy- duty recovery companies a monetary bonus for clearing commercial vehicle wrecks within 90 minutes. TRIP facilitates quick and safe clearance of commercial vehicle crashes by improving towing procedures\, and improves traffic incident management in the region while building a mutually beneficial relationship within the towing community to meet quick clearance goals. Only highly skilled companies with trained operators and specialized equipment may participate in TRIP. \nThe Coalition has been a partner in this Program since 2007\, which included the development\, issuance\, and award of a competitive Request for Proposal . Fellow Coalition Members States benefit from the information derived during this RFP process \, including developing the certification process\, determining the criteria and training course requirements\, and selecting qualified trainers. These training courses can be hosted in any Coalition State to provide training to TRIP operators and supervisors.
URL:https://wreckmasterstaging.tangiblelaunchpad.com/event/cartersville-ga-trip-level-2-june-7-8-2025/
LOCATION:Matthews towing\, Cartersville\, GA\, 30120\, United States
CATEGORIES:2024 Classes,T.R.I.P. L2
ATTACH;FMTTYPE=image/png:https://wreckmasterstaging.tangiblelaunchpad.com/wp-content/uploads/2023/04/TRIP-2-smaller.png
ORGANIZER;CN="WreckMaster":MAILTO:info@wreckmaster.com
GEO:34.1577811;-84.8776392
END:VEVENT
BEGIN:VEVENT
DTSTART;TZID=America/Toronto:20250301T080000
DTEND;TZID=America/Toronto:20250302T170000
DTSTAMP:20260421T040011
CREATED:20250116T152104Z
LAST-MODIFIED:20250205T161214Z
UID:10000624-1740816000-1740934800@wreckmasterstaging.tangiblelaunchpad.com
SUMMARY:Max Meadows VA TRIP Level 2 March 1-2 2025
DESCRIPTION:The I-95 Corridor Coalition worked with the Georgia Department of Transportation and Georgia Regional Transportation Authority to develop and implement the Towing and Recovery Incentive Program (TRIP) in 2008 to pay heavy- duty recovery companies a monetary bonus for clearing commercial vehicle wrecks within 90 minutes. TRIP facilitates quick and safe clearance of commercial vehicle crashes by improving towing procedures\, and improves traffic incident management in the region while building a mutually beneficial relationship within the towing community to meet quick clearance goals. Only highly skilled companies with trained operators and specialized equipment may participate in TRIP. \nThe Coalition has been a partner in this Program since 2007\, which included the development\, issuance\, and award of a competitive Request for Proposal . Fellow Coalition Members States benefit from the information derived during this RFP process \, including developing the certification process\, determining the criteria and training course requirements\, and selecting qualified trainers. These training courses can be hosted in any Coalition State to provide training to TRIP operators and supervisors. \n  \nUpon completion of this course you will receive a Training Certificate. 
URL:https://wreckmasterstaging.tangiblelaunchpad.com/event/max-meadows-va-trip-level-2-march-1-2-2025/
LOCATION:Complete Towing\, Major Grahams Road\, Max Meadows\, VA\, 24360\, United States
CATEGORIES:2024 Classes,T.R.I.P. L2
ATTACH;FMTTYPE=image/png:https://wreckmasterstaging.tangiblelaunchpad.com/wp-content/uploads/2023/04/TRIP-2-smaller.png
ORGANIZER;CN="WreckMaster":MAILTO:info@wreckmaster.com
GEO:36.9493931;-80.8795145
X-APPLE-STRUCTURED-LOCATION;VALUE=URI;X-ADDRESS=Complete Towing Major Grahams Road Max Meadows VA 24360 United States;X-APPLE-RADIUS=500;X-TITLE=Major Grahams Road:geo:-80.8795145,36.9493931
END:VEVENT
BEGIN:VEVENT
DTSTART;TZID=America/Toronto:20250125T080000
DTEND;TZID=America/Toronto:20250126T170000
DTSTAMP:20260421T040011
CREATED:20241001T164640Z
LAST-MODIFIED:20250203T160734Z
UID:10000549-1737792000-1737910800@wreckmasterstaging.tangiblelaunchpad.com
SUMMARY:Doswell VA TRIP Level 2 January 25-26\, 2025
DESCRIPTION:The I-95 Corridor Coalition worked with the Georgia Department of Transportation and Georgia Regional Transportation Authority to develop and implement the Towing and Recovery Incentive Program (TRIP) in 2008 to pay heavy- duty recovery companies a monetary bonus for clearing commercial vehicle wrecks within 90 minutes. TRIP facilitates quick and safe clearance of commercial vehicle crashes by improving towing procedures\, and improves traffic incident management in the region while building a mutually beneficial relationship within the towing community to meet quick clearance goals. Only highly skilled companies with trained operators and specialized equipment may participate in TRIP. \nThe Coalition has been a partner in this Program since 2007\, which included the development\, issuance\, and award of a competitive Request for Proposal . Fellow Coalition Members States benefit from the information derived during this RFP process \, including developing the certification process\, determining the criteria and training course requirements\, and selecting qualified trainers. These training courses can be hosted in any Coalition State to provide training to TRIP operators and supervisors. \n  \nUpon completion of this course you will receive a Training Certificate. 
URL:https://wreckmasterstaging.tangiblelaunchpad.com/event/doswell-va-trip-level-2-january-25-26-2025/
LOCATION:Anytime Towing & Recovery\, 16269 Washington Hwy\, Doswell\, VA\, 23006\, United States
CATEGORIES:2024 Classes,T.R.I.P. L2
ATTACH;FMTTYPE=image/png:https://wreckmasterstaging.tangiblelaunchpad.com/wp-content/uploads/2023/04/TRIP-2-smaller.png
ORGANIZER;CN="WreckMaster":MAILTO:info@wreckmaster.com
GEO:37.8516157;-77.464864
X-APPLE-STRUCTURED-LOCATION;VALUE=URI;X-ADDRESS=Anytime Towing & Recovery 16269 Washington Hwy Doswell VA 23006 United States;X-APPLE-RADIUS=500;X-TITLE=16269 Washington Hwy:geo:-77.464864,37.8516157
END:VEVENT
BEGIN:VEVENT
DTSTART;TZID=America/Toronto:20240921T080000
DTEND;TZID=America/Toronto:20240922T170000
DTSTAMP:20260421T040011
CREATED:20240426T135632Z
LAST-MODIFIED:20250811T191657Z
UID:10000484-1726905600-1727024400@wreckmasterstaging.tangiblelaunchpad.com
SUMMARY:Cartersville GA TRIP Level 2 September 21-22 2024
DESCRIPTION:The I-95 Corridor Coalition worked with the Georgia Department of Transportation and Georgia Regional Transportation Authority to develop and implement the Towing and Recovery Incentive Program (TRIP) in 2008 to pay heavy- duty recovery companies a monetary bonus for clearing commercial vehicle wrecks within 90 minutes. TRIP facilitates quick and safe clearance of commercial vehicle crashes by improving towing procedures\, and improves traffic incident management in the region while building a mutually beneficial relationship within the towing community to meet quick clearance goals. Only highly skilled companies with trained operators and specialized equipment may participate in TRIP. \nThe Coalition has been a partner in this Program since 2007\, which included the development\, issuance\, and award of a competitive Request for Proposal . Fellow Coalition Members States benefit from the information derived during this RFP process \, including developing the certification process\, determining the criteria and training course requirements\, and selecting qualified trainers. These training courses can be hosted in any Coalition State to provide training to TRIP operators and supervisors. \nUpon successful completion of the training evaluation\, attendees will receive a training certificate.
URL:https://wreckmasterstaging.tangiblelaunchpad.com/event/cartersville-ga-trip-level-2-september-21-22-2024/
LOCATION:541 martins rd\, 541 martins rd\, Cartersville\, GA\, 30120\, United States
CATEGORIES:2024 Classes,2024 Hands-On Training,2024 TRIP Level 2 Hands-On,T.R.I.P. L2
ATTACH;FMTTYPE=image/png:https://wreckmasterstaging.tangiblelaunchpad.com/wp-content/uploads/2023/04/TRIP-2-smaller.png
ORGANIZER;CN="WreckMaster":MAILTO:info@wreckmaster.com
GEO:34.1909433;-84.8815266
X-APPLE-STRUCTURED-LOCATION;VALUE=URI;X-ADDRESS=541 martins rd 541 martins rd Cartersville GA 30120 United States;X-APPLE-RADIUS=500;X-TITLE=541 martins rd:geo:-84.8815266,34.1909433
END:VEVENT
BEGIN:VEVENT
DTSTART;TZID=America/Toronto:20240629T080000
DTEND;TZID=America/Toronto:20240630T170000
DTSTAMP:20260421T040011
CREATED:20240423T161955Z
LAST-MODIFIED:20240702T174208Z
UID:10000483-1719648000-1719766800@wreckmasterstaging.tangiblelaunchpad.com
SUMMARY:Narrows VA TRIP Level 2 June 29-30-2024
DESCRIPTION:The I-95 Corridor Coalition worked with the Georgia Department of Transportation and Georgia Regional Transportation Authority to develop and implement the Towing and Recovery Incentive Program (TRIP) in 2008 to pay heavy- duty recovery companies a monetary bonus for clearing commercial vehicle wrecks within 90 minutes. TRIP facilitates quick and safe clearance of commercial vehicle crashes by improving towing procedures\, and improves traffic incident management in the region while building a mutually beneficial relationship within the towing community to meet quick clearance goals. Only highly skilled companies with trained operators and specialized equipment may participate in TRIP. \nThe Coalition has been a partner in this Program since 2007\, which included the development\, issuance\, and award of a competitive Request for Proposal . Fellow Coalition Members States benefit from the information derived during this RFP process \, including developing the certification process\, determining the criteria and training course requirements\, and selecting qualified trainers. These training courses can be hosted in any Coalition State to provide training to TRIP operators and supervisors. \nUpon successful completion of the training evaluation\, attendees will receive a training certificate.
URL:https://wreckmasterstaging.tangiblelaunchpad.com/event/narrows-va-trip-level-2-june-29-30-2024/
LOCATION:Lee’s Auto Service\, 2199 Virginia Ave\, Narrows\, VA\, 24124\, United States
CATEGORIES:2024 Classes,2024 Hands-On Training,2024 TRIP Level 2 Hands-On,T.R.I.P. L2
ATTACH;FMTTYPE=image/png:https://wreckmasterstaging.tangiblelaunchpad.com/wp-content/uploads/2023/04/TRIP-2-smaller.png
ORGANIZER;CN="WreckMaster":MAILTO:info@wreckmaster.com
GEO:37.3602818;-80.8129847
X-APPLE-STRUCTURED-LOCATION;VALUE=URI;X-ADDRESS=Lee’s Auto Service 2199 Virginia Ave Narrows VA 24124 United States;X-APPLE-RADIUS=500;X-TITLE=2199 Virginia Ave:geo:-80.8129847,37.3602818
END:VEVENT
BEGIN:VEVENT
DTSTART;TZID=America/Toronto:20240629T080000
DTEND;TZID=America/Toronto:20240630T170000
DTSTAMP:20260421T040011
CREATED:20231030T150654Z
LAST-MODIFIED:20250811T191815Z
UID:10000763-1719648000-1719766800@wreckmasterstaging.tangiblelaunchpad.com
SUMMARY:Buchanan VA TRIP Level 2 June 29-30 2024
DESCRIPTION:The I-95 Corridor Coalition worked with the Georgia Department of Transportation and Georgia Regional Transportation Authority to develop and implement the Towing and Recovery Incentive Program (TRIP) in 2008 to pay heavy- duty recovery companies a monetary bonus for clearing commercial vehicle wrecks within 90 minutes. TRIP facilitates quick and safe clearance of commercial vehicle crashes by improving towing procedures\, and improves traffic incident management in the region while building a mutually beneficial relationship within the towing community to meet quick clearance goals. Only highly skilled companies with trained operators and specialized equipment may participate in TRIP. \nThe Coalition has been a partner in this Program since 2007\, which included the development\, issuance\, and award of a competitive Request for Proposal . Fellow Coalition Members States benefit from the information derived during this RFP process \, including developing the certification process\, determining the criteria and training course requirements\, and selecting qualified trainers. These training courses can be hosted in any Coalition State to provide training to TRIP operators and supervisors. \nUpon successful completion of the training evaluation\, attendees will receive a training certificate.
URL:https://wreckmasterstaging.tangiblelaunchpad.com/event/buchanan-va-trip-level-2-june-29-30-2024/
LOCATION:Hugh’s Transport\, 14822 Lee Highway\, Buchanan\, VA\, 24066\, United States
CATEGORIES:2024 Classes,2024 Hands-On Training,2024 TRIP Level 2 Hands-On,T.R.I.P. L2
ATTACH;FMTTYPE=image/png:https://wreckmasterstaging.tangiblelaunchpad.com/wp-content/uploads/2023/04/TRIP-2-smaller.png
ORGANIZER;CN="WreckMaster":MAILTO:info@wreckmaster.com
GEO:37.4980066;-79.7554965
X-APPLE-STRUCTURED-LOCATION;VALUE=URI;X-ADDRESS=Hugh’s Transport 14822 Lee Highway Buchanan VA 24066 United States;X-APPLE-RADIUS=500;X-TITLE=14822 Lee Highway:geo:-79.7554965,37.4980066
END:VEVENT
BEGIN:VEVENT
DTSTART;TZID=America/Toronto:20240504T080000
DTEND;TZID=America/Toronto:20240505T170000
DTSTAMP:20260421T040011
CREATED:20240111T161412Z
LAST-MODIFIED:20250811T191930Z
UID:10000430-1714809600-1714928400@wreckmasterstaging.tangiblelaunchpad.com
SUMMARY:Woodstock\, VA TRIP Level 2 May 4-5 2024
DESCRIPTION:The I-95 Corridor Coalition worked with the Georgia Department of Transportation and Georgia Regional Transportation Authority to develop and implement the Towing and Recovery Incentive Program (TRIP) in 2008 to pay heavy- duty recovery companies a monetary bonus for clearing commercial vehicle wrecks within 90 minutes. TRIP facilitates quick and safe clearance of commercial vehicle crashes by improving towing procedures\, and improves traffic incident management in the region while building a mutually beneficial relationship within the towing community to meet quick clearance goals. Only highly skilled companies with trained operators and specialized equipment may participate in TRIP. \nThe Coalition has been a partner in this Program since 2007\, which included the development\, issuance\, and award of a competitive Request for Proposal . Fellow Coalition Members States benefit from the information derived during this RFP process \, including developing the certification process\, determining the criteria and training course requirements\, and selecting qualified trainers. These training courses can be hosted in any Coalition State to provide training to TRIP operators and supervisors. \nUpon successful completion of the training evaluation\, attendees will receive a training certificate.
URL:https://wreckmasterstaging.tangiblelaunchpad.com/event/woodstock-va-trip-level-2-may-4-5-2024/
LOCATION:1011 motel dr\, Woodstock\, VA\, 22664\, United States
CATEGORIES:2024 Classes,2024 Hands-On Training,2024 TRIP Level 2 Hands-On,T.R.I.P. L2
ATTACH;FMTTYPE=image/png:https://wreckmasterstaging.tangiblelaunchpad.com/wp-content/uploads/2023/04/TRIP-2-smaller.png
ORGANIZER;CN="WreckMaster":MAILTO:info@wreckmaster.com
END:VEVENT
BEGIN:VEVENT
DTSTART;TZID=America/Toronto:20240427T080000
DTEND;TZID=America/Toronto:20240428T170000
DTSTAMP:20260421T040011
CREATED:20231109T175722Z
LAST-MODIFIED:20240506T145800Z
UID:10000376-1714204800-1714323600@wreckmasterstaging.tangiblelaunchpad.com
SUMMARY:Doswell VA TRIP 2 April 27-28 2024
DESCRIPTION:The I-95 Corridor Coalition worked with the Georgia Department of Transportation and Georgia Regional Transportation Authority to develop and implement the Towing and Recovery Incentive Program (TRIP) in 2008 to pay heavy- duty recovery companies a monetary bonus for clearing commercial vehicle wrecks within 90 minutes. TRIP facilitates quick and safe clearance of commercial vehicle crashes by improving towing procedures\, and improves traffic incident management in the region while building a mutually beneficial relationship within the towing community to meet quick clearance goals. Only highly skilled companies with trained operators and specialized equipment may participate in TRIP. \nThe Coalition has been a partner in this Program since 2007\, which included the development\, issuance\, and award of a competitive Request for Proposal . Fellow Coalition Members States benefit from the information derived during this RFP process \, including developing the certification process\, determining the criteria and training course requirements\, and selecting qualified trainers. These training courses can be hosted in any Coalition State to provide training to TRIP operators and supervisors. \nUpon successful completion of the training evaluation\, attendees will receive a training certificate.
URL:https://wreckmasterstaging.tangiblelaunchpad.com/event/doswell-va-trip-2-april-27-28-2024/
LOCATION:Anytime Towing & Recovery\, 16269 Washington Hwy\, Doswell\, VA\, 23006\, United States
CATEGORIES:2024 Classes,2024 Hands-On Training,2024 TRIP Level 2 Hands-On,T.R.I.P. L2
ATTACH;FMTTYPE=image/png:https://wreckmasterstaging.tangiblelaunchpad.com/wp-content/uploads/2023/04/TRIP-2-smaller.png
ORGANIZER;CN="WreckMaster":MAILTO:info@wreckmaster.com
GEO:37.8516157;-77.464864
X-APPLE-STRUCTURED-LOCATION;VALUE=URI;X-ADDRESS=Anytime Towing & Recovery 16269 Washington Hwy Doswell VA 23006 United States;X-APPLE-RADIUS=500;X-TITLE=16269 Washington Hwy:geo:-77.464864,37.8516157
END:VEVENT
END:VCALENDAR