BEGIN:VCALENDAR
VERSION:2.0
PRODID:-//WreckMaster - ECPv6.15.20//NONSGML v1.0//EN
CALSCALE:GREGORIAN
METHOD:PUBLISH
X-WR-CALNAME:WreckMaster
X-ORIGINAL-URL:https://wreckmasterstaging.tangiblelaunchpad.com
X-WR-CALDESC:Events for WreckMaster
REFRESH-INTERVAL;VALUE=DURATION:PT1H
X-Robots-Tag:noindex
X-PUBLISHED-TTL:PT1H
BEGIN:VTIMEZONE
TZID:America/Toronto
BEGIN:DAYLIGHT
TZOFFSETFROM:-0500
TZOFFSETTO:-0400
TZNAME:EDT
DTSTART:20230312T070000
END:DAYLIGHT
BEGIN:STANDARD
TZOFFSETFROM:-0400
TZOFFSETTO:-0500
TZNAME:EST
DTSTART:20231105T060000
END:STANDARD
BEGIN:DAYLIGHT
TZOFFSETFROM:-0500
TZOFFSETTO:-0400
TZNAME:EDT
DTSTART:20240310T070000
END:DAYLIGHT
BEGIN:STANDARD
TZOFFSETFROM:-0400
TZOFFSETTO:-0500
TZNAME:EST
DTSTART:20241103T060000
END:STANDARD
BEGIN:DAYLIGHT
TZOFFSETFROM:-0500
TZOFFSETTO:-0400
TZNAME:EDT
DTSTART:20250309T070000
END:DAYLIGHT
BEGIN:STANDARD
TZOFFSETFROM:-0400
TZOFFSETTO:-0500
TZNAME:EST
DTSTART:20251102T060000
END:STANDARD
BEGIN:DAYLIGHT
TZOFFSETFROM:-0500
TZOFFSETTO:-0400
TZNAME:EDT
DTSTART:20260308T070000
END:DAYLIGHT
BEGIN:STANDARD
TZOFFSETFROM:-0400
TZOFFSETTO:-0500
TZNAME:EST
DTSTART:20261101T060000
END:STANDARD
BEGIN:DAYLIGHT
TZOFFSETFROM:-0500
TZOFFSETTO:-0400
TZNAME:EDT
DTSTART:20270314T070000
END:DAYLIGHT
BEGIN:STANDARD
TZOFFSETFROM:-0400
TZOFFSETTO:-0500
TZNAME:EST
DTSTART:20271107T060000
END:STANDARD
END:VTIMEZONE
BEGIN:VEVENT
DTSTART;TZID=America/Toronto:20260110T080000
DTEND;TZID=America/Toronto:20260111T170000
DTSTAMP:20260421T040012
CREATED:20251029T154644Z
LAST-MODIFIED:20251117T165611Z
UID:10000823-1768032000-1768150800@wreckmasterstaging.tangiblelaunchpad.com
SUMMARY:Cartersville\, GA TRIP Level 1 January 10-11\, 2026
DESCRIPTION:
URL:https://wreckmasterstaging.tangiblelaunchpad.com/event/cartersville-ga-trip-level-1-january-10-11-2026/
LOCATION:Matthews Garage-TRAG\, 541 Martin Rd\, Cartersville\, GA\, 30121\, United States
CATEGORIES:T.R.I.P L1
ATTACH;FMTTYPE=image/png:https://wreckmasterstaging.tangiblelaunchpad.com/wp-content/uploads/2025/10/TRIP-1-1-New-Size-1.png
GEO:34.2093435;-84.8300178
X-APPLE-STRUCTURED-LOCATION;VALUE=URI;X-ADDRESS=Matthews Garage-TRAG 541 Martin Rd Cartersville GA 30121 United States;X-APPLE-RADIUS=500;X-TITLE=541 Martin Rd:geo:-84.8300178,34.2093435
END:VEVENT
BEGIN:VEVENT
DTSTART;TZID=America/Toronto:20250913T080000
DTEND;TZID=America/Toronto:20250914T170000
DTSTAMP:20260421T040012
CREATED:20250219T170932Z
LAST-MODIFIED:20250811T190818Z
UID:10000643-1757750400-1757869200@wreckmasterstaging.tangiblelaunchpad.com
SUMMARY:Doswell VA TRIP Level 1 	Sept 13-14\, 2025
DESCRIPTION:The I-95 Corridor Coalition worked with the Georgia Department of Transportation and Georgia Regional Transportation Authority to develop and implement the Towing and Recovery Incentive Program (TRIP) in 2008 to pay heavy- duty recovery companies a monetary bonus for clearing commercial vehicle wrecks within 90 minutes. TRIP facilitates quick and safe clearance of commercial vehicle crashes by improving towing procedures\, and improves traffic incident management in the region while building a mutually beneficial relationship within the towing community to meet quick clearance goals. Only highly skilled companies with trained operators and specialized equipment may participate in TRIP. \nThe Coalition has been a partner in this Program since 2007\, which included the development\, issuance\, and award of a competitive Request for Proposal . Fellow Coalition Members States benefit from the information derived during this RFP process \, including developing the certification process\, determining the criteria and training course requirements\, and selecting qualified trainers. These training courses can be hosted in any Coalition State to provide training to TRIP operators and supervisors.
URL:https://wreckmasterstaging.tangiblelaunchpad.com/event/doswell-va-trip-level-1-sept-13-14-2025/
LOCATION:Anytime Towing & Recovery\, 16269 Washington Hwy\, Doswell\, VA\, 23006\, United States
CATEGORIES:2024 Classes,T.R.I.P L1
ATTACH;FMTTYPE=image/png:https://wreckmasterstaging.tangiblelaunchpad.com/wp-content/uploads/2022/08/TRIP-1-1-New-Size-1.png
ORGANIZER;CN="WreckMaster":MAILTO:info@wreckmaster.com
GEO:37.8516157;-77.464864
X-APPLE-STRUCTURED-LOCATION;VALUE=URI;X-ADDRESS=Anytime Towing & Recovery 16269 Washington Hwy Doswell VA 23006 United States;X-APPLE-RADIUS=500;X-TITLE=16269 Washington Hwy:geo:-77.464864,37.8516157
END:VEVENT
BEGIN:VEVENT
DTSTART;TZID=America/Toronto:20250531T080000
DTEND;TZID=America/Toronto:20250601T170000
DTSTAMP:20260421T040012
CREATED:20250116T170900Z
LAST-MODIFIED:20250415T145601Z
UID:10000625-1748678400-1748797200@wreckmasterstaging.tangiblelaunchpad.com
SUMMARY:Cartersville GA TRIP Level 1 May 31-June 1 2025
DESCRIPTION:The I-95 Corridor Coalition worked with the Georgia Department of Transportation and Georgia Regional Transportation Authority to develop and implement the Towing and Recovery Incentive Program (TRIP) in 2008 to pay heavy- duty recovery companies a monetary bonus for clearing commercial vehicle wrecks within 90 minutes. TRIP facilitates quick and safe clearance of commercial vehicle crashes by improving towing procedures\, and improves traffic incident management in the region while building a mutually beneficial relationship within the towing community to meet quick clearance goals. Only highly skilled companies with trained operators and specialized equipment may participate in TRIP. \nThe Coalition has been a partner in this Program since 2007\, which included the development\, issuance\, and award of a competitive Request for Proposal . Fellow Coalition Members States benefit from the information derived during this RFP process \, including developing the certification process\, determining the criteria and training course requirements\, and selecting qualified trainers. These training courses can be hosted in any Coalition State to provide training to TRIP operators and supervisors.
URL:https://wreckmasterstaging.tangiblelaunchpad.com/event/cartersville-ga-trip-level-1-may-31-june-1-2025/
LOCATION:Matthews towing\, Cartersville\, GA\, 30120\, United States
CATEGORIES:2024 Classes,T.R.I.P L1
ATTACH;FMTTYPE=image/png:https://wreckmasterstaging.tangiblelaunchpad.com/wp-content/uploads/2022/08/TRIP-1-1-New-Size-1.png
ORGANIZER;CN="WreckMaster":MAILTO:info@wreckmaster.com
GEO:34.1577811;-84.8776392
END:VEVENT
BEGIN:VEVENT
DTSTART;TZID=America/Toronto:20250227T080000
DTEND;TZID=America/Toronto:20250228T170000
DTSTAMP:20260421T040012
CREATED:20250116T151700Z
LAST-MODIFIED:20250205T161047Z
UID:10000623-1740643200-1740762000@wreckmasterstaging.tangiblelaunchpad.com
SUMMARY:Max Meadows VA TRIP Level 1 February 27-28 2025
DESCRIPTION:The I-95 Corridor Coalition worked with the Georgia Department of Transportation and Georgia Regional Transportation Authority to develop and implement the Towing and Recovery Incentive Program (TRIP) in 2008 to pay heavy- duty recovery companies a monetary bonus for clearing commercial vehicle wrecks within 90 minutes. TRIP facilitates quick and safe clearance of commercial vehicle crashes by improving towing procedures\, and improves traffic incident management in the region while building a mutually beneficial relationship within the towing community to meet quick clearance goals. Only highly skilled companies with trained operators and specialized equipment may participate in TRIP. \nThe Coalition has been a partner in this Program since 2007\, which included the development\, issuance\, and award of a competitive Request for Proposal . Fellow Coalition Members States benefit from the information derived during this RFP process \, including developing the certification process\, determining the criteria and training course requirements\, and selecting qualified trainers. These training courses can be hosted in any Coalition State to provide training to TRIP operators and supervisors.
URL:https://wreckmasterstaging.tangiblelaunchpad.com/event/max-meadows-va-trip-level-1-february-27-28-2025/
LOCATION:Complete Towing\, Major Grahams Road\, Max Meadows\, VA\, 24360\, United States
CATEGORIES:2024 Classes,T.R.I.P L1
ATTACH;FMTTYPE=image/png:https://wreckmasterstaging.tangiblelaunchpad.com/wp-content/uploads/2022/08/TRIP-1-1-New-Size-1.png
ORGANIZER;CN="WreckMaster":MAILTO:info@wreckmaster.com
GEO:36.9493931;-80.8795145
X-APPLE-STRUCTURED-LOCATION;VALUE=URI;X-ADDRESS=Complete Towing Major Grahams Road Max Meadows VA 24360 United States;X-APPLE-RADIUS=500;X-TITLE=Major Grahams Road:geo:-80.8795145,36.9493931
END:VEVENT
BEGIN:VEVENT
DTSTART;TZID=America/Toronto:20250208T080000
DTEND;TZID=America/Toronto:20250209T170000
DTSTAMP:20260421T040012
CREATED:20241016T150617Z
LAST-MODIFIED:20250204T144842Z
UID:10000557-1739001600-1739120400@wreckmasterstaging.tangiblelaunchpad.com
SUMMARY:Tom’s Brook VA TRIP Level 1 February 8-9 2025
DESCRIPTION:The I-95 Corridor Coalition worked with the Georgia Department of Transportation and Georgia Regional Transportation Authority to develop and implement the Towing and Recovery Incentive Program (TRIP) in 2008 to pay heavy- duty recovery companies a monetary bonus for clearing commercial vehicle wrecks within 90 minutes. TRIP facilitates quick and safe clearance of commercial vehicle crashes by improving towing procedures\, and improves traffic incident management in the region while building a mutually beneficial relationship within the towing community to meet quick clearance goals. Only highly skilled companies with trained operators and specialized equipment may participate in TRIP. \nThe Coalition has been a partner in this Program since 2007\, which included the development\, issuance\, and award of a competitive Request for Proposal . Fellow Coalition Members States benefit from the information derived during this RFP process \, including developing the certification process\, determining the criteria and training course requirements\, and selecting qualified trainers. These training courses can be hosted in any Coalition State to provide training to TRIP operators and supervisors.
URL:https://wreckmasterstaging.tangiblelaunchpad.com/event/toms-brook-va-trip-level-1-february-8-9-2025/
LOCATION:Tom’s Brook Fire Department\, South Main Street\, Toms Brook\, VA\, 22660\, United States
CATEGORIES:2024 Classes,T.R.I.P L1
ATTACH;FMTTYPE=image/png:https://wreckmasterstaging.tangiblelaunchpad.com/wp-content/uploads/2023/04/TRIP-1-smaller.png
ORGANIZER;CN="WreckMaster":MAILTO:info@wreckmaster.com
GEO:38.9464951;-78.439894
X-APPLE-STRUCTURED-LOCATION;VALUE=URI;X-ADDRESS=Tom’s Brook Fire Department South Main Street Toms Brook VA 22660 United States;X-APPLE-RADIUS=500;X-TITLE=South Main Street:geo:-78.439894,38.9464951
END:VEVENT
BEGIN:VEVENT
DTSTART;TZID=America/Toronto:20250111T080000
DTEND;TZID=America/Toronto:20250112T170000
DTSTAMP:20260421T040012
CREATED:20241001T164038Z
LAST-MODIFIED:20250203T160813Z
UID:10000548-1736582400-1736701200@wreckmasterstaging.tangiblelaunchpad.com
SUMMARY:Doswell VA TRIP Level 1 January 11-12\, 2025
DESCRIPTION:The I-95 Corridor Coalition worked with the Georgia Department of Transportation and Georgia Regional Transportation Authority to develop and implement the Towing and Recovery Incentive Program (TRIP) in 2008 to pay heavy- duty recovery companies a monetary bonus for clearing commercial vehicle wrecks within 90 minutes. TRIP facilitates quick and safe clearance of commercial vehicle crashes by improving towing procedures\, and improves traffic incident management in the region while building a mutually beneficial relationship within the towing community to meet quick clearance goals. Only highly skilled companies with trained operators and specialized equipment may participate in TRIP. \nThe Coalition has been a partner in this Program since 2007\, which included the development\, issuance\, and award of a competitive Request for Proposal . Fellow Coalition Members States benefit from the information derived during this RFP process \, including developing the certification process\, determining the criteria and training course requirements\, and selecting qualified trainers. These training courses can be hosted in any Coalition State to provide training to TRIP operators and supervisors.
URL:https://wreckmasterstaging.tangiblelaunchpad.com/event/doswell-va-trip-level-1-january-11-12-2025/
LOCATION:Anytime Towing & Recovery\, 16269 Washington Hwy\, Doswell\, VA\, 23006\, United States
CATEGORIES:2024 Classes,T.R.I.P L1
ATTACH;FMTTYPE=image/png:https://wreckmasterstaging.tangiblelaunchpad.com/wp-content/uploads/2023/04/TRIP-1-smaller.png
ORGANIZER;CN="WreckMaster":MAILTO:info@wreckmaster.com
GEO:37.8516157;-77.464864
X-APPLE-STRUCTURED-LOCATION;VALUE=URI;X-ADDRESS=Anytime Towing & Recovery 16269 Washington Hwy Doswell VA 23006 United States;X-APPLE-RADIUS=500;X-TITLE=16269 Washington Hwy:geo:-77.464864,37.8516157
END:VEVENT
BEGIN:VEVENT
DTSTART;TZID=America/Toronto:20240817T080000
DTEND;TZID=America/Toronto:20240818T170000
DTSTAMP:20260421T040012
CREATED:20240426T145537Z
LAST-MODIFIED:20250811T191735Z
UID:10000485-1723881600-1724000400@wreckmasterstaging.tangiblelaunchpad.com
SUMMARY:Cartersville GA TRIP Level 1 August 17-18-2024
DESCRIPTION:The I-95 Corridor Coalition worked with the Georgia Department of Transportation and Georgia Regional Transportation Authority to develop and implement the Towing and Recovery Incentive Program (TRIP) in 2008 to pay heavy- duty recovery companies a monetary bonus for clearing commercial vehicle wrecks within 90 minutes. TRIP facilitates quick and safe clearance of commercial vehicle crashes by improving towing procedures\, and improves traffic incident management in the region while building a mutually beneficial relationship within the towing community to meet quick clearance goals. Only highly skilled companies with trained operators and specialized equipment may participate in TRIP. \nThe Coalition has been a partner in this Program since 2007\, which included the development\, issuance\, and award of a competitive Request for Proposal . Fellow Coalition Members States benefit from the information derived during this RFP process \, including developing the certification process\, determining the criteria and training course requirements\, and selecting qualified trainers. These training courses can be hosted in any Coalition State to provide training to TRIP operators and supervisors. \nUpon successful completion of the training evaluation\, attendees will receive a training certificate.
URL:https://wreckmasterstaging.tangiblelaunchpad.com/event/cartersville-ga-trip-level-1-august-17-18-2024/
LOCATION:541 martins rd\, 541 martins rd\, Cartersville\, GA\, 30120\, United States
CATEGORIES:2024 Classes,2024 Hands-On Training,2024 TRIP Level 1 Hands-On,T.R.I.P L1
ATTACH;FMTTYPE=image/png:https://wreckmasterstaging.tangiblelaunchpad.com/wp-content/uploads/2023/04/TRIP-1-smaller.png
ORGANIZER;CN="WreckMaster":MAILTO:info@wreckmaster.com
GEO:34.1909433;-84.8815266
X-APPLE-STRUCTURED-LOCATION;VALUE=URI;X-ADDRESS=541 martins rd 541 martins rd Cartersville GA 30120 United States;X-APPLE-RADIUS=500;X-TITLE=541 martins rd:geo:-84.8815266,34.1909433
END:VEVENT
BEGIN:VEVENT
DTSTART;TZID=America/Toronto:20240518T080000
DTEND;TZID=America/Toronto:20240519T170000
DTSTAMP:20260421T040012
CREATED:20231030T145405Z
LAST-MODIFIED:20240517T234126Z
UID:10000357-1716019200-1716138000@wreckmasterstaging.tangiblelaunchpad.com
SUMMARY:Narrows VA TRIP Level 1 May 18-19-2024
DESCRIPTION:The I-95 Corridor Coalition worked with the Georgia Department of Transportation and Georgia Regional Transportation Authority to develop and implement the Towing and Recovery Incentive Program (TRIP) in 2008 to pay heavy- duty recovery companies a monetary bonus for clearing commercial vehicle wrecks within 90 minutes. TRIP facilitates quick and safe clearance of commercial vehicle crashes by improving towing procedures\, and improves traffic incident management in the region while building a mutually beneficial relationship within the towing community to meet quick clearance goals. Only highly skilled companies with trained operators and specialized equipment may participate in TRIP. \nThe Coalition has been a partner in this Program since 2007\, which included the development\, issuance\, and award of a competitive Request for Proposal . Fellow Coalition Members States benefit from the information derived during this RFP process \, including developing the certification process\, determining the criteria and training course requirements\, and selecting qualified trainers. These training courses can be hosted in any Coalition State to provide training to TRIP operators and supervisors. \nUpon successful completion of the training evaluation\, attendees will receive a training certificate.
URL:https://wreckmasterstaging.tangiblelaunchpad.com/event/buchanan-va-trip-level-1-may-18-19-2024/
LOCATION:Lees auto repair\, 2199 Virginia\, Narrows\, 24124\, United States
CATEGORIES:2024 Classes,2024 Hands-On Training,2024 TRIP Level 1 Hands-On,T.R.I.P L1
ATTACH;FMTTYPE=image/png:https://wreckmasterstaging.tangiblelaunchpad.com/wp-content/uploads/2023/04/TRIP-1-smaller.png
ORGANIZER;CN="WreckMaster":MAILTO:info@wreckmaster.com
GEO:37.3315103;-80.8111866
X-APPLE-STRUCTURED-LOCATION;VALUE=URI;X-ADDRESS=Lees auto repair 2199 Virginia Narrows 24124 United States;X-APPLE-RADIUS=500;X-TITLE=2199 Virginia:geo:-80.8111866,37.3315103
END:VEVENT
BEGIN:VEVENT
DTSTART;TZID=America/Toronto:20240425T080000
DTEND;TZID=America/Toronto:20240426T170000
DTSTAMP:20260421T040012
CREATED:20231109T174422Z
LAST-MODIFIED:20250811T191943Z
UID:10000375-1714032000-1714150800@wreckmasterstaging.tangiblelaunchpad.com
SUMMARY:Doswell VA TRIP 1 April 25-26 2024
DESCRIPTION:The I-95 Corridor Coalition worked with the Georgia Department of Transportation and Georgia Regional Transportation Authority to develop and implement the Towing and Recovery Incentive Program (TRIP) in 2008 to pay heavy- duty recovery companies a monetary bonus for clearing commercial vehicle wrecks within 90 minutes. TRIP facilitates quick and safe clearance of commercial vehicle crashes by improving towing procedures\, and improves traffic incident management in the region while building a mutually beneficial relationship within the towing community to meet quick clearance goals. Only highly skilled companies with trained operators and specialized equipment may participate in TRIP. \nThe Coalition has been a partner in this Program since 2007\, which included the development\, issuance\, and award of a competitive Request for Proposal . Fellow Coalition Members States benefit from the information derived during this RFP process \, including developing the certification process\, determining the criteria and training course requirements\, and selecting qualified trainers. These training courses can be hosted in any Coalition State to provide training to TRIP operators and supervisors. \nUpon successful completion of the training evaluation\, attendees will receive a training certificate.
URL:https://wreckmasterstaging.tangiblelaunchpad.com/event/doswell-va-trip-1-april-25-26-2024/
LOCATION:Anytime Towing & Recovery\, 16269 Washington Hwy\, Doswell\, VA\, 23006\, United States
CATEGORIES:2024 Classes,2024 Hands-On Training,2024 TRIP Level 1 Hands-On,T.R.I.P L1
ATTACH;FMTTYPE=image/png:https://wreckmasterstaging.tangiblelaunchpad.com/wp-content/uploads/2023/04/TRIP-1-smaller.png
ORGANIZER;CN="WreckMaster":MAILTO:info@wreckmaster.com
GEO:37.8516157;-77.464864
X-APPLE-STRUCTURED-LOCATION;VALUE=URI;X-ADDRESS=Anytime Towing & Recovery 16269 Washington Hwy Doswell VA 23006 United States;X-APPLE-RADIUS=500;X-TITLE=16269 Washington Hwy:geo:-77.464864,37.8516157
END:VEVENT
BEGIN:VEVENT
DTSTART;TZID=America/Toronto:20240113T080000
DTEND;TZID=America/Toronto:20240114T170000
DTSTAMP:20260421T040012
CREATED:20230918T180731Z
LAST-MODIFIED:20250811T192038Z
UID:10000314-1705132800-1705251600@wreckmasterstaging.tangiblelaunchpad.com
SUMMARY:Woodstock VA TRIP 1 January 13-14\, 2024
DESCRIPTION:The I-95 Corridor Coalition worked with the Georgia Department of Transportation and Georgia Regional Transportation Authority to develop and implement the Towing and Recovery Incentive Program (TRIP) in 2008 to pay heavy- duty recovery companies a monetary bonus for clearing commercial vehicle wrecks within 90 minutes. TRIP facilitates quick and safe clearance of commercial vehicle crashes by improving towing procedures\, and improves traffic incident management in the region while building a mutually beneficial relationship within the towing community to meet quick clearance goals. Only highly skilled companies with trained operators and specialized equipment may participate in TRIP. \nThe Coalition has been a partner in this Program since 2007\, which included the development\, issuance\, and award of a competitive Request for Proposal . Fellow Coalition Members States benefit from the information derived during this RFP process \, including developing the certification process\, determining the criteria and training course requirements\, and selecting qualified trainers. These training courses can be hosted in any Coalition State to provide training to TRIP operators and supervisors.
URL:https://wreckmasterstaging.tangiblelaunchpad.com/event/woodstock-va-trip-1-january-13-14-2024/
LOCATION:Comfort Inn\, 1011 Motel Drive\, Woodstock\, 22664\, United States
CATEGORIES:2024 Classes,2024 Hands-On Training,2024 TRIP Level 1 Hands-On,T.R.I.P L1
ATTACH;FMTTYPE=image/png:https://wreckmasterstaging.tangiblelaunchpad.com/wp-content/uploads/2022/08/TRIP-1-1-New-Size-1.png
ORGANIZER;CN="WreckMaster":MAILTO:info@wreckmaster.com
GEO:38.8715467;-78.5235347
X-APPLE-STRUCTURED-LOCATION;VALUE=URI;X-ADDRESS=Comfort Inn 1011 Motel Drive Woodstock 22664 United States;X-APPLE-RADIUS=500;X-TITLE=1011 Motel Drive:geo:-78.5235347,38.8715467
END:VEVENT
END:VCALENDAR