BEGIN:VCALENDAR
VERSION:2.0
PRODID:-//WreckMaster - ECPv6.15.20//NONSGML v1.0//EN
CALSCALE:GREGORIAN
METHOD:PUBLISH
X-ORIGINAL-URL:https://wreckmasterstaging.tangiblelaunchpad.com
X-WR-CALDESC:Events for WreckMaster
REFRESH-INTERVAL;VALUE=DURATION:PT1H
X-Robots-Tag:noindex
X-PUBLISHED-TTL:PT1H
BEGIN:VTIMEZONE
TZID:America/Toronto
BEGIN:DAYLIGHT
TZOFFSETFROM:-0500
TZOFFSETTO:-0400
TZNAME:EDT
DTSTART:20230312T070000
END:DAYLIGHT
BEGIN:STANDARD
TZOFFSETFROM:-0400
TZOFFSETTO:-0500
TZNAME:EST
DTSTART:20231105T060000
END:STANDARD
BEGIN:DAYLIGHT
TZOFFSETFROM:-0500
TZOFFSETTO:-0400
TZNAME:EDT
DTSTART:20240310T070000
END:DAYLIGHT
BEGIN:STANDARD
TZOFFSETFROM:-0400
TZOFFSETTO:-0500
TZNAME:EST
DTSTART:20241103T060000
END:STANDARD
BEGIN:DAYLIGHT
TZOFFSETFROM:-0500
TZOFFSETTO:-0400
TZNAME:EDT
DTSTART:20250309T070000
END:DAYLIGHT
BEGIN:STANDARD
TZOFFSETFROM:-0400
TZOFFSETTO:-0500
TZNAME:EST
DTSTART:20251102T060000
END:STANDARD
END:VTIMEZONE
BEGIN:VEVENT
DTSTART;TZID=America/Toronto:20240410T080000
DTEND;TZID=America/Toronto:20240411T170000
DTSTAMP:20260421T161255
CREATED:20231207T171013Z
LAST-MODIFIED:20240423T161719Z
UID:10000405-1712736000-1712854800@wreckmasterstaging.tangiblelaunchpad.com
SUMMARY:Saddlebrook NJ April 10-11 2024 16 Hours (2 Day) In House
DESCRIPTION:
URL:https://wreckmasterstaging.tangiblelaunchpad.com/event/saddlebrook-nj-april-10-11-2024-16-hours-2-day-in-house/
LOCATION:Five Star Towing\, 296 Midland Ave\, Saddlebrook\, NJ\, 07663\, United States
CATEGORIES:IN-HOUSE
ORGANIZER;CN="WreckMaster":MAILTO:info@wreckmaster.com
GEO:40.8866168;-74.1017204
X-APPLE-STRUCTURED-LOCATION;VALUE=URI;X-ADDRESS=Five Star Towing 296 Midland Ave Saddlebrook NJ 07663 United States;X-APPLE-RADIUS=500;X-TITLE=296 Midland Ave:geo:-74.1017204,40.8866168
END:VEVENT
BEGIN:VEVENT
DTSTART;TZID=America/Toronto:20240407T080000
DTEND;TZID=America/Toronto:20240407T170000
DTSTAMP:20260421T161255
CREATED:20240403T140404Z
LAST-MODIFIED:20240412T153334Z
UID:10000470-1712476800-1712509200@wreckmasterstaging.tangiblelaunchpad.com
SUMMARY:Conshohocken PA 8 Hours (1 Day) April 7 2024 In House
DESCRIPTION:
URL:https://wreckmasterstaging.tangiblelaunchpad.com/event/conshohocken-pa-8-hours-1-day-april-7-2024-in-house-2/
LOCATION:EVB Service Center Inc.\, 1608 Butler Pike\, Conshohocken\, PA\, 19428\, United States
CATEGORIES:IN-HOUSE
ORGANIZER;CN="WreckMaster":MAILTO:info@wreckmaster.com
GEO:40.0879647;-75.2929971
X-APPLE-STRUCTURED-LOCATION;VALUE=URI;X-ADDRESS=EVB Service Center Inc. 1608 Butler Pike Conshohocken PA 19428 United States;X-APPLE-RADIUS=500;X-TITLE=1608 Butler Pike:geo:-75.2929971,40.0879647
END:VEVENT
BEGIN:VEVENT
DTSTART;TZID=America/Toronto:20240406T080000
DTEND;TZID=America/Toronto:20240406T170000
DTSTAMP:20260421T161255
CREATED:20240403T135405Z
LAST-MODIFIED:20240412T153340Z
UID:10000469-1712390400-1712422800@wreckmasterstaging.tangiblelaunchpad.com
SUMMARY:Conshohocken PA 8 Hours (1 Day) April 6 In House
DESCRIPTION:
URL:https://wreckmasterstaging.tangiblelaunchpad.com/event/conshohocken-pa-8-hours-1-day-april-6-in-house/
LOCATION:EVB Service Center Inc.\, 1608 Butler Pike\, Conshohocken\, PA\, 19428\, United States
CATEGORIES:IN-HOUSE
ORGANIZER;CN="WreckMaster":MAILTO:info@wreckmaster.com
GEO:40.0879647;-75.2929971
X-APPLE-STRUCTURED-LOCATION;VALUE=URI;X-ADDRESS=EVB Service Center Inc. 1608 Butler Pike Conshohocken PA 19428 United States;X-APPLE-RADIUS=500;X-TITLE=1608 Butler Pike:geo:-75.2929971,40.0879647
END:VEVENT
BEGIN:VEVENT
DTSTART;TZID=America/Toronto:20240404T080000
DTEND;TZID=America/Toronto:20240405T170000
DTSTAMP:20260421T161255
CREATED:20240110T154254Z
LAST-MODIFIED:20240404T145055Z
UID:10000429-1712217600-1712336400@wreckmasterstaging.tangiblelaunchpad.com
SUMMARY:Mount Airy\, NC TRIP Level 2 April 4-5-2024 In-House (Private)
DESCRIPTION:
URL:https://wreckmasterstaging.tangiblelaunchpad.com/event/mount-airy-nc-trip-level-2-april-4-5-2024-in-house-private/
LOCATION:Ultimate Towing\, 1656 park Dr\, Mount Airy\, NC\, 27030\, United States
CATEGORIES:IN-HOUSE
ORGANIZER;CN="WreckMaster":MAILTO:info@wreckmaster.com
GEO:36.4720264;-80.6134087
X-APPLE-STRUCTURED-LOCATION;VALUE=URI;X-ADDRESS=Ultimate Towing 1656 park Dr Mount Airy NC 27030 United States;X-APPLE-RADIUS=500;X-TITLE=1656 park Dr:geo:-80.6134087,36.4720264
END:VEVENT
BEGIN:VEVENT
DTSTART;TZID=America/Toronto:20240402T080000
DTEND;TZID=America/Toronto:20240403T170000
DTSTAMP:20260421T161255
CREATED:20240110T154000Z
LAST-MODIFIED:20250811T191957Z
UID:10000428-1712044800-1712163600@wreckmasterstaging.tangiblelaunchpad.com
SUMMARY:Mount Airy NC TRIP Level 1 April 2-3-2024 In-House (Private)
DESCRIPTION:
URL:https://wreckmasterstaging.tangiblelaunchpad.com/event/mount-airy-nc-trip-level-1-april-2-3-2024-in-house-private/
LOCATION:Ultimate Towing\, 1656 park Dr\, Mount Airy\, NC\, 27030\, United States
CATEGORIES:IN-HOUSE
ORGANIZER;CN="WreckMaster":MAILTO:info@wreckmaster.com
GEO:36.4720264;-80.6134087
X-APPLE-STRUCTURED-LOCATION;VALUE=URI;X-ADDRESS=Ultimate Towing 1656 park Dr Mount Airy NC 27030 United States;X-APPLE-RADIUS=500;X-TITLE=1656 park Dr:geo:-80.6134087,36.4720264
END:VEVENT
BEGIN:VEVENT
DTSTART;TZID=America/Toronto:20240327T080000
DTEND;TZID=America/Toronto:20240328T170000
DTSTAMP:20260421T161255
CREATED:20240404T153545Z
LAST-MODIFIED:20240404T153545Z
UID:10000475-1711526400-1711645200@wreckmasterstaging.tangiblelaunchpad.com
SUMMARY:Baltimore MD 16 Hours (2 Day) March 27-28 2024 In-House (Private)
DESCRIPTION:
URL:https://wreckmasterstaging.tangiblelaunchpad.com/event/baltimore-md-16-hours-2-day-march-27-28-2024-in-house-private/
LOCATION:Maryland Transit Administration\, 1515 Washington Blvd\, Baltimore\, MD\, 21230\, United States
CATEGORIES:2024 In-house Training,IN-HOUSE
ORGANIZER;CN="WreckMaster":MAILTO:info@wreckmaster.com
GEO:39.2778483;-76.638435
X-APPLE-STRUCTURED-LOCATION;VALUE=URI;X-ADDRESS=Maryland Transit Administration 1515 Washington Blvd Baltimore MD 21230 United States;X-APPLE-RADIUS=500;X-TITLE=1515 Washington Blvd:geo:-76.638435,39.2778483
END:VEVENT
BEGIN:VEVENT
DTSTART;TZID=America/Toronto:20240321T080000
DTEND;TZID=America/Toronto:20240321T170000
DTSTAMP:20260421T161255
CREATED:20240125T151213Z
LAST-MODIFIED:20240129T203050Z
UID:10000437-1711008000-1711040400@wreckmasterstaging.tangiblelaunchpad.com
SUMMARY:Danville VA 3 Hour Seminar Level 1 March 21 2024 In-House (Private)
DESCRIPTION:
URL:https://wreckmasterstaging.tangiblelaunchpad.com/event/danville-va-3-hour-seminar-level-1-march-21-2024-in-house-private/
LOCATION:City of Danville VA\, Public Works\, 998 South Boston Rd\, Danville\, VA\, 24540\, United States
CATEGORIES:IN-HOUSE
ORGANIZER;CN="WreckMaster":MAILTO:info@wreckmaster.com
GEO:36.5847193;-79.3784332
X-APPLE-STRUCTURED-LOCATION;VALUE=URI;X-ADDRESS=City of Danville VA Public Works 998 South Boston Rd Danville VA 24540 United States;X-APPLE-RADIUS=500;X-TITLE=998 South Boston Rd:geo:-79.3784332,36.5847193
END:VEVENT
BEGIN:VEVENT
DTSTART;TZID=America/Toronto:20240319T080000
DTEND;TZID=America/Toronto:20240320T170000
DTSTAMP:20260421T161255
CREATED:20240321T153249Z
LAST-MODIFIED:20240325T145937Z
UID:10000463-1710835200-1710954000@wreckmasterstaging.tangiblelaunchpad.com
SUMMARY:Ft McMurray AB  2 day In House March 19-20 2024
DESCRIPTION:
URL:https://wreckmasterstaging.tangiblelaunchpad.com/event/ft-mcmurray-ab-2-hour-seminar-march-19-20-2024-in-house/
LOCATION:Suncor\, Robby’s Towing\, Fort McMurray\, Alberta\, T9H 0B8\, Canada
CATEGORIES:2024 Classes,2024 In-house Training,IN-HOUSE
ORGANIZER;CN="WreckMaster":MAILTO:info@wreckmaster.com
GEO:56.657728;-111.2730071
X-APPLE-STRUCTURED-LOCATION;VALUE=URI;X-ADDRESS=Suncor Robby’s Towing Fort McMurray Alberta T9H 0B8 Canada;X-APPLE-RADIUS=500;X-TITLE=Robby’s Towing:geo:-111.2730071,56.657728
END:VEVENT
BEGIN:VEVENT
DTSTART;TZID=America/Toronto:20240305T080000
DTEND;TZID=America/Toronto:20240306T170000
DTSTAMP:20260421T161255
CREATED:20231127T020923Z
LAST-MODIFIED:20240311T180535Z
UID:10000381-1709625600-1709744400@wreckmasterstaging.tangiblelaunchpad.com
SUMMARY:Marriottsville MD 16 Hours (2 Day) In House March 5-6 2024
DESCRIPTION:
URL:https://wreckmasterstaging.tangiblelaunchpad.com/event/marriottsville-md-16-hours-2-day-in-house-march-5-6-2024/
LOCATION:James N. Robey Public Safety Training Center\, 2200 Scott Wheeler Drive\, Marriottsville\, MD\, 21104\, United States
CATEGORIES:IN-HOUSE
ORGANIZER;CN="WreckMaster":MAILTO:info@wreckmaster.com
GEO:39.3069136;-76.9186149
X-APPLE-STRUCTURED-LOCATION;VALUE=URI;X-ADDRESS=James N. Robey Public Safety Training Center 2200 Scott Wheeler Drive Marriottsville MD 21104 United States;X-APPLE-RADIUS=500;X-TITLE=2200 Scott Wheeler Drive:geo:-76.9186149,39.3069136
END:VEVENT
BEGIN:VEVENT
DTSTART;TZID=America/Toronto:20240116T080000
DTEND;TZID=America/Toronto:20240116T170000
DTSTAMP:20260421T161255
CREATED:20240116T183318Z
LAST-MODIFIED:20240116T183318Z
UID:10000435-1705392000-1705424400@wreckmasterstaging.tangiblelaunchpad.com
SUMMARY:Danville VA Level 1 4 Hour Seminar March 21 2024 In-House (Private)
DESCRIPTION:
URL:https://wreckmasterstaging.tangiblelaunchpad.com/event/danville-va-level-1-4-hour-seminar-march-21-2024-in-house-private/
LOCATION:DC
CATEGORIES:IN-HOUSE
END:VEVENT
BEGIN:VEVENT
DTSTART;TZID=America/Toronto:20240106T080000
DTEND;TZID=America/Toronto:20240107T170000
DTSTAMP:20260421T161255
CREATED:20231221T170155Z
LAST-MODIFIED:20240105T183654Z
UID:10000409-1704528000-1704646800@wreckmasterstaging.tangiblelaunchpad.com
SUMMARY:Vankleek Hill ON January 6\, 2024 16 Hours (2 Day) In House
DESCRIPTION:
URL:https://wreckmasterstaging.tangiblelaunchpad.com/event/vankleek-hill-on-january-6-2024-16-hours-2-day-in-house/
LOCATION:Herb’s Towing\, 21160 Service Rd\, Vankleek Hill\, Ontario\, K0B 1R0\, Canada
CATEGORIES:IN-HOUSE
ORGANIZER;CN="WreckMaster":MAILTO:info@wreckmaster.com
GEO:45.4665727;-74.6780911
X-APPLE-STRUCTURED-LOCATION;VALUE=URI;X-ADDRESS=Herb’s Towing 21160 Service Rd Vankleek Hill Ontario K0B 1R0 Canada;X-APPLE-RADIUS=500;X-TITLE=21160 Service Rd:geo:-74.6780911,45.4665727
END:VEVENT
BEGIN:VEVENT
DTSTART;TZID=America/Toronto:20240106T080000
DTEND;TZID=America/Toronto:20240107T170000
DTSTAMP:20260421T161255
CREATED:20231023T144502Z
LAST-MODIFIED:20250811T192244Z
UID:10000352-1704528000-1704646800@wreckmasterstaging.tangiblelaunchpad.com
SUMMARY:Henderson NC TRIP Level 2 IN HOUSE Jan 6-7 2024
DESCRIPTION:
URL:https://wreckmasterstaging.tangiblelaunchpad.com/event/henderson-nc-trip-level-2-in-house-jan-6-7-2024/
LOCATION:Fred’s Towing\, 400 Industry Dr\, Henderson\, NC\, 27537\, United States
CATEGORIES:IN-HOUSE
ORGANIZER;CN="WreckMaster":MAILTO:info@wreckmaster.com
GEO:36.3441567;-78.437936
X-APPLE-STRUCTURED-LOCATION;VALUE=URI;X-ADDRESS=Fred’s Towing 400 Industry Dr Henderson NC 27537 United States;X-APPLE-RADIUS=500;X-TITLE=400 Industry Dr:geo:-78.437936,36.3441567
END:VEVENT
BEGIN:VEVENT
DTSTART;TZID=America/Toronto:20240104T080000
DTEND;TZID=America/Toronto:20240105T170000
DTSTAMP:20260421T161255
CREATED:20231023T144238Z
LAST-MODIFIED:20250811T192258Z
UID:10000351-1704355200-1704474000@wreckmasterstaging.tangiblelaunchpad.com
SUMMARY:Henderson NC TRIP Level 1 IN HOUSE Jan 4-5 2024
DESCRIPTION:
URL:https://wreckmasterstaging.tangiblelaunchpad.com/event/henderson-nc-trip-level-1-in-house-jan-4-5-2024/
LOCATION:Fred’s Towing\, 400 Industry Dr\, Henderson\, NC\, 27537\, United States
CATEGORIES:IN-HOUSE
ORGANIZER;CN="WreckMaster":MAILTO:info@wreckmaster.com
GEO:36.3441567;-78.437936
X-APPLE-STRUCTURED-LOCATION;VALUE=URI;X-ADDRESS=Fred’s Towing 400 Industry Dr Henderson NC 27537 United States;X-APPLE-RADIUS=500;X-TITLE=400 Industry Dr:geo:-78.437936,36.3441567
END:VEVENT
END:VCALENDAR