BEGIN:VCALENDAR
VERSION:2.0
PRODID:-//WreckMaster - ECPv6.15.20//NONSGML v1.0//EN
CALSCALE:GREGORIAN
METHOD:PUBLISH
X-ORIGINAL-URL:https://wreckmasterstaging.tangiblelaunchpad.com
X-WR-CALDESC:Events for WreckMaster
REFRESH-INTERVAL;VALUE=DURATION:PT1H
X-Robots-Tag:noindex
X-PUBLISHED-TTL:PT1H
BEGIN:VTIMEZONE
TZID:America/Toronto
BEGIN:DAYLIGHT
TZOFFSETFROM:-0500
TZOFFSETTO:-0400
TZNAME:EDT
DTSTART:20230312T070000
END:DAYLIGHT
BEGIN:STANDARD
TZOFFSETFROM:-0400
TZOFFSETTO:-0500
TZNAME:EST
DTSTART:20231105T060000
END:STANDARD
BEGIN:DAYLIGHT
TZOFFSETFROM:-0500
TZOFFSETTO:-0400
TZNAME:EDT
DTSTART:20240310T070000
END:DAYLIGHT
BEGIN:STANDARD
TZOFFSETFROM:-0400
TZOFFSETTO:-0500
TZNAME:EST
DTSTART:20241103T060000
END:STANDARD
BEGIN:DAYLIGHT
TZOFFSETFROM:-0500
TZOFFSETTO:-0400
TZNAME:EDT
DTSTART:20250309T070000
END:DAYLIGHT
BEGIN:STANDARD
TZOFFSETFROM:-0400
TZOFFSETTO:-0500
TZNAME:EST
DTSTART:20251102T060000
END:STANDARD
BEGIN:DAYLIGHT
TZOFFSETFROM:-0500
TZOFFSETTO:-0400
TZNAME:EDT
DTSTART:20260308T070000
END:DAYLIGHT
BEGIN:STANDARD
TZOFFSETFROM:-0400
TZOFFSETTO:-0500
TZNAME:EST
DTSTART:20261101T060000
END:STANDARD
END:VTIMEZONE
BEGIN:VEVENT
DTSTART;TZID=America/Toronto:20250823T080000
DTEND;TZID=America/Toronto:20250824T170000
DTSTAMP:20260421T064337
CREATED:20250815T144020Z
LAST-MODIFIED:20250815T144020Z
UID:10000769-1755936000-1756054800@wreckmasterstaging.tangiblelaunchpad.com
SUMMARY:Cambridge\, ON Level 4/5 IH August 23-24\, 2025
DESCRIPTION:
URL:https://wreckmasterstaging.tangiblelaunchpad.com/event/cambridge-on-level-4-5-ih-august-23-24-2025/
LOCATION:Abrams Cambridge\, 28 Corydon Pl\, Cambridge\, Ontario\, N1R 7L5\, Canada
CATEGORIES:2024 Classes,IN-HOUSE
ORGANIZER;CN="WreckMaster":MAILTO:info@wreckmaster.com
GEO:43.4004705;-80.3135554
X-APPLE-STRUCTURED-LOCATION;VALUE=URI;X-ADDRESS=Abrams Cambridge 28 Corydon Pl Cambridge Ontario N1R 7L5 Canada;X-APPLE-RADIUS=500;X-TITLE=28 Corydon Pl:geo:-80.3135554,43.4004705
END:VEVENT
BEGIN:VEVENT
DTSTART;TZID=America/Toronto:20250816T080000
DTEND;TZID=America/Toronto:20250817T170000
DTSTAMP:20260421T064337
CREATED:20250828T221533Z
LAST-MODIFIED:20250828T221533Z
UID:10000775-1755331200-1755450000@wreckmasterstaging.tangiblelaunchpad.com
SUMMARY:Campbells towing / TowMAX Class August 16-17\, 2025
DESCRIPTION:
URL:https://wreckmasterstaging.tangiblelaunchpad.com/event/campbells-towing-towmax-class-august-16-17-2025/
LOCATION:Waterloo Regional Municipality
CATEGORIES:2024 Classes,IN-HOUSE
ORGANIZER;CN="WreckMaster":MAILTO:info@wreckmaster.com
END:VEVENT
BEGIN:VEVENT
DTSTART;TZID=America/Toronto:20250812T080000
DTEND;TZID=America/Toronto:20250812T170000
DTSTAMP:20260421T064337
CREATED:20250708T130027Z
LAST-MODIFIED:20250708T130027Z
UID:10000744-1754985600-1755018000@wreckmasterstaging.tangiblelaunchpad.com
SUMMARY:Minneapolis\, MN Custom Level August 12\, 2025 In House
DESCRIPTION:
URL:https://wreckmasterstaging.tangiblelaunchpad.com/event/minneapolis-mn-custom-level-august-12-2025-in-house/
LOCATION:Delta Airlines\, 7500 Airline Dr bldg c 4211\, Minneapolis\, MN\, 55450\, United States
CATEGORIES:2024 Classes,IN-HOUSE
ORGANIZER;CN="WreckMaster":MAILTO:info@wreckmaster.com
GEO:44.8658884;-93.2255592
X-APPLE-STRUCTURED-LOCATION;VALUE=URI;X-ADDRESS=Delta Airlines 7500 Airline Dr bldg c 4211 Minneapolis MN 55450 United States;X-APPLE-RADIUS=500;X-TITLE=7500 Airline Dr bldg c 4211:geo:-93.2255592,44.8658884
END:VEVENT
BEGIN:VEVENT
DTSTART;TZID=America/Toronto:20250802T080000
DTEND;TZID=America/Toronto:20250803T170000
DTSTAMP:20260421T064337
CREATED:20250613T135348Z
LAST-MODIFIED:20250613T135348Z
UID:10000728-1754121600-1754240400@wreckmasterstaging.tangiblelaunchpad.com
SUMMARY:Sparrow Bush\, NY Level 2/3 IN House August 2-3\, 2025
DESCRIPTION:
URL:https://wreckmasterstaging.tangiblelaunchpad.com/event/sparrow-bush-ny-level-2-3-in-house-august-2-3-2025/
LOCATION:Hockenberry’s Garage\, 47 Upper Brook Rd\, Sparrow Bush\, NY\, 12780\, United States
CATEGORIES:2024 Classes,IN-HOUSE
ORGANIZER;CN="WreckMaster":MAILTO:info@wreckmaster.com
GEO:41.4038946;-74.7199946
X-APPLE-STRUCTURED-LOCATION;VALUE=URI;X-ADDRESS=Hockenberry’s Garage 47 Upper Brook Rd Sparrow Bush NY 12780 United States;X-APPLE-RADIUS=500;X-TITLE=47 Upper Brook Rd:geo:-74.7199946,41.4038946
END:VEVENT
BEGIN:VEVENT
DTSTART;TZID=America/Toronto:20250723T080000
DTEND;TZID=America/Toronto:20250724T170000
DTSTAMP:20260421T064337
CREATED:20250624T172918Z
LAST-MODIFIED:20250703T184830Z
UID:10000739-1753257600-1753376400@wreckmasterstaging.tangiblelaunchpad.com
SUMMARY:Cleveland\, Ohio 2 Day In-House July 23-24 2025
DESCRIPTION:
URL:https://wreckmasterstaging.tangiblelaunchpad.com/event/cleveland-ohio-trip-level-1-in-house-july-23-24-2025/
LOCATION:City of Cleveland\, 5601 Carnegie Ave\, Cleveland\, OH\, 44103\, United States
CATEGORIES:2024 Classes,IN-HOUSE
ORGANIZER;CN="WreckMaster":MAILTO:info@wreckmaster.com
GEO:41.5024385;-81.6512812
X-APPLE-STRUCTURED-LOCATION;VALUE=URI;X-ADDRESS=City of Cleveland 5601 Carnegie Ave Cleveland OH 44103 United States;X-APPLE-RADIUS=500;X-TITLE=5601 Carnegie Ave:geo:-81.6512812,41.5024385
END:VEVENT
BEGIN:VEVENT
DTSTART;TZID=America/Toronto:20250719T080000
DTEND;TZID=America/Toronto:20250720T170000
DTSTAMP:20260421T064337
CREATED:20250813T142019Z
LAST-MODIFIED:20250813T142019Z
UID:10000768-1752912000-1753030800@wreckmasterstaging.tangiblelaunchpad.com
SUMMARY:Cambridge\, ON Level 2/3 IH July 19-20\, 2025
DESCRIPTION:
URL:https://wreckmasterstaging.tangiblelaunchpad.com/event/cambridge-on-level-2-3-ih-july-19-20-2025/
LOCATION:Abrams Towing\, Corydon Place\, Cambridge\, Ontario\, N1R 7L5\, Canada
CATEGORIES:2024 Classes,IN-HOUSE
ORGANIZER;CN="WreckMaster":MAILTO:info@wreckmaster.com
GEO:43.4004705;-80.3135554
X-APPLE-STRUCTURED-LOCATION;VALUE=URI;X-ADDRESS=Abrams Towing Corydon Place Cambridge Ontario N1R 7L5 Canada;X-APPLE-RADIUS=500;X-TITLE=Corydon Place:geo:-80.3135554,43.4004705
END:VEVENT
BEGIN:VEVENT
DTSTART;TZID=America/Toronto:20250715T080000
DTEND;TZID=America/Toronto:20250716T170000
DTSTAMP:20260421T064337
CREATED:20250708T125643Z
LAST-MODIFIED:20250708T125643Z
UID:10000743-1752566400-1752685200@wreckmasterstaging.tangiblelaunchpad.com
SUMMARY:San Francisco\, CA Custom Level July 15-16\, 2025 In House
DESCRIPTION:
URL:https://wreckmasterstaging.tangiblelaunchpad.com/event/san-francisco-ca-custom-level-july-15-16-2025-in-house/
LOCATION:United Airlines\, 642 West Cargo Rd\, San Fransisco\, CA\, 94128\, United States
CATEGORIES:2024 Classes,IN-HOUSE
ORGANIZER;CN="WreckMaster":MAILTO:info@wreckmaster.com
GEO:37.6230938;-122.3953482
X-APPLE-STRUCTURED-LOCATION;VALUE=URI;X-ADDRESS=United Airlines 642 West Cargo Rd San Fransisco CA 94128 United States;X-APPLE-RADIUS=500;X-TITLE=642 West Cargo Rd:geo:-122.3953482,37.6230938
END:VEVENT
BEGIN:VEVENT
DTSTART;TZID=America/Toronto:20250626T080000
DTEND;TZID=America/Toronto:20250627T170000
DTSTAMP:20260421T064337
CREATED:20250718T001126Z
LAST-MODIFIED:20250919T185334Z
UID:10000750-1750924800-1751043600@wreckmasterstaging.tangiblelaunchpad.com
SUMMARY:Mississauga\, ON Level 6/7 June 26-27\, 2025 In-House
DESCRIPTION:
URL:https://wreckmasterstaging.tangiblelaunchpad.com/event/mississauga-on-level-6-7-june-26-27-2025-in-house/
LOCATION:Fellows Towing\, 1625 Shawson Dr\, Mississauga\, Ontario\, L4W 1T7\, Canada
CATEGORIES:6/7 Hands-On,IN-HOUSE
ORGANIZER;CN="WreckMaster":MAILTO:info@wreckmaster.com
GEO:43.6556134;-79.6410667
X-APPLE-STRUCTURED-LOCATION;VALUE=URI;X-ADDRESS=Fellows Towing 1625 Shawson Dr Mississauga Ontario L4W 1T7 Canada;X-APPLE-RADIUS=500;X-TITLE=1625 Shawson Dr:geo:-79.6410667,43.6556134
END:VEVENT
BEGIN:VEVENT
DTSTART;TZID=America/Toronto:20250623T080000
DTEND;TZID=America/Toronto:20250624T170000
DTSTAMP:20260421T064337
CREATED:20250603T151338Z
LAST-MODIFIED:20250603T151338Z
UID:10000723-1750665600-1750784400@wreckmasterstaging.tangiblelaunchpad.com
SUMMARY:Ashton\, ON Level 2/3 June 23-24\, 2025 In-House
DESCRIPTION:
URL:https://wreckmasterstaging.tangiblelaunchpad.com/event/ashton-on-level-2-3-june-23-24-2025-in-house/
LOCATION:Dwyer Hill Training Center (Veh Maint)\, 3153 Dwyer Hill Rd\, Ashton\, Ontario\, K0A 1B0\, Canada
CATEGORIES:2024 Classes,IN-HOUSE
ORGANIZER;CN="WreckMaster":MAILTO:info@wreckmaster.com
GEO:45.1347684;-75.9533142
X-APPLE-STRUCTURED-LOCATION;VALUE=URI;X-ADDRESS=Dwyer Hill Training Center (Veh Maint) 3153 Dwyer Hill Rd Ashton Ontario K0A 1B0 Canada;X-APPLE-RADIUS=500;X-TITLE=3153 Dwyer Hill Rd:geo:-75.9533142,45.1347684
END:VEVENT
BEGIN:VEVENT
DTSTART;TZID=America/Toronto:20250621T080000
DTEND;TZID=America/Toronto:20250622T170000
DTSTAMP:20260421T064337
CREATED:20250604T165711Z
LAST-MODIFIED:20250604T165957Z
UID:10000726-1750492800-1750611600@wreckmasterstaging.tangiblelaunchpad.com
SUMMARY:Cheyenne WY Rotator In House June 21-22\, 2025
DESCRIPTION:
URL:https://wreckmasterstaging.tangiblelaunchpad.com/event/cheyenne-wy-rotator-june-21-22-2025/
LOCATION:F.E. Warren AFB\, 7400 Saber Rd\, Bldg 1270\, Warren\, WY\, 82005\, United States
CATEGORIES:2024 Classes,IN-HOUSE
ORGANIZER;CN="WreckMaster":MAILTO:info@wreckmaster.com
GEO:41.1454273;-104.8721002
X-APPLE-STRUCTURED-LOCATION;VALUE=URI;X-ADDRESS=F.E. Warren AFB 7400 Saber Rd Bldg 1270 Warren WY 82005 United States;X-APPLE-RADIUS=500;X-TITLE=7400 Saber Rd\, Bldg 1270:geo:-104.8721002,41.1454273
END:VEVENT
BEGIN:VEVENT
DTSTART;TZID=America/Toronto:20250616T080000
DTEND;TZID=America/Toronto:20250620T170000
DTSTAMP:20260421T064337
CREATED:20250604T165436Z
LAST-MODIFIED:20250604T165927Z
UID:10000725-1750060800-1750438800@wreckmasterstaging.tangiblelaunchpad.com
SUMMARY:Cheyenne WY Weeklong In House June 16-20\, 2025
DESCRIPTION:
URL:https://wreckmasterstaging.tangiblelaunchpad.com/event/cheyenne-wy-weeklong-june-16-20-2025/
LOCATION:F.E. Warren AFB\, 7400 Saber Rd\, Bldg 1270\, Warren\, WY\, 82005\, United States
CATEGORIES:2024 Classes,IN-HOUSE
ORGANIZER;CN="WreckMaster":MAILTO:info@wreckmaster.com
GEO:41.1454273;-104.8721002
X-APPLE-STRUCTURED-LOCATION;VALUE=URI;X-ADDRESS=F.E. Warren AFB 7400 Saber Rd Bldg 1270 Warren WY 82005 United States;X-APPLE-RADIUS=500;X-TITLE=7400 Saber Rd\, Bldg 1270:geo:-104.8721002,41.1454273
END:VEVENT
BEGIN:VEVENT
DTSTART;TZID=America/Toronto:20250607T080000
DTEND;TZID=America/Toronto:20250608T170000
DTSTAMP:20260421T064337
CREATED:20250603T151654Z
LAST-MODIFIED:20250718T005855Z
UID:10000724-1749283200-1749402000@wreckmasterstaging.tangiblelaunchpad.com
SUMMARY:Mississauga\, ON Level 6/7 June 7-8\, 2025 In-House
DESCRIPTION:
URL:https://wreckmasterstaging.tangiblelaunchpad.com/event/mississauga-on-level-6-7-june-7-8-2025-in-house/
LOCATION:Fellows Towing\, 1625 Shawson Dr\, Mississauga\, Ontario\, L4W 1T7\, Canada
CATEGORIES:2024 Classes,IN-HOUSE
ORGANIZER;CN="WreckMaster":MAILTO:info@wreckmaster.com
GEO:43.6556134;-79.6410667
X-APPLE-STRUCTURED-LOCATION;VALUE=URI;X-ADDRESS=Fellows Towing 1625 Shawson Dr Mississauga Ontario L4W 1T7 Canada;X-APPLE-RADIUS=500;X-TITLE=1625 Shawson Dr:geo:-79.6410667,43.6556134
END:VEVENT
BEGIN:VEVENT
DTSTART;TZID=America/Toronto:20250529T080000
DTEND;TZID=America/Toronto:20250530T170000
DTSTAMP:20260421T064337
CREATED:20250414T135429Z
LAST-MODIFIED:20250521T234855Z
UID:10000701-1748505600-1748624400@wreckmasterstaging.tangiblelaunchpad.com
SUMMARY:Lagrange\, Georgia T.R.I.P L1 In-House May 29-30 2025
DESCRIPTION:
URL:https://wreckmasterstaging.tangiblelaunchpad.com/event/lagrange-georgia-t-r-i-p-l1-in-house-may-29-30-2025/
LOCATION:Better way automotive towing LLC\, 2053 W Point Rd\, Lagrange\, GA\, 30240\, United States
CATEGORIES:2024 Classes,IN-HOUSE
ORGANIZER;CN="WreckMaster":MAILTO:info@wreckmaster.com
GEO:33.0266614;-85.0745218
X-APPLE-STRUCTURED-LOCATION;VALUE=URI;X-ADDRESS=Better way automotive towing LLC 2053 W Point Rd Lagrange GA 30240 United States;X-APPLE-RADIUS=500;X-TITLE=2053 W Point Rd:geo:-85.0745218,33.0266614
END:VEVENT
BEGIN:VEVENT
DTSTART;TZID=America/Toronto:20250527T080000
DTEND;TZID=America/Toronto:20250530T170000
DTSTAMP:20260421T064337
CREATED:20250408T155205Z
LAST-MODIFIED:20250408T155205Z
UID:10000697-1748332800-1748624400@wreckmasterstaging.tangiblelaunchpad.com
SUMMARY:Billings Montana Level 2/3 & 4/5 In-House May 27-30 2025
DESCRIPTION:
URL:https://wreckmasterstaging.tangiblelaunchpad.com/event/billings-montana-level-2-3-4-5-in-house-may-27-30-2025/
LOCATION:Hansers\, 430 South Billings Blvd\, Billings\, MT\, 59101\, United States
CATEGORIES:2024 Classes,IN-HOUSE
ORGANIZER;CN="WreckMaster":MAILTO:info@wreckmaster.com
GEO:45.7614898;-108.5363912
X-APPLE-STRUCTURED-LOCATION;VALUE=URI;X-ADDRESS=Hansers 430 South Billings Blvd Billings MT 59101 United States;X-APPLE-RADIUS=500;X-TITLE=430 South Billings Blvd:geo:-108.5363912,45.7614898
END:VEVENT
BEGIN:VEVENT
DTSTART;TZID=America/Toronto:20250522T080000
DTEND;TZID=America/Toronto:20250523T170000
DTSTAMP:20260421T064337
CREATED:20250331T140852Z
LAST-MODIFIED:20250331T141145Z
UID:10000695-1747900800-1748019600@wreckmasterstaging.tangiblelaunchpad.com
SUMMARY:Baltimore MD Level 2/3 In-House May 22-23\, 2025
DESCRIPTION:
URL:https://wreckmasterstaging.tangiblelaunchpad.com/event/baltimore-md-level-2-3-in-house-may-22-23-2025/
LOCATION:Baltimore Department of General Services\, East Biddle Street\, Baltimore\, MD\, 21213\, United States
CATEGORIES:2024 Classes,IN-HOUSE
ORGANIZER;CN="WreckMaster":MAILTO:info@wreckmaster.com
GEO:39.3062186;-76.5662027
X-APPLE-STRUCTURED-LOCATION;VALUE=URI;X-ADDRESS=Baltimore Department of General Services East Biddle Street Baltimore MD 21213 United States;X-APPLE-RADIUS=500;X-TITLE=East Biddle Street:geo:-76.5662027,39.3062186
END:VEVENT
BEGIN:VEVENT
DTSTART;TZID=America/Toronto:20250521T080000
DTEND;TZID=America/Toronto:20250522T170000
DTSTAMP:20260421T064337
CREATED:20250320T140742Z
LAST-MODIFIED:20250527T160805Z
UID:10000682-1747814400-1747933200@wreckmasterstaging.tangiblelaunchpad.com
SUMMARY:Surrey\, BC Level 2/3 In-House May 21-22\, 2025
DESCRIPTION:
URL:https://wreckmasterstaging.tangiblelaunchpad.com/event/surrey-bc-level-2-3-in-house-may-21-22-2025-2/
LOCATION:Mainroad Lower Mainland Contracting LP 17474-56 Avenue Surrey V3S 1C3 BC Canada\, 17474-56 Avenue\, Surrey\, British Columbia\, V3S 1C3\, Canada
CATEGORIES:2024 Classes,IN-HOUSE
ORGANIZER;CN="WreckMaster":MAILTO:info@wreckmaster.com
GEO:49.1034544;-122.7387828
X-APPLE-STRUCTURED-LOCATION;VALUE=URI;X-ADDRESS=Mainroad Lower Mainland Contracting LP 17474-56 Avenue Surrey V3S 1C3 BC Canada 17474-56 Avenue Surrey British Columbia V3S 1C3 Canada;X-APPLE-RADIUS=500;X-TITLE=17474-56 Avenue:geo:-122.7387828,49.1034544
END:VEVENT
BEGIN:VEVENT
DTSTART;TZID=America/Toronto:20250519T080000
DTEND;TZID=America/Toronto:20250520T170000
DTSTAMP:20260421T064337
CREATED:20250331T140443Z
LAST-MODIFIED:20250331T140443Z
UID:10000694-1747641600-1747760400@wreckmasterstaging.tangiblelaunchpad.com
SUMMARY:Baltimore MD Level 2/3 In-House May 19-20\, 2025
DESCRIPTION:
URL:https://wreckmasterstaging.tangiblelaunchpad.com/event/baltimore-md-level-2-3-in-house-may-19-20-2025/
LOCATION:Baltimore Department of General Services\, East Biddle Street\, Baltimore\, MD\, 21213\, United States
CATEGORIES:2024 Classes,IN-HOUSE
ORGANIZER;CN="WreckMaster":MAILTO:info@wreckmaster.com
GEO:39.3062186;-76.5662027
X-APPLE-STRUCTURED-LOCATION;VALUE=URI;X-ADDRESS=Baltimore Department of General Services East Biddle Street Baltimore MD 21213 United States;X-APPLE-RADIUS=500;X-TITLE=East Biddle Street:geo:-76.5662027,39.3062186
END:VEVENT
BEGIN:VEVENT
DTSTART;TZID=America/Toronto:20250505T080000
DTEND;TZID=America/Toronto:20250506T170000
DTSTAMP:20260421T064337
CREATED:20250318T143026Z
LAST-MODIFIED:20250505T172044Z
UID:10000672-1746432000-1746550800@wreckmasterstaging.tangiblelaunchpad.com
SUMMARY:Ringgold\, GA TRIP Level 2 In-House May 5-6\, 2025
DESCRIPTION:
URL:https://wreckmasterstaging.tangiblelaunchpad.com/event/ringgold-ga-trip-level-2-in-house-may-5-6-2025/
LOCATION:Doug Yates Towing\, 25 Wagon Wheel Rd\, Ringgold\, GA\, 307636\, United States
CATEGORIES:2024 Classes,IN-HOUSE
ORGANIZER;CN="WreckMaster":MAILTO:info@wreckmaster.com
GEO:34.9132211;-85.1446715
X-APPLE-STRUCTURED-LOCATION;VALUE=URI;X-ADDRESS=Doug Yates Towing 25 Wagon Wheel Rd Ringgold GA 307636 United States;X-APPLE-RADIUS=500;X-TITLE=25 Wagon Wheel Rd:geo:-85.1446715,34.9132211
END:VEVENT
BEGIN:VEVENT
DTSTART;TZID=America/Toronto:20250503T080000
DTEND;TZID=America/Toronto:20250504T170000
DTSTAMP:20260421T064337
CREATED:20250318T142454Z
LAST-MODIFIED:20250505T171946Z
UID:10000671-1746259200-1746378000@wreckmasterstaging.tangiblelaunchpad.com
SUMMARY:Ringgold GA TRIP Level 1 In-House May 3-4\, 2025
DESCRIPTION:
URL:https://wreckmasterstaging.tangiblelaunchpad.com/event/ringgold-ga-trip-level-1-in-house-may-3-4-2025/
LOCATION:Doug Yates Towing\, 25 Wagon Wheel Rd\, Ringgold\, GA\, 307636\, United States
CATEGORIES:2024 Classes,IN-HOUSE
ORGANIZER;CN="WreckMaster":MAILTO:info@wreckmaster.com
GEO:34.9132211;-85.1446715
X-APPLE-STRUCTURED-LOCATION;VALUE=URI;X-ADDRESS=Doug Yates Towing 25 Wagon Wheel Rd Ringgold GA 307636 United States;X-APPLE-RADIUS=500;X-TITLE=25 Wagon Wheel Rd:geo:-85.1446715,34.9132211
END:VEVENT
BEGIN:VEVENT
DTSTART;TZID=America/Toronto:20250430T080000
DTEND;TZID=America/Toronto:20250430T170000
DTSTAMP:20260421T064337
CREATED:20250314T183834Z
LAST-MODIFIED:20251006T140217Z
UID:10000668-1746000000-1746032400@wreckmasterstaging.tangiblelaunchpad.com
SUMMARY:Stoneboro PA 8 Hour Hands On Winching Safety Course / In-House April 30 2025
DESCRIPTION:
URL:https://wreckmasterstaging.tangiblelaunchpad.com/event/stoneboro-pa-8-hour-hands-on-winching-safety-course-in-house-april-30-2025/
LOCATION:National Fuel Stoneboro PA\, 241 Henderson Station Rd\, Stoneboro\, PA\, 16153\, United States
CATEGORIES:2024 Classes,IN-HOUSE
ORGANIZER;CN="WreckMaster":MAILTO:info@wreckmaster.com
GEO:41.2954058;-79.9937484
X-APPLE-STRUCTURED-LOCATION;VALUE=URI;X-ADDRESS=National Fuel Stoneboro PA 241 Henderson Station Rd Stoneboro PA 16153 United States;X-APPLE-RADIUS=500;X-TITLE=241 Henderson Station Rd:geo:-79.9937484,41.2954058
END:VEVENT
BEGIN:VEVENT
DTSTART;TZID=America/Toronto:20250329T080000
DTEND;TZID=America/Toronto:20250330T170000
DTSTAMP:20260421T064337
CREATED:20250110T162449Z
LAST-MODIFIED:20250205T164351Z
UID:10000622-1743235200-1743354000@wreckmasterstaging.tangiblelaunchpad.com
SUMMARY:Mountain Top PA Level 2/3 In-House March 29-30 2025
DESCRIPTION:
URL:https://wreckmasterstaging.tangiblelaunchpad.com/event/mountain-top-pa-level-2-3-in-house-march-29-30-2025/
LOCATION:Ayers Towing Inc\, South Mountain Boulevard\, Mountain Top\, PA\, 18707\, United States
CATEGORIES:2024 Classes,IN-HOUSE
ORGANIZER;CN="WreckMaster":MAILTO:info@wreckmaster.com
GEO:41.1361219;-75.9025499
X-APPLE-STRUCTURED-LOCATION;VALUE=URI;X-ADDRESS=Ayers Towing Inc South Mountain Boulevard Mountain Top PA 18707 United States;X-APPLE-RADIUS=500;X-TITLE=South Mountain Boulevard:geo:-75.9025499,41.1361219
END:VEVENT
BEGIN:VEVENT
DTSTART;TZID=America/Toronto:20250327T080000
DTEND;TZID=America/Toronto:20250328T170000
DTSTAMP:20260421T064337
CREATED:20250205T150226Z
LAST-MODIFIED:20250328T180722Z
UID:10000637-1743062400-1743181200@wreckmasterstaging.tangiblelaunchpad.com
SUMMARY:Lagrange\, GA TRIP Level 1 IN House March 27-28 2025
DESCRIPTION:
URL:https://wreckmasterstaging.tangiblelaunchpad.com/event/lagrange-ga-trip-level-1-in-house-march-27-28-2025/
LOCATION:Alexander Towing\, Whitesville Road\, LaGrange\, GA\, 30240\, United States
CATEGORIES:2024 Classes,IN-HOUSE
ORGANIZER;CN="WreckMaster":MAILTO:info@wreckmaster.com
GEO:33.0025848;-85.030691
X-APPLE-STRUCTURED-LOCATION;VALUE=URI;X-ADDRESS=Alexander Towing Whitesville Road LaGrange GA 30240 United States;X-APPLE-RADIUS=500;X-TITLE=Whitesville Road:geo:-85.030691,33.0025848
END:VEVENT
BEGIN:VEVENT
DTSTART;TZID=America/Toronto:20250321T080000
DTEND;TZID=America/Toronto:20250321T170000
DTSTAMP:20260421T064337
CREATED:20250204T153908Z
LAST-MODIFIED:20250319T160227Z
UID:10000634-1742544000-1742576400@wreckmasterstaging.tangiblelaunchpad.com
SUMMARY:Newark\, DE 8 HR 1 Day Hands-On Training In House 14 Mar\, 2025
DESCRIPTION:
URL:https://wreckmasterstaging.tangiblelaunchpad.com/event/newark-de-4-hr-hands-on-training-in-house-14-mar-2025/
LOCATION:Waterloo Regional Municipality
CATEGORIES:2024 Classes,IN-HOUSE
ORGANIZER;CN="WreckMaster":MAILTO:info@wreckmaster.com
END:VEVENT
BEGIN:VEVENT
DTSTART;TZID=America/Toronto:20250318T080000
DTEND;TZID=America/Toronto:20250321T170000
DTSTAMP:20260421T064337
CREATED:20250224T164258Z
LAST-MODIFIED:20250224T164258Z
UID:10000645-1742284800-1742576400@wreckmasterstaging.tangiblelaunchpad.com
SUMMARY:Trenton\, ON 4 Day Hands-On Training In House March 18-21\, 2025
DESCRIPTION:
URL:https://wreckmasterstaging.tangiblelaunchpad.com/event/trenton-on-4-day-hands-on-training-in-house-march-18-21-2025/
LOCATION:CFB Trenton ON\, Winnipeg Avenue\, Quinte West\, Ontario\, K8V 5P8\, Canada
CATEGORIES:2024 Classes,IN-HOUSE
ORGANIZER;CN="WreckMaster":MAILTO:info@wreckmaster.com
GEO:44.1195942;-77.5482247
X-APPLE-STRUCTURED-LOCATION;VALUE=URI;X-ADDRESS=CFB Trenton ON Winnipeg Avenue Quinte West Ontario K8V 5P8 Canada;X-APPLE-RADIUS=500;X-TITLE=Winnipeg Avenue:geo:-77.5482247,44.1195942
END:VEVENT
BEGIN:VEVENT
DTSTART;TZID=America/Toronto:20250307T080000
DTEND;TZID=America/Toronto:20250307T170000
DTSTAMP:20260421T064337
CREATED:20250204T153555Z
LAST-MODIFIED:20250306T151856Z
UID:10000633-1741334400-1741366800@wreckmasterstaging.tangiblelaunchpad.com
SUMMARY:Atlantic City\, NJ 4HR Hands-On Training In House 7 Mar\, 2025
DESCRIPTION:
URL:https://wreckmasterstaging.tangiblelaunchpad.com/event/atlantic-city-nj-8-hours-1-day-in-house-7-mar-2025/
LOCATION:Waterloo Regional Municipality
CATEGORIES:2024 Classes,IN-HOUSE
ORGANIZER;CN="WreckMaster":MAILTO:info@wreckmaster.com
END:VEVENT
BEGIN:VEVENT
DTSTART;TZID=America/Toronto:20250214T080000
DTEND;TZID=America/Toronto:20250214T170000
DTSTAMP:20260421T064337
CREATED:20250204T151926Z
LAST-MODIFIED:20250219T154641Z
UID:10000632-1739520000-1739552400@wreckmasterstaging.tangiblelaunchpad.com
SUMMARY:Forestville\, MD 8 Hours (1 Day) In House 14 Feb\, 2025
DESCRIPTION:
URL:https://wreckmasterstaging.tangiblelaunchpad.com/event/forestville-md-8-hours-1-day-in-house-14-feb-2025/
LOCATION:Waterloo Regional Municipality
CATEGORIES:2024 Classes,IN-HOUSE
ORGANIZER;CN="WreckMaster":MAILTO:info@wreckmaster.com
END:VEVENT
BEGIN:VEVENT
DTSTART;TZID=America/Toronto:20250207T080000
DTEND;TZID=America/Toronto:20250207T170000
DTSTAMP:20260421T064337
CREATED:20250203T183848Z
LAST-MODIFIED:20250210T192328Z
UID:10000630-1738915200-1738947600@wreckmasterstaging.tangiblelaunchpad.com
SUMMARY:Salisbury MD 8 Hours (1 Day) In House 7 Feb 2025
DESCRIPTION:
URL:https://wreckmasterstaging.tangiblelaunchpad.com/event/salisbury-md-8-hours-1-day-in-house-7-feb-2025/
LOCATION:Waterloo Regional Municipality
CATEGORIES:2024 Classes,IN-HOUSE
ORGANIZER;CN="WreckMaster":MAILTO:info@wreckmaster.com
END:VEVENT
BEGIN:VEVENT
DTSTART;TZID=America/Toronto:20250115T080000
DTEND;TZID=America/Toronto:20250115T170000
DTSTAMP:20260421T064337
CREATED:20241213T172337Z
LAST-MODIFIED:20250203T175733Z
UID:10000600-1736928000-1736960400@wreckmasterstaging.tangiblelaunchpad.com
SUMMARY:Buffalo NY In-House Winching Course 1/15/2025
DESCRIPTION:
URL:https://wreckmasterstaging.tangiblelaunchpad.com/event/buffalo-ny-winching-course-1-15-2025/
LOCATION:365 Mineral Springs Rd\, Buffalo\, NY\, 14210\, United States
CATEGORIES:2024 Classes,IN-HOUSE
ORGANIZER;CN="WreckMaster":MAILTO:info@wreckmaster.com
GEO:42.8671413;-78.8297701
END:VEVENT
BEGIN:VEVENT
DTSTART;TZID=America/Toronto:20250108T080000
DTEND;TZID=America/Toronto:20250110T170000
DTSTAMP:20260421T064337
CREATED:20241219T193425Z
LAST-MODIFIED:20250520T124543Z
UID:10000603-1736323200-1736528400@wreckmasterstaging.tangiblelaunchpad.com
SUMMARY:Baltimore MD Heavy Duty Towing and Recovery In House Jan 8-10\, 2025
DESCRIPTION:
URL:https://wreckmasterstaging.tangiblelaunchpad.com/event/baltimore-md-heavy-duty-towing-and-recovery-jan-8-10-2025/
LOCATION:Maryland Transit Administration\, 1515 Washington Blvd\, Baltimore\, MD\, 21230\, United States
CATEGORIES:IN-HOUSE
ORGANIZER;CN="WreckMaster":MAILTO:info@wreckmaster.com
GEO:39.2778483;-76.638435
X-APPLE-STRUCTURED-LOCATION;VALUE=URI;X-ADDRESS=Maryland Transit Administration 1515 Washington Blvd Baltimore MD 21230 United States;X-APPLE-RADIUS=500;X-TITLE=1515 Washington Blvd:geo:-76.638435,39.2778483
END:VEVENT
BEGIN:VEVENT
DTSTART;TZID=America/Toronto:20241214T080000
DTEND;TZID=America/Toronto:20241215T170000
DTSTAMP:20260421T064337
CREATED:20241114T164429Z
LAST-MODIFIED:20241114T164429Z
UID:10000578-1734163200-1734282000@wreckmasterstaging.tangiblelaunchpad.com
SUMMARY:Cumberland\, RI Level 2/3 In-House (Private) December 14-15 2024
DESCRIPTION:
URL:https://wreckmasterstaging.tangiblelaunchpad.com/event/cumberland-ri-level-2-3-in-house-private-december-14-15-2024/
LOCATION:S&D Auto & Truck LLC\, Whipple Street\, Cumberland\, RI\, 02864\, United States
CATEGORIES:2024 Classes,IN-HOUSE
ORGANIZER;CN="WreckMaster":MAILTO:info@wreckmaster.com
GEO:41.929464;-71.4206026
X-APPLE-STRUCTURED-LOCATION;VALUE=URI;X-ADDRESS=S&D Auto & Truck LLC Whipple Street Cumberland RI 02864 United States;X-APPLE-RADIUS=500;X-TITLE=Whipple Street:geo:-71.4206026,41.929464
END:VEVENT
END:VCALENDAR