BEGIN:VCALENDAR
VERSION:2.0
PRODID:-//WreckMaster - ECPv6.15.20//NONSGML v1.0//EN
CALSCALE:GREGORIAN
METHOD:PUBLISH
X-WR-CALNAME:WreckMaster
X-ORIGINAL-URL:https://wreckmasterstaging.tangiblelaunchpad.com
X-WR-CALDESC:Events for WreckMaster
REFRESH-INTERVAL;VALUE=DURATION:PT1H
X-Robots-Tag:noindex
X-PUBLISHED-TTL:PT1H
BEGIN:VTIMEZONE
TZID:America/Toronto
BEGIN:DAYLIGHT
TZOFFSETFROM:-0500
TZOFFSETTO:-0400
TZNAME:EDT
DTSTART:20330313T070000
END:DAYLIGHT
BEGIN:STANDARD
TZOFFSETFROM:-0400
TZOFFSETTO:-0500
TZNAME:EST
DTSTART:20331106T060000
END:STANDARD
BEGIN:DAYLIGHT
TZOFFSETFROM:-0500
TZOFFSETTO:-0400
TZNAME:EDT
DTSTART:20340312T070000
END:DAYLIGHT
BEGIN:STANDARD
TZOFFSETFROM:-0400
TZOFFSETTO:-0500
TZNAME:EST
DTSTART:20341105T060000
END:STANDARD
BEGIN:DAYLIGHT
TZOFFSETFROM:-0500
TZOFFSETTO:-0400
TZNAME:EDT
DTSTART:20350311T070000
END:DAYLIGHT
BEGIN:STANDARD
TZOFFSETFROM:-0400
TZOFFSETTO:-0500
TZNAME:EST
DTSTART:20351104T060000
END:STANDARD
END:VTIMEZONE
BEGIN:VEVENT
DTSTART;TZID=America/Toronto:20341216T080000
DTEND;TZID=America/Toronto:20341216T080000
DTSTAMP:20260421T045459
CREATED:20241114T164329Z
LAST-MODIFIED:20260318T072559Z
UID:10000579-2049868800-2049868800@wreckmasterstaging.tangiblelaunchpad.com
SUMMARY:FREE Introduction to T.R.I.P. 2
DESCRIPTION:This is a FREE online course. No purchase is necessary. Once registered\, you can proceed to the self-guided course and take at your convenience. \n 
URL:https://wreckmasterstaging.tangiblelaunchpad.com/event/free-introduction-to-t-r-i-p-2/
CATEGORIES:Free Intro
ATTACH;FMTTYPE=image/png:https://wreckmasterstaging.tangiblelaunchpad.com/wp-content/uploads/2024/11/INTRO-TO-TRIP2-BUTTON-S.png
END:VEVENT
BEGIN:VEVENT
DTSTART;TZID=America/Toronto:20341216T080000
DTEND;TZID=America/Toronto:20341216T170000
DTSTAMP:20260421T045459
CREATED:20241114T162844Z
LAST-MODIFIED:20250210T143932Z
UID:10000577-2049868800-2049901200@wreckmasterstaging.tangiblelaunchpad.com
SUMMARY:FREE Introduction to T.R.I.P. 1
DESCRIPTION:This is a FREE online course. No purchase is necessary. Once registered\, you can proceed to the self-guided course and take at your convenience.
URL:https://wreckmasterstaging.tangiblelaunchpad.com/event/free-introduction-to-t-r-i-p-1/
CATEGORIES:Free Intro
ATTACH;FMTTYPE=image/png:https://wreckmasterstaging.tangiblelaunchpad.com/wp-content/uploads/2024/11/INTRO-TO-TRIP1-BUTTON-S.png
END:VEVENT
END:VCALENDAR