BEGIN:VCALENDAR
VERSION:2.0
PRODID:-//WreckMaster - ECPv6.15.20//NONSGML v1.0//EN
CALSCALE:GREGORIAN
METHOD:PUBLISH
X-WR-CALNAME:WreckMaster
X-ORIGINAL-URL:https://wreckmasterstaging.tangiblelaunchpad.com
X-WR-CALDESC:Events for WreckMaster
REFRESH-INTERVAL;VALUE=DURATION:PT1H
X-Robots-Tag:noindex
X-PUBLISHED-TTL:PT1H
BEGIN:VTIMEZONE
TZID:America/Toronto
BEGIN:DAYLIGHT
TZOFFSETFROM:-0500
TZOFFSETTO:-0400
TZNAME:EDT
DTSTART:20240310T070000
END:DAYLIGHT
BEGIN:STANDARD
TZOFFSETFROM:-0400
TZOFFSETTO:-0500
TZNAME:EST
DTSTART:20241103T060000
END:STANDARD
BEGIN:DAYLIGHT
TZOFFSETFROM:-0500
TZOFFSETTO:-0400
TZNAME:EDT
DTSTART:20250309T070000
END:DAYLIGHT
BEGIN:STANDARD
TZOFFSETFROM:-0400
TZOFFSETTO:-0500
TZNAME:EST
DTSTART:20251102T060000
END:STANDARD
BEGIN:DAYLIGHT
TZOFFSETFROM:-0500
TZOFFSETTO:-0400
TZNAME:EDT
DTSTART:20260308T070000
END:DAYLIGHT
BEGIN:STANDARD
TZOFFSETFROM:-0400
TZOFFSETTO:-0500
TZNAME:EST
DTSTART:20261101T060000
END:STANDARD
BEGIN:DAYLIGHT
TZOFFSETFROM:-0500
TZOFFSETTO:-0400
TZNAME:EDT
DTSTART:20270314T070000
END:DAYLIGHT
BEGIN:STANDARD
TZOFFSETFROM:-0400
TZOFFSETTO:-0500
TZNAME:EST
DTSTART:20271107T060000
END:STANDARD
END:VTIMEZONE
BEGIN:VEVENT
DTSTART;TZID=America/Toronto:20250809T080000
DTEND;TZID=America/Toronto:20250810T170000
DTSTAMP:20260421T064306
CREATED:20250619T140657Z
LAST-MODIFIED:20250624T170328Z
UID:10000730-1754726400-1754845200@wreckmasterstaging.tangiblelaunchpad.com
SUMMARY:Schenectady\, NY Level 6/7 August 9-10\, 2025
DESCRIPTION:Learn the skills to safely and efficiently manage the most complicated scenarios\, recover the heaviest casualties and impress the most demanding teams on-scene. \nAre you the go-to operator for your company’s most difficult jobs? Are you the problem solver\, the one who gets it right the first time\, every time? Take Level 6/7: Heavy-Duty Applications and become that operator. \nUpon successful completion of the training evaluation\, attendees will receive a training certificate. \nIf you want your customers to say “how did they do that so fast?” and “we’re calling them again\,” take the Level 6/7: Heavy Duty Applications course. Your instructors did.
URL:https://wreckmasterstaging.tangiblelaunchpad.com/event/schenectady-ny-level-6-7-august-9-10-2025/
LOCATION:AC Towing and Recovery\, 103 Remsen St\, Rotterdam\, NY\, 12306\, United States
CATEGORIES:2024 Classes,6/7 Hands-On
ATTACH;FMTTYPE=image/png:https://wreckmasterstaging.tangiblelaunchpad.com/wp-content/uploads/2024/05/67-HANDS-ON-smaller.png
ORGANIZER;CN="WreckMaster":MAILTO:info@wreckmaster.com
GEO:42.7811649;-73.9793987
X-APPLE-STRUCTURED-LOCATION;VALUE=URI;X-ADDRESS=AC Towing and Recovery 103 Remsen St Rotterdam NY 12306 United States;X-APPLE-RADIUS=500;X-TITLE=103 Remsen St:geo:-73.9793987,42.7811649
END:VEVENT
BEGIN:VEVENT
DTSTART;TZID=America/Toronto:20250913T080000
DTEND;TZID=America/Toronto:20250914T170000
DTSTAMP:20260421T064306
CREATED:20250418T130640Z
LAST-MODIFIED:20250815T140511Z
UID:10000708-1757750400-1757869200@wreckmasterstaging.tangiblelaunchpad.com
SUMMARY:Portland\, OR Level 6/7 Sept. 13-14\, 2025
DESCRIPTION:Learn the skills to safely and efficiently manage the most complicated scenarios\, recover the heaviest casualties and impress the most demanding teams on-scene. \nAre you the go-to operator for your company’s most difficult jobs? Are you the problem solver\, the one who gets it right the first time\, every time? Take Level 6/7: Heavy-Duty Applications and become that operator. \nUpon successful completion of the training evaluation\, attendees will receive a training certificate. \nIf you want your customers to say “how did they do that so fast?” and “we’re calling them again\,” take the Level 6/7: Heavy Duty Applications course. Your instructors did.
URL:https://wreckmasterstaging.tangiblelaunchpad.com/event/portland-or-level-6-7-sept-12-13-2025/
LOCATION:Portland Fire Department Training Center\, 4800 NE122nd Ave\, Portland\, 97230\, United States
CATEGORIES:2024 Classes,6/7 Hands-On
ATTACH;FMTTYPE=image/png:https://wreckmasterstaging.tangiblelaunchpad.com/wp-content/uploads/2024/05/67-HANDS-ON-smaller.png
ORGANIZER;CN="WreckMaster":MAILTO:info@wreckmaster.com
GEO:45.5576509;-122.5369279
X-APPLE-STRUCTURED-LOCATION;VALUE=URI;X-ADDRESS=Portland Fire Department Training Center 4800 NE122nd Ave Portland 97230 United States;X-APPLE-RADIUS=500;X-TITLE=4800 NE122nd Ave:geo:-122.5369279,45.5576509
END:VEVENT
BEGIN:VEVENT
DTSTART;TZID=America/Toronto:20251004T080000
DTEND;TZID=America/Toronto:20251005T170000
DTSTAMP:20260421T064306
CREATED:20250905T181338Z
LAST-MODIFIED:20251017T151105Z
UID:10000784-1759564800-1759683600@wreckmasterstaging.tangiblelaunchpad.com
SUMMARY:Emmaus\, PA Level 6/7 October 4-5 2025
DESCRIPTION:Learn the skills to safely and efficiently manage the most complicated scenarios\, recover the heaviest casualties and impress the most demanding teams on-scene. \nAre you the go-to operator for your company’s most difficult jobs? Are you the problem solver\, the one who gets it right the first time\, every time? Take Level 6/7: Heavy-Duty Applications and become that operator. \nUpon successful completion of the training evaluation\, attendees will receive a training certificate. \nIf you want your customers to say “how did they do that so fast?” and “we’re calling them again\,” take the Level 6/7: Heavy Duty Applications course. Your instructors did.
URL:https://wreckmasterstaging.tangiblelaunchpad.com/event/emmaus-pa-level-6-7-october-4-5-2025/
LOCATION:Mechanics Plus Towing and Transport Inc\, 4701 Colebrook Ave\, Emmaus\, PA\, 18049\, United States
CATEGORIES:2024 Classes,6/7 Hands-On
ATTACH;FMTTYPE=image/png:https://wreckmasterstaging.tangiblelaunchpad.com/wp-content/uploads/2024/05/67-HANDS-ON-smaller.png
GEO:40.5216077;-75.524201
X-APPLE-STRUCTURED-LOCATION;VALUE=URI;X-ADDRESS=Mechanics Plus Towing and Transport Inc 4701 Colebrook Ave Emmaus PA 18049 United States;X-APPLE-RADIUS=500;X-TITLE=4701 Colebrook Ave:geo:-75.524201,40.5216077
END:VEVENT
BEGIN:VEVENT
DTSTART;TZID=America/Toronto:20251022T080000
DTEND;TZID=America/Toronto:20251023T170000
DTSTAMP:20260421T064306
CREATED:20250620T133843Z
LAST-MODIFIED:20251017T151326Z
UID:10000736-1761120000-1761238800@wreckmasterstaging.tangiblelaunchpad.com
SUMMARY:Madera CA Level 6/7 Oct 22-23 2025
DESCRIPTION:Learn the skills to safely and efficiently manage the most complicated scenarios\, recover the heaviest casualties and impress the most demanding teams on-scene. \nAre you the go-to operator for your company’s most difficult jobs? Are you the problem solver\, the one who gets it right the first time\, every time? Take Level 6/7: Heavy-Duty Applications and become that operator. \nUpon successful completion of the training evaluation\, attendees will receive a training certificate. \nIf you want your customers to say “how did they do that so fast?” and “we’re calling them again\,” take the Level 6/7: Heavy Duty Applications course. Your instructors did.
URL:https://wreckmasterstaging.tangiblelaunchpad.com/event/madera-ca-level-6-7-oct-22-23-2025/
LOCATION:2290 Market Place Drive\, 2290 Market Place Drive\, Madera\, CA\, 93637\, United States
CATEGORIES:2024 Classes,6/7 Hands-On
ATTACH;FMTTYPE=image/png:https://wreckmasterstaging.tangiblelaunchpad.com/wp-content/uploads/2024/05/67-HANDS-ON-smaller.png
ORGANIZER;CN="WreckMaster":MAILTO:info@wreckmaster.com
GEO:36.9811444;-120.0872536
X-APPLE-STRUCTURED-LOCATION;VALUE=URI;X-ADDRESS=2290 Market Place Drive 2290 Market Place Drive Madera CA 93637 United States;X-APPLE-RADIUS=500;X-TITLE=2290 Market Place Drive:geo:-120.0872536,36.9811444
END:VEVENT
BEGIN:VEVENT
DTSTART;TZID=America/Toronto:20251031T080000
DTEND;TZID=America/Toronto:20251102T170000
DTSTAMP:20260421T064306
CREATED:20251029T212552Z
LAST-MODIFIED:20251029T212717Z
UID:10000825-1761897600-1762102800@wreckmasterstaging.tangiblelaunchpad.com
SUMMARY:Drummondville\, QC Level 6/7 Oct 31-Nov 2\, 2025
DESCRIPTION:
URL:https://wreckmasterstaging.tangiblelaunchpad.com/event/drummondville-qc-level-6-7-oct-31-nov-2-2025/
LOCATION:APDQ 1472 rue Jean-B.-Michaud Drummondville J2C 7V3 QC\, 1472 rue Jean-B.-Michaud\, Drummondville\, Quebec City\, J2C 7V3\, Canada
CATEGORIES:6/7 Hands-On
ATTACH;FMTTYPE=image/png:https://wreckmasterstaging.tangiblelaunchpad.com/wp-content/uploads/2025/10/67-HANDS-ON-smaller.png
GEO:45.8802909;-72.4842824
X-APPLE-STRUCTURED-LOCATION;VALUE=URI;X-ADDRESS=APDQ 1472 rue Jean-B.-Michaud Drummondville J2C 7V3 QC 1472 rue Jean-B.-Michaud Drummondville Quebec City J2C 7V3 Canada;X-APPLE-RADIUS=500;X-TITLE=1472 rue Jean-B.-Michaud:geo:-72.4842824,45.8802909
END:VEVENT
BEGIN:VEVENT
DTSTART;TZID=America/Toronto:20251101T080000
DTEND;TZID=America/Toronto:20251102T170000
DTSTAMP:20260421T064306
CREATED:20250919T144514Z
LAST-MODIFIED:20251017T180607Z
UID:10000796-1761984000-1762102800@wreckmasterstaging.tangiblelaunchpad.com
SUMMARY:Birmingham\, AL Level 6/7 November 1-2 2025
DESCRIPTION:Learn the skills to safely and efficiently manage the most complicated scenarios\, recover the heaviest casualties and impress the most demanding teams on-scene. \nAre you the go-to operator for your company’s most difficult jobs? Are you the problem solver\, the one who gets it right the first time\, every time? Take Level 6/7: Heavy-Duty Applications and become that operator. \nUpon successful completion of the training evaluation\, attendees will receive a training certificate. \nIf you want your customers to say “how did they do that so fast?” and “we’re calling them again\,” take the Level 6/7: Heavy Duty Applications course. Your instructors did.
URL:https://wreckmasterstaging.tangiblelaunchpad.com/event/birmingham-al-level-6-7-november-1-2-2025/
LOCATION:Weil Wrecker Service\, 3400 2nd Ave S\, Birmingham\, AL\, 35222\, United States
CATEGORIES:2024 Classes,6/7 Hands-On
ATTACH;FMTTYPE=image/png:https://wreckmasterstaging.tangiblelaunchpad.com/wp-content/uploads/2024/05/67-HANDS-ON-smaller.png
ORGANIZER;CN="WreckMaster":MAILTO:info@wreckmaster.com
GEO:33.5204903;-86.7840332
X-APPLE-STRUCTURED-LOCATION;VALUE=URI;X-ADDRESS=Weil Wrecker Service 3400 2nd Ave S Birmingham AL 35222 United States;X-APPLE-RADIUS=500;X-TITLE=3400 2nd Ave S:geo:-86.7840332,33.5204903
END:VEVENT
BEGIN:VEVENT
DTSTART;TZID=America/Toronto:20251108T080000
DTEND;TZID=America/Toronto:20251109T170000
DTSTAMP:20260421T064306
CREATED:20250801T144114Z
LAST-MODIFIED:20251017T180703Z
UID:10000758-1762588800-1762707600@wreckmasterstaging.tangiblelaunchpad.com
SUMMARY:Cranbury NJ Level 6/7 Nov 8-9 2025
DESCRIPTION:Learn the skills to safely and efficiently manage the most complicated scenarios\, recover the heaviest casualties and impress the most demanding teams on-scene. \nAre you the go-to operator for your company’s most difficult jobs? Are you the problem solver\, the one who gets it right the first time\, every time? Take Level 6/7: Heavy-Duty Applications and become that operator. \nUpon successful completion of the training evaluation\, attendees will receive a training certificate. \nIf you want your customers to say “how did they do that so fast?” and “we’re calling them again\,” take the Level 6/7: Heavy Duty Applications course. Your instructors did.
URL:https://wreckmasterstaging.tangiblelaunchpad.com/event/cranbury-nj-level-6-7-nov-8-9-2025/
LOCATION:Cranbury service center\, 44 Hightstown-Cranbury Station Rd\, Cranbury\, NJ\, 08512\, United States
CATEGORIES:2024 Classes,6/7 Hands-On
ATTACH;FMTTYPE=image/png:https://wreckmasterstaging.tangiblelaunchpad.com/wp-content/uploads/2024/05/67-HANDS-ON-smaller.png
ORGANIZER;CN="WreckMaster":MAILTO:info@wreckmaster.com
GEO:40.2843533;-74.5091348
X-APPLE-STRUCTURED-LOCATION;VALUE=URI;X-ADDRESS=Cranbury service center 44 Hightstown-Cranbury Station Rd Cranbury NJ 08512 United States;X-APPLE-RADIUS=500;X-TITLE=44 Hightstown-Cranbury Station Rd:geo:-74.5091348,40.2843533
END:VEVENT
BEGIN:VEVENT
DTSTART;TZID=America/Toronto:20251206T080000
DTEND;TZID=America/Toronto:20251207T170000
DTSTAMP:20260421T064306
CREATED:20250811T151502Z
LAST-MODIFIED:20251017T180840Z
UID:10000760-1765008000-1765126800@wreckmasterstaging.tangiblelaunchpad.com
SUMMARY:Malvern\, PA Level 6/7 December 6-7 2025
DESCRIPTION:Learn the skills to safely and efficiently manage the most complicated scenarios\, recover the heaviest casualties and impress the most demanding teams on-scene. \nAre you the go-to operator for your company’s most difficult jobs? Are you the problem solver\, the one who gets it right the first time\, every time? Take Level 6/7: Heavy-Duty Applications and become that operator. \nUpon successful completion of the training evaluation\, attendees will receive a training certificate. \nIf you want your customers to say “how did they do that so fast?” and “we’re calling them again\,” take the Level 6/7: Heavy Duty Applications course. Your instructors did.
URL:https://wreckmasterstaging.tangiblelaunchpad.com/event/melvin-pa-level-6-7-december-6-7-2025/
LOCATION:Abel Brothers Towing\, 3245 Phoenixville Pike. #9600\, Malvern\, PA\, 19355\, United States
CATEGORIES:2024 Classes,6/7 Hands-On
ATTACH;FMTTYPE=image/png:https://wreckmasterstaging.tangiblelaunchpad.com/wp-content/uploads/2024/05/67-HANDS-ON-smaller.png
ORGANIZER;CN="WreckMaster":MAILTO:info@wreckmaster.com
GEO:40.0762351;-75.5453755
X-APPLE-STRUCTURED-LOCATION;VALUE=URI;X-ADDRESS=Abel Brothers Towing 3245 Phoenixville Pike. #9600 Malvern PA 19355 United States;X-APPLE-RADIUS=500;X-TITLE=3245 Phoenixville Pike. #9600:geo:-75.5453755,40.0762351
END:VEVENT
BEGIN:VEVENT
DTSTART;TZID=America/Toronto:20260115T000000
DTEND;TZID=America/Toronto:20260116T000000
DTSTAMP:20260421T064306
CREATED:20260115T152836Z
LAST-MODIFIED:20260115T152836Z
UID:10000869-1768435200-1768521600@wreckmasterstaging.tangiblelaunchpad.com
SUMMARY:Testing Event Email 3
DESCRIPTION:Testing Event Email 3Testing Event Email 3
URL:https://wreckmasterstaging.tangiblelaunchpad.com/event/testing-event-email-3/
LOCATION:Sanford Police Department\, 935 Main Street\, Sanford\, 4073\, United States
CATEGORIES:6/7 Hands-On
END:VEVENT
BEGIN:VEVENT
DTSTART;TZID=America/Toronto:20260116T000000
DTEND;TZID=America/Toronto:20260129T000000
DTSTAMP:20260421T064306
CREATED:20260115T160815Z
LAST-MODIFIED:20260115T160815Z
UID:10000872-1768521600-1769644800@wreckmasterstaging.tangiblelaunchpad.com
SUMMARY:Test Email Instructor
DESCRIPTION:Test Email Instructor
URL:https://wreckmasterstaging.tangiblelaunchpad.com/event/test-email-instructor/
LOCATION:AZ Towing\, 2323 Anson Dr\, Mississauga\, ON\, L5S 1G1\, Canada
CATEGORIES:6/7 Hands-On
GEO:43.6942513;-79.6618966
X-APPLE-STRUCTURED-LOCATION;VALUE=URI;X-ADDRESS=AZ Towing 2323 Anson Dr Mississauga ON L5S 1G1 Canada;X-APPLE-RADIUS=500;X-TITLE=2323 Anson Dr:geo:-79.6618966,43.6942513
END:VEVENT
END:VCALENDAR