BEGIN:VCALENDAR
VERSION:2.0
PRODID:-//WreckMaster - ECPv6.15.20//NONSGML v1.0//EN
CALSCALE:GREGORIAN
METHOD:PUBLISH
X-ORIGINAL-URL:https://wreckmasterstaging.tangiblelaunchpad.com
X-WR-CALDESC:Events for WreckMaster
REFRESH-INTERVAL;VALUE=DURATION:PT1H
X-Robots-Tag:noindex
X-PUBLISHED-TTL:PT1H
BEGIN:VTIMEZONE
TZID:America/Toronto
BEGIN:DAYLIGHT
TZOFFSETFROM:-0500
TZOFFSETTO:-0400
TZNAME:EDT
DTSTART:20230312T070000
END:DAYLIGHT
BEGIN:STANDARD
TZOFFSETFROM:-0400
TZOFFSETTO:-0500
TZNAME:EST
DTSTART:20231105T060000
END:STANDARD
BEGIN:DAYLIGHT
TZOFFSETFROM:-0500
TZOFFSETTO:-0400
TZNAME:EDT
DTSTART:20240310T070000
END:DAYLIGHT
BEGIN:STANDARD
TZOFFSETFROM:-0400
TZOFFSETTO:-0500
TZNAME:EST
DTSTART:20241103T060000
END:STANDARD
BEGIN:DAYLIGHT
TZOFFSETFROM:-0500
TZOFFSETTO:-0400
TZNAME:EDT
DTSTART:20250309T070000
END:DAYLIGHT
BEGIN:STANDARD
TZOFFSETFROM:-0400
TZOFFSETTO:-0500
TZNAME:EST
DTSTART:20251102T060000
END:STANDARD
END:VTIMEZONE
BEGIN:VEVENT
DTSTART;TZID=America/Toronto:20240603T080000
DTEND;TZID=America/Toronto:20240604T170000
DTSTAMP:20260421T081220
CREATED:20231011T172748Z
LAST-MODIFIED:20240213T164728Z
UID:10000337-1717401600-1717520400@wreckmasterstaging.tangiblelaunchpad.com
SUMMARY:Heath\, Ohio Level 4/5 June 3-4 2024
DESCRIPTION:Level 4/5: Advanced Techniques gives you the skills needed to tackle medium and heavy-duty jobs the first time\, every time. No more near misses or failed attempts. \nIf you’ve taken the WreckMaster Level 2/3: Fundamentals course and you want to be able to tow and recover in even more complicated and potentially dangerous scenarios\, the Level 4/5: Advanced Techniques course is for you. \nUpon successful completion of the training evaluation\, attendees will receive a training certificate. \nIt’s an especially good fit for company owners\, trainers and organizations that work with or train fire and rescue personnel
URL:https://wreckmasterstaging.tangiblelaunchpad.com/event/heath-ohio-level-4-5-june-3-4-2024-2/
LOCATION:Jae’s Towing\, 1697 Hebron Rd\, Heath\, OH\, 43056\, United States
CATEGORIES:2024 Classes,2024 Hands-On Training,2024 Level 4/5 Hands-On,4/5 Hands-On
ATTACH;FMTTYPE=image/png:https://wreckmasterstaging.tangiblelaunchpad.com/wp-content/uploads/2023/05/45-HANDS-ON-smaller.png
ORGANIZER;CN="WreckMaster":MAILTO:info@wreckmaster.com
GEO:40.006115;-82.464641
X-APPLE-STRUCTURED-LOCATION;VALUE=URI;X-ADDRESS=Jae’s Towing 1697 Hebron Rd Heath OH 43056 United States;X-APPLE-RADIUS=500;X-TITLE=1697 Hebron Rd:geo:-82.464641,40.006115
END:VEVENT
BEGIN:VEVENT
DTSTART;TZID=America/Toronto:20240601T080000
DTEND;TZID=America/Toronto:20240602T170000
DTSTAMP:20260421T081220
CREATED:20240312T172840Z
LAST-MODIFIED:20240314T195113Z
UID:10000459-1717228800-1717347600@wreckmasterstaging.tangiblelaunchpad.com
SUMMARY:Portland OR Level 4/5 June 1-2\, 2024
DESCRIPTION:Level 4/5: Advanced Techniques gives you the skills needed to tackle medium and heavy-duty jobs the first time\, every time. No more near misses or failed attempts. \nIf you’ve taken the WreckMaster Level 2/3: Fundamentals course and you want to be able to tow and recover in even more complicated and potentially dangerous scenarios\, the Level 4/5: Advanced Techniques course is for you. \nUpon successful completion of the training evaluation\, attendees will receive a training certificate. \nIt’s an especially good fit for company owners\, trainers and organizations that work with or train fire and rescue personnel
URL:https://wreckmasterstaging.tangiblelaunchpad.com/event/portland-or-level-4-5-june-1-2-2024/
LOCATION:Portland Fire Department Training Center\, 4800 NE122nd Ave\, Portland\, 97230\, United States
CATEGORIES:2024 Classes,2024 Hands-On Training,2024 Level 4/5 Hands-On,4/5 Hands-On
ATTACH;FMTTYPE=image/png:https://wreckmasterstaging.tangiblelaunchpad.com/wp-content/uploads/2023/05/45-HANDS-ON-smaller.png
ORGANIZER;CN="WreckMaster":MAILTO:info@wreckmaster.com
GEO:45.5576509;-122.5369279
X-APPLE-STRUCTURED-LOCATION;VALUE=URI;X-ADDRESS=Portland Fire Department Training Center 4800 NE122nd Ave Portland 97230 United States;X-APPLE-RADIUS=500;X-TITLE=4800 NE122nd Ave:geo:-122.5369279,45.5576509
END:VEVENT
BEGIN:VEVENT
DTSTART;TZID=America/Toronto:20240427T080000
DTEND;TZID=America/Toronto:20240428T170000
DTSTAMP:20260421T081220
CREATED:20231103T162050Z
LAST-MODIFIED:20240425T203455Z
UID:10000363-1714204800-1714323600@wreckmasterstaging.tangiblelaunchpad.com
SUMMARY:Anchorage\, AK Level 4/5 April 27-28\, 2024
DESCRIPTION:Level 4/5: Advanced Techniques gives you the skills needed to tackle medium and heavy-duty jobs the first time\, every time. No more near misses or failed attempts. \nIf you’ve taken the WreckMaster Level 2/3: Fundamentals course and you want to be able to tow and recover in even more complicated and potentially dangerous scenarios\, the Level 4/5: Advanced Techniques course is for you. \nUpon successful completion of the training evaluation\, attendees will receive a training certificate. \nIt’s an especially good fit for company owners\, trainers and organizations that work with or train fire and rescue personnel
URL:https://wreckmasterstaging.tangiblelaunchpad.com/event/anchorage-ak-level-4-5-april-27-28-2024/
LOCATION:Vulcan Towing & Recovery\, 100 East 104th\, Anchorage\, AK\, 99515\, United States
CATEGORIES:2024 Classes,2024 Hands-On Training,2024 Level 4/5 Hands-On,4/5 Hands-On
ATTACH;FMTTYPE=image/png:https://wreckmasterstaging.tangiblelaunchpad.com/wp-content/uploads/2023/05/45-HANDS-ON-smaller.png
ORGANIZER;CN="WreckMaster":MAILTO:info@wreckmaster.com
GEO:61.1263084;-149.8800393
X-APPLE-STRUCTURED-LOCATION;VALUE=URI;X-ADDRESS=Vulcan Towing & Recovery 100 East 104th Anchorage AK 99515 United States;X-APPLE-RADIUS=500;X-TITLE=100 East 104th:geo:-149.8800393,61.1263084
END:VEVENT
BEGIN:VEVENT
DTSTART;TZID=America/Toronto:20240329T080000
DTEND;TZID=America/Toronto:20240330T170000
DTSTAMP:20260421T081220
CREATED:20230821T155434Z
LAST-MODIFIED:20240404T172938Z
UID:10000298-1711699200-1711818000@wreckmasterstaging.tangiblelaunchpad.com
SUMMARY:Santa Maria\, CA 4/5 March 29-30 2024
DESCRIPTION:Level 4/5: Advanced Techniques gives you the skills needed to tackle medium and heavy-duty jobs the first time\, every time. No more near misses or failed attempts. \nIf you’ve taken the WreckMaster Level 2/3: Fundamentals course and you want to be able to tow and recover in even more complicated and potentially dangerous scenarios\, the Level 4/5: Advanced Techniques course is for you. \nUpon successful completion of the training evaluation\, attendees will receive a training certificate. \nIt’s an especially good fit for company owners\, trainers and organizations that work with or train fire and rescue personnel
URL:https://wreckmasterstaging.tangiblelaunchpad.com/event/santa-maria-ca-4-5-october-13-14-2023/
LOCATION:Smitty’s Towing\, 1250 W Betteravia\, Santa Maria\, CA\, 93455\, United States
CATEGORIES:2024 Classes,2024 Hands-On Training,2024 Level 4/5 Hands-On,4/5 Hands-On
ATTACH;FMTTYPE=image/png:https://wreckmasterstaging.tangiblelaunchpad.com/wp-content/uploads/2023/05/45-HANDS-ON-smaller.png
ORGANIZER;CN="WreckMaster":MAILTO:info@wreckmaster.com
GEO:34.9200308;-120.4554934
X-APPLE-STRUCTURED-LOCATION;VALUE=URI;X-ADDRESS=Smitty’s Towing 1250 W Betteravia Santa Maria CA 93455 United States;X-APPLE-RADIUS=500;X-TITLE=1250 W Betteravia:geo:-120.4554934,34.9200308
END:VEVENT
BEGIN:VEVENT
DTSTART;TZID=America/Toronto:20240313T080000
DTEND;TZID=America/Toronto:20240314T170000
DTSTAMP:20260421T081220
CREATED:20230901T182818Z
LAST-MODIFIED:20240208T153129Z
UID:10000312-1710316800-1710435600@wreckmasterstaging.tangiblelaunchpad.com
SUMMARY:Birmingham\, AL 4/5 March 13-14\, 2024
DESCRIPTION:Level 4/5: Advanced Techniques gives you the skills needed to tackle medium and heavy-duty jobs the first time\, every time. No more near misses or failed attempts. \nIf you’ve taken the WreckMaster Level 2/3: Fundamentals course and you want to be able to tow and recover in even more complicated and potentially dangerous scenarios\, the Level 4/5: Advanced Techniques course is for you. \nUpon successful completion of the training evaluation\, attendees will receive a training certificate. \nIt’s an especially good fit for company owners\, trainers and organizations that work with or train fire and rescue personnel
URL:https://wreckmasterstaging.tangiblelaunchpad.com/event/birmingham-al-4-5-march-13-14-2023/
LOCATION:Weil Wrecker Service\, 3400 2nd Ave S\, Birmingham\, AL\, 35222\, United States
CATEGORIES:2024 Classes,2024 Hands-On Training,2024 Level 4/5 Hands-On,4/5 Hands-On
ATTACH;FMTTYPE=image/png:https://wreckmasterstaging.tangiblelaunchpad.com/wp-content/uploads/2022/08/45-HANDS-ON-1.png
ORGANIZER;CN="WreckMaster":MAILTO:info@wreckmaster.com
GEO:33.5204903;-86.7840332
X-APPLE-STRUCTURED-LOCATION;VALUE=URI;X-ADDRESS=Weil Wrecker Service 3400 2nd Ave S Birmingham AL 35222 United States;X-APPLE-RADIUS=500;X-TITLE=3400 2nd Ave S:geo:-86.7840332,33.5204903
END:VEVENT
BEGIN:VEVENT
DTSTART;TZID=America/Toronto:20240222T080000
DTEND;TZID=America/Toronto:20240223T170000
DTSTAMP:20260421T081220
CREATED:20240109T171330Z
LAST-MODIFIED:20240208T153141Z
UID:10000424-1708588800-1708707600@wreckmasterstaging.tangiblelaunchpad.com
SUMMARY:Phoenix AZ Level 4/5 Feb 22-23 2024
DESCRIPTION:Level 4/5: Advanced Techniques gives you the skills needed to tackle medium and heavy-duty jobs the first time\, every time. No more near misses or failed attempts. \nIf you’ve taken the WreckMaster Level 2/3: Fundamentals course and you want to be able to tow and recover in even more complicated and potentially dangerous scenarios\, the Level 4/5: Advanced Techniques course is for you. \nUpon successful completion of the training evaluation\, attendees will receive a training certificate. \nIt’s an especially good fit for company owners\, trainers and organizations that work with or train fire and rescue personnel
URL:https://wreckmasterstaging.tangiblelaunchpad.com/event/phoenix-az-level-4-5-feb-22-23-2024/
LOCATION:Hosted By APTRA\, 1900 E Calle Carmen\, Tempe\, AZ\, 85283\, United States
CATEGORIES:2024 Classes,2024 Hands-On Training,2024 Level 4/5 Hands-On,4/5 Hands-On
ATTACH;FMTTYPE=image/png:https://wreckmasterstaging.tangiblelaunchpad.com/wp-content/uploads/2023/05/45-HANDS-ON-smaller.png
ORGANIZER;CN="WreckMaster":MAILTO:info@wreckmaster.com
GEO:33.3601135;-111.9684472
X-APPLE-STRUCTURED-LOCATION;VALUE=URI;X-ADDRESS=Hosted By APTRA 1900 E Calle Carmen Tempe AZ 85283 United States;X-APPLE-RADIUS=500;X-TITLE=1900 E Calle Carmen:geo:-111.9684472,33.3601135
END:VEVENT
END:VCALENDAR