BEGIN:VCALENDAR
VERSION:2.0
PRODID:-//WreckMaster - ECPv6.15.20//NONSGML v1.0//EN
CALSCALE:GREGORIAN
METHOD:PUBLISH
X-ORIGINAL-URL:https://wreckmasterstaging.tangiblelaunchpad.com
X-WR-CALDESC:Events for WreckMaster
REFRESH-INTERVAL;VALUE=DURATION:PT1H
X-Robots-Tag:noindex
X-PUBLISHED-TTL:PT1H
BEGIN:VTIMEZONE
TZID:America/Toronto
BEGIN:DAYLIGHT
TZOFFSETFROM:-0500
TZOFFSETTO:-0400
TZNAME:EDT
DTSTART:20250309T070000
END:DAYLIGHT
BEGIN:STANDARD
TZOFFSETFROM:-0400
TZOFFSETTO:-0500
TZNAME:EST
DTSTART:20251102T060000
END:STANDARD
BEGIN:DAYLIGHT
TZOFFSETFROM:-0500
TZOFFSETTO:-0400
TZNAME:EDT
DTSTART:20260308T070000
END:DAYLIGHT
BEGIN:STANDARD
TZOFFSETFROM:-0400
TZOFFSETTO:-0500
TZNAME:EST
DTSTART:20261101T060000
END:STANDARD
BEGIN:DAYLIGHT
TZOFFSETFROM:-0500
TZOFFSETTO:-0400
TZNAME:EDT
DTSTART:20270314T070000
END:DAYLIGHT
BEGIN:STANDARD
TZOFFSETFROM:-0400
TZOFFSETTO:-0500
TZNAME:EST
DTSTART:20271107T060000
END:STANDARD
END:VTIMEZONE
BEGIN:VEVENT
DTSTART;TZID=America/Toronto:20260425T080000
DTEND;TZID=America/Toronto:20260426T170000
DTSTAMP:20260421T020220
CREATED:20251201T170047Z
LAST-MODIFIED:20251201T170454Z
UID:10000830-1777104000-1777222800@wreckmasterstaging.tangiblelaunchpad.com
SUMMARY:Sanford ME Level 4/5 April 25-26 2026
DESCRIPTION:Sanford ME Level 4/5 April 25-26 2026 Classroom Held at Sanford Police Department 935 Main St Sanford ME 04073 Host: Chandlers Automotive & Towing 328 Jagger Mill Rd\, Sanford ME 04073
URL:https://wreckmasterstaging.tangiblelaunchpad.com/event/sanford-me-level-4-5-april-25-26-2026/
LOCATION:Sanford Police Department\, 935 Main Street\, Sanford\, 4073\, United States
CATEGORIES:4/5 Hands-On
ATTACH;FMTTYPE=image/png:https://wreckmasterstaging.tangiblelaunchpad.com/wp-content/uploads/2025/10/45-HANDS-ON-smaller.png
ORGANIZER;CN="WreckMaster":MAILTO:info@wreckmaster.com
END:VEVENT
BEGIN:VEVENT
DTSTART;TZID=America/Toronto:20260502T080000
DTEND;TZID=America/Toronto:20260503T170000
DTSTAMP:20260421T020220
CREATED:20250718T135339Z
LAST-MODIFIED:20251017T181230Z
UID:10000751-1777708800-1777827600@wreckmasterstaging.tangiblelaunchpad.com
SUMMARY:Baldwin\, Wisconsin Level 4/5 May 2-3\, 2026
DESCRIPTION:Level 4/5: Advanced Techniques gives you the skills needed to tackle medium and heavy-duty jobs the first time\, every time. No more near misses or failed attempts. \nIf you’ve taken the WreckMaster Level 2/3: Fundamentals course and you want to be able to tow and recover in even more complicated and potentially dangerous scenarios\, the Level 4/5: Advanced Techniques course is for you. \nIt’s an especially good fit for company owners\, trainers and organizations that work with or train fire and rescue personnel \nUpon successful completion of the training evaluation\, attendees will receive a training certificate.
URL:https://wreckmasterstaging.tangiblelaunchpad.com/event/baldwin-wisconsin-level-4-5-may-2-3-2026/
LOCATION:day\, 850 Hillcrest St\, Baldwin\, WI\, 54002\, United States
CATEGORIES:2024 Classes,4/5 Hands-On
ATTACH;FMTTYPE=image/png:https://wreckmasterstaging.tangiblelaunchpad.com/wp-content/uploads/2023/05/45-HANDS-ON-smaller.png
ORGANIZER;CN="WreckMaster":MAILTO:info@wreckmaster.com
GEO:44.9745721;-92.3723949
X-APPLE-STRUCTURED-LOCATION;VALUE=URI;X-ADDRESS=day 850 Hillcrest St Baldwin WI 54002 United States;X-APPLE-RADIUS=500;X-TITLE=850 Hillcrest St:geo:-92.3723949,44.9745721
END:VEVENT
BEGIN:VEVENT
DTSTART;TZID=America/Toronto:20260515T080000
DTEND;TZID=America/Toronto:20260516T170000
DTSTAMP:20260421T020220
CREATED:20251017T181252Z
LAST-MODIFIED:20251027T162700Z
UID:10000802-1778832000-1778950800@wreckmasterstaging.tangiblelaunchpad.com
SUMMARY:Billings MT\, Level 4/5 May 15-16\, 2026
DESCRIPTION:
URL:https://wreckmasterstaging.tangiblelaunchpad.com/event/billings-mt-level-4-5-may-15-16-2026/
LOCATION:Billings Hotel and Convention Center\, 1223 Mullowney Lane\, Billings MT\, 59101\, United States
CATEGORIES:4/5 Hands-On
END:VEVENT
BEGIN:VEVENT
DTSTART;TZID=America/Toronto:20260521T080000
DTEND;TZID=America/Toronto:20260522T170000
DTSTAMP:20260421T020220
CREATED:20250527T143548Z
LAST-MODIFIED:20251017T181354Z
UID:10000720-1779350400-1779469200@wreckmasterstaging.tangiblelaunchpad.com
SUMMARY:Heath\, OH Level 4/5 May 21-22\, 2026
DESCRIPTION:Level 4/5: Advanced Techniques gives you the skills needed to tackle medium and heavy-duty jobs the first time\, every time. No more near misses or failed attempts. \nIf you’ve taken the WreckMaster Level 2/3: Fundamentals course and you want to be able to tow and recover in even more complicated and potentially dangerous scenarios\, the Level 4/5: Advanced Techniques course is for you. \nIt’s an especially good fit for company owners\, trainers and organizations that work with or train fire and rescue personnel \nUpon successful completion of the training evaluation\, attendees will receive a training certificate.
URL:https://wreckmasterstaging.tangiblelaunchpad.com/event/heath-oh-level-4-5-may-21-22-2026/
LOCATION:193 Heath Rd\, Heath\, OH\, 43056\, United States
CATEGORIES:2024 Classes,4/5 Hands-On
ATTACH;FMTTYPE=image/png:https://wreckmasterstaging.tangiblelaunchpad.com/wp-content/uploads/2023/05/45-HANDS-ON-smaller.png
ORGANIZER;CN="WreckMaster":MAILTO:info@wreckmaster.com
END:VEVENT
END:VCALENDAR