BEGIN:VCALENDAR
VERSION:2.0
PRODID:-//WreckMaster - ECPv6.15.20//NONSGML v1.0//EN
CALSCALE:GREGORIAN
METHOD:PUBLISH
X-ORIGINAL-URL:https://wreckmasterstaging.tangiblelaunchpad.com
X-WR-CALDESC:Events for WreckMaster
REFRESH-INTERVAL;VALUE=DURATION:PT1H
X-Robots-Tag:noindex
X-PUBLISHED-TTL:PT1H
BEGIN:VTIMEZONE
TZID:America/Toronto
BEGIN:DAYLIGHT
TZOFFSETFROM:-0500
TZOFFSETTO:-0400
TZNAME:EDT
DTSTART:20230312T070000
END:DAYLIGHT
BEGIN:STANDARD
TZOFFSETFROM:-0400
TZOFFSETTO:-0500
TZNAME:EST
DTSTART:20231105T060000
END:STANDARD
BEGIN:DAYLIGHT
TZOFFSETFROM:-0500
TZOFFSETTO:-0400
TZNAME:EDT
DTSTART:20240310T070000
END:DAYLIGHT
BEGIN:STANDARD
TZOFFSETFROM:-0400
TZOFFSETTO:-0500
TZNAME:EST
DTSTART:20241103T060000
END:STANDARD
BEGIN:DAYLIGHT
TZOFFSETFROM:-0500
TZOFFSETTO:-0400
TZNAME:EDT
DTSTART:20250309T070000
END:DAYLIGHT
BEGIN:STANDARD
TZOFFSETFROM:-0400
TZOFFSETTO:-0500
TZNAME:EST
DTSTART:20251102T060000
END:STANDARD
END:VTIMEZONE
BEGIN:VEVENT
DTSTART;TZID=America/Toronto:20240327T080000
DTEND;TZID=America/Toronto:20240328T170000
DTSTAMP:20260421T124121
CREATED:20230821T155706Z
LAST-MODIFIED:20240208T151357Z
UID:10000299-1711526400-1711645200@wreckmasterstaging.tangiblelaunchpad.com
SUMMARY:Santa Maria\, CA 2/3 March 27-28 2024
DESCRIPTION:Our flagship training course\, Level 2/3: Fundamentals course focuses primarily on light-duty vehicles\, with introductory techniques for medium and heavy-duty work. \nUpon successful completion of the training evaluation\, attendees will receive a training certificate. \nLevel 2/3: Fundamentals is best for business owners\, company managers\, trainers\, health and safety reps or any career-oriented operators.
URL:https://wreckmasterstaging.tangiblelaunchpad.com/event/santa-maria-ca-2-3-october-11-12-2023/
LOCATION:Smitty’s Towing\, 1250 W Betteravia\, Santa Maria\, CA\, 93455\, United States
CATEGORIES:2024 Classes,2024 Hands-On Training,2024 Level 2/3 Hands-On,23 Hands-On
ATTACH;FMTTYPE=image/png:https://wreckmasterstaging.tangiblelaunchpad.com/wp-content/uploads/2023/02/23-HANDS-ON-smaller.png
ORGANIZER;CN="WreckMaster":MAILTO:info@wreckmaster.com
GEO:34.9200308;-120.4554934
X-APPLE-STRUCTURED-LOCATION;VALUE=URI;X-ADDRESS=Smitty’s Towing 1250 W Betteravia Santa Maria CA 93455 United States;X-APPLE-RADIUS=500;X-TITLE=1250 W Betteravia:geo:-120.4554934,34.9200308
END:VEVENT
BEGIN:VEVENT
DTSTART;TZID=America/Toronto:20240323T080000
DTEND;TZID=America/Toronto:20240324T170000
DTSTAMP:20260421T124121
CREATED:20231201T183942Z
LAST-MODIFIED:20240208T151522Z
UID:10000401-1711180800-1711299600@wreckmasterstaging.tangiblelaunchpad.com
SUMMARY:Mercer\, PA Level 2/3 March 23-24 2024
DESCRIPTION:Our flagship training course\, Level 2/3: Fundamentals course focuses primarily on light-duty vehicles\, with introductory techniques for medium and heavy-duty work. \nUpon successful completion of the training evaluation\, attendees will receive a training certificate. \nLevel 2/3: Fundamentals is best for business owners\, company managers\, trainers\, health and safety reps or any career-oriented operators.
URL:https://wreckmasterstaging.tangiblelaunchpad.com/event/mercer-pa-level-2-3-march-23-24-2024/
LOCATION:East Penn Truck Equipment West Inc.\, 7298 W. Market St.\, Mercer\, 16137\, United States
CATEGORIES:2024 Classes,2024 Hands-On Training,2024 Level 2/3 Hands-On,23 Hands-On
ATTACH;FMTTYPE=image/png:https://wreckmasterstaging.tangiblelaunchpad.com/wp-content/uploads/2022/08/23-HANDS-ON-300x300-1.png
ORGANIZER;CN="WreckMaster":MAILTO:info@wreckmaster.com
GEO:41.2362618;-80.3492147
X-APPLE-STRUCTURED-LOCATION;VALUE=URI;X-ADDRESS=East Penn Truck Equipment West Inc. 7298 W. Market St. Mercer 16137 United States;X-APPLE-RADIUS=500;X-TITLE=7298 W. Market St.:geo:-80.3492147,41.2362618
END:VEVENT
BEGIN:VEVENT
DTSTART;TZID=America/Toronto:20240311T080000
DTEND;TZID=America/Toronto:20240312T170000
DTSTAMP:20260421T124121
CREATED:20230901T182321Z
LAST-MODIFIED:20240318T174012Z
UID:10000311-1710144000-1710262800@wreckmasterstaging.tangiblelaunchpad.com
SUMMARY:Birmingham\, AL 2/3 March 11-12 2024
DESCRIPTION:Our flagship training course\, Level 2/3: Fundamentals course focuses primarily on light-duty vehicles\, with introductory techniques for medium and heavy-duty work. \nUpon successful completion of the training evaluation\, attendees will receive a training certificate. \nLevel 2/3: Fundamentals is best for business owners\, company managers\, trainers\, health and safety reps or any career-oriented operators.
URL:https://wreckmasterstaging.tangiblelaunchpad.com/event/birmingham-al-2-3-march-11-12-2024/
LOCATION:Weil Wrecker Service\, 3400 2nd Ave S\, Birmingham\, AL\, 35222\, United States
CATEGORIES:2024 Classes,2024 Hands-On Training,2024 Level 2/3 Hands-On,23 Hands-On
ATTACH;FMTTYPE=image/png:https://wreckmasterstaging.tangiblelaunchpad.com/wp-content/uploads/2022/08/23-HANDS-ON.png
ORGANIZER;CN="WreckMaster":MAILTO:info@wreckmaster.com
GEO:33.5204903;-86.7840332
X-APPLE-STRUCTURED-LOCATION;VALUE=URI;X-ADDRESS=Weil Wrecker Service 3400 2nd Ave S Birmingham AL 35222 United States;X-APPLE-RADIUS=500;X-TITLE=3400 2nd Ave S:geo:-86.7840332,33.5204903
END:VEVENT
BEGIN:VEVENT
DTSTART;TZID=America/Toronto:20240302T080000
DTEND;TZID=America/Toronto:20240303T170000
DTSTAMP:20260421T124121
CREATED:20240110T151224Z
LAST-MODIFIED:20240208T152200Z
UID:10000427-1709366400-1709485200@wreckmasterstaging.tangiblelaunchpad.com
SUMMARY:Columbus OH Level 2/3 March 2-3\, 2024
DESCRIPTION:Our flagship training course\, Level 2/3: Fundamentals course focuses primarily on light-duty vehicles\, with introductory techniques for medium and heavy-duty work. \nUpon successful completion of the training evaluation\, attendees will receive a training certificate. \nLevel 2/3: Fundamentals is best for business owners\, company managers\, trainers\, health and safety reps or any career-oriented operators.
URL:https://wreckmasterstaging.tangiblelaunchpad.com/event/columbus-oh-level-2-3-march-2-3-2024/
LOCATION:Broad and James\, 4301 East Fifth Avenue\, Columbus\, OH\, 43219\, United States
CATEGORIES:2024 Classes,2024 Hands-On Training,2024 Level 2/3 Hands-On,23 Hands-On
ATTACH;FMTTYPE=image/png:https://wreckmasterstaging.tangiblelaunchpad.com/wp-content/uploads/2022/08/23-HANDS-ON-300x300-1.png
ORGANIZER;CN="WreckMaster":MAILTO:info@wreckmaster.com
GEO:39.9867569;-82.8898852
X-APPLE-STRUCTURED-LOCATION;VALUE=URI;X-ADDRESS=Broad and James 4301 East Fifth Avenue Columbus OH 43219 United States;X-APPLE-RADIUS=500;X-TITLE=4301 East Fifth Avenue:geo:-82.8898852,39.9867569
END:VEVENT
BEGIN:VEVENT
DTSTART;TZID=America/Toronto:20240224T080000
DTEND;TZID=America/Toronto:20240225T170000
DTSTAMP:20260421T124121
CREATED:20231004T141816Z
LAST-MODIFIED:20250811T192010Z
UID:10000333-1708761600-1708880400@wreckmasterstaging.tangiblelaunchpad.com
SUMMARY:Chesnee SC Level 2/3 February 24-25 2024
DESCRIPTION:Our flagship training course\, Level 2/3: Fundamentals course focuses primarily on light-duty vehicles\, with introductory techniques for medium and heavy-duty work. \nUpon successful completion of the training evaluation\, attendees will receive a training certificate. \nLevel 2/3: Fundamentals is best for business owners\, company managers\, trainers\, health and safety reps or any career-oriented operators.
URL:https://wreckmasterstaging.tangiblelaunchpad.com/event/chesnee-sc-level-2-3-february-24-25-2024/
LOCATION:TRASC/Atlanta Wrecker Sales\, 4959 chesnee Hwy\, Chesnee\, SC\, 39323\, United States
CATEGORIES:2024 Classes,2024 Hands-On Training,2024 Level 2/3 Hands-On,23 Hands-On
ATTACH;FMTTYPE=image/png:https://wreckmasterstaging.tangiblelaunchpad.com/wp-content/uploads/2022/08/23-HANDS-ON-300x300-1.png
ORGANIZER;CN="WreckMaster":MAILTO:info@wreckmaster.com
GEO:35.0953561;-81.8547744
X-APPLE-STRUCTURED-LOCATION;VALUE=URI;X-ADDRESS=TRASC/Atlanta Wrecker Sales 4959 chesnee Hwy Chesnee SC 39323 United States;X-APPLE-RADIUS=500;X-TITLE=4959 chesnee Hwy:geo:-81.8547744,35.0953561
END:VEVENT
BEGIN:VEVENT
DTSTART;TZID=America/Toronto:20240220T080000
DTEND;TZID=America/Toronto:20240221T170000
DTSTAMP:20260421T124122
CREATED:20240109T172223Z
LAST-MODIFIED:20240208T152233Z
UID:10000425-1708416000-1708534800@wreckmasterstaging.tangiblelaunchpad.com
SUMMARY:Phoenix\, AZ Level 2/3 Feb 20-21 2024
DESCRIPTION:Our flagship training course\, Level 2/3: Fundamentals course focuses primarily on light-duty vehicles\, with introductory techniques for medium and heavy-duty work. \nUpon successful completion of the training evaluation\, attendees will receive a training certificate. \nLevel 2/3: Fundamentals is best for business owners\, company managers\, trainers\, health and safety reps or any career-oriented operators.
URL:https://wreckmasterstaging.tangiblelaunchpad.com/event/phoenix-az-level-2-3-feb-20-21-2024/
LOCATION:Hosted By APTRA\, 1900 E Calle Carmen\, Tempe\, AZ\, 85283\, United States
CATEGORIES:2024 Classes,2024 Hands-On Training,2024 Level 2/3 Hands-On,23 Hands-On
ATTACH;FMTTYPE=image/png:https://wreckmasterstaging.tangiblelaunchpad.com/wp-content/uploads/2022/08/23-HANDS-ON-300x300-1.png
ORGANIZER;CN="WreckMaster":MAILTO:info@wreckmaster.com
GEO:33.3601135;-111.9684472
X-APPLE-STRUCTURED-LOCATION;VALUE=URI;X-ADDRESS=Hosted By APTRA 1900 E Calle Carmen Tempe AZ 85283 United States;X-APPLE-RADIUS=500;X-TITLE=1900 E Calle Carmen:geo:-111.9684472,33.3601135
END:VEVENT
BEGIN:VEVENT
DTSTART;TZID=America/Toronto:20240217T080000
DTEND;TZID=America/Toronto:20240218T170000
DTSTAMP:20260421T124122
CREATED:20231003T164903Z
LAST-MODIFIED:20240220T183139Z
UID:10000331-1708156800-1708275600@wreckmasterstaging.tangiblelaunchpad.com
SUMMARY:Savannah\, GA 2/3 February 17-18 2024
DESCRIPTION:Our flagship training course\, Level 2/3: Fundamentals course focuses primarily on light-duty vehicles\, with introductory techniques for medium and heavy-duty work. \nUpon successful completion of the training evaluation\, attendees will receive a training certificate. \nLevel 2/3: Fundamentals is best for business owners\, company managers\, trainers\, health and safety reps or any career-oriented operators.
URL:https://wreckmasterstaging.tangiblelaunchpad.com/event/savannah-ga-2-3-february-17-18-2024/
LOCATION:Tim’s Towing & Recovery\, 2141 Gamble Rd\, Savannah\, GA\, 31405\, United States
CATEGORIES:2024 Classes,2024 Hands-On Training,2024 Level 2/3 Hands-On,23 Hands-On
ATTACH;FMTTYPE=image/png:https://wreckmasterstaging.tangiblelaunchpad.com/wp-content/uploads/2022/08/23-HANDS-ON-300x300-1.png
ORGANIZER;CN="WreckMaster":MAILTO:info@wreckmaster.com
GEO:32.049428;-81.147777
X-APPLE-STRUCTURED-LOCATION;VALUE=URI;X-ADDRESS=Tim’s Towing & Recovery 2141 Gamble Rd Savannah GA 31405 United States;X-APPLE-RADIUS=500;X-TITLE=2141 Gamble Rd:geo:-81.147777,32.049428
END:VEVENT
BEGIN:VEVENT
DTSTART;TZID=America/Toronto:20240120T080000
DTEND;TZID=America/Toronto:20240121T170000
DTSTAMP:20260421T124122
CREATED:20231030T151743Z
LAST-MODIFIED:20240208T152300Z
UID:10000359-1705737600-1705856400@wreckmasterstaging.tangiblelaunchpad.com
SUMMARY:Salisbury\, MD Level 2/3 January 20-21 2024
DESCRIPTION:Our flagship training course\, Level 2/3: Fundamentals course focuses primarily on light-duty vehicles\, with introductory techniques for medium and heavy-duty work. \n****Please note WreckMaster no longer offers Certification with the Training we offer**** \nLevel 2/3: Fundamentals is best for business owners\, company managers\, trainers\, health and safety reps or any career-oriented operators.
URL:https://wreckmasterstaging.tangiblelaunchpad.com/event/salisbury-md-level-2-3-january-20-21-2024/
LOCATION:Simpsons Towing\, 2121 W. Zion Road\, Salisbury\, MD\, 21801\, United States
CATEGORIES:2024 Classes,2024 Hands-On Training,2024 Level 2/3 Hands-On,23 Hands-On
ATTACH;FMTTYPE=image/png:https://wreckmasterstaging.tangiblelaunchpad.com/wp-content/uploads/2023/02/23-HANDS-ON-smaller.png
ORGANIZER;CN="WreckMaster":MAILTO:info@wreckmaster.com
GEO:38.3952231;-75.5740193
X-APPLE-STRUCTURED-LOCATION;VALUE=URI;X-ADDRESS=Simpsons Towing 2121 W. Zion Road Salisbury MD 21801 United States;X-APPLE-RADIUS=500;X-TITLE=2121 W. Zion Road:geo:-75.5740193,38.3952231
END:VEVENT
BEGIN:VEVENT
DTSTART;TZID=America/Toronto:20240120T080000
DTEND;TZID=America/Toronto:20240121T170000
DTSTAMP:20260421T124122
CREATED:20230831T133308Z
LAST-MODIFIED:20250811T192025Z
UID:10000302-1705737600-1705856400@wreckmasterstaging.tangiblelaunchpad.com
SUMMARY:Pigeon Forge TN 2/3 January 20-21\, 2024
DESCRIPTION:Our flagship training course\, Level 2/3: Fundamentals course focuses primarily on light-duty vehicles\, with introductory techniques for medium and heavy-duty work. \n****Please note WreckMaster is no longer offer Certification with the Training we offer.**** \nLevel 2/3: Fundamentals is best for business owners\, company managers\, trainers\, health and safety reps or any career-oriented operators.
URL:https://wreckmasterstaging.tangiblelaunchpad.com/event/pigeon-forge-tn-2-3-january-20-21-2024/
LOCATION:Tennessee Smokies baseball stadium\, 3540 Line dr\, Kodak\, TN\, 37764\, United States
CATEGORIES:2024 Classes,2024 Hands-On Training,2024 Level 2/3 Hands-On,23 Hands-On
ATTACH;FMTTYPE=image/png:https://wreckmasterstaging.tangiblelaunchpad.com/wp-content/uploads/2022/08/23-HANDS-ON.png
ORGANIZER;CN="WreckMaster":MAILTO:info@wreckmaster.com
GEO:35.9888158;-83.6055023
X-APPLE-STRUCTURED-LOCATION;VALUE=URI;X-ADDRESS=Tennessee Smokies baseball stadium 3540 Line dr Kodak TN 37764 United States;X-APPLE-RADIUS=500;X-TITLE=3540 Line dr:geo:-83.6055023,35.9888158
END:VEVENT
END:VCALENDAR