BEGIN:VCALENDAR
VERSION:2.0
PRODID:-//WreckMaster - ECPv6.15.20//NONSGML v1.0//EN
CALSCALE:GREGORIAN
METHOD:PUBLISH
X-WR-CALNAME:WreckMaster
X-ORIGINAL-URL:https://wreckmasterstaging.tangiblelaunchpad.com
X-WR-CALDESC:Events for WreckMaster
REFRESH-INTERVAL;VALUE=DURATION:PT1H
X-Robots-Tag:noindex
X-PUBLISHED-TTL:PT1H
BEGIN:VTIMEZONE
TZID:America/Toronto
BEGIN:DAYLIGHT
TZOFFSETFROM:-0500
TZOFFSETTO:-0400
TZNAME:EDT
DTSTART:20230312T070000
END:DAYLIGHT
BEGIN:STANDARD
TZOFFSETFROM:-0400
TZOFFSETTO:-0500
TZNAME:EST
DTSTART:20231105T060000
END:STANDARD
BEGIN:DAYLIGHT
TZOFFSETFROM:-0500
TZOFFSETTO:-0400
TZNAME:EDT
DTSTART:20240310T070000
END:DAYLIGHT
BEGIN:STANDARD
TZOFFSETFROM:-0400
TZOFFSETTO:-0500
TZNAME:EST
DTSTART:20241103T060000
END:STANDARD
BEGIN:DAYLIGHT
TZOFFSETFROM:-0500
TZOFFSETTO:-0400
TZNAME:EDT
DTSTART:20250309T070000
END:DAYLIGHT
BEGIN:STANDARD
TZOFFSETFROM:-0400
TZOFFSETTO:-0500
TZNAME:EST
DTSTART:20251102T060000
END:STANDARD
END:VTIMEZONE
BEGIN:VEVENT
DTSTART;TZID=America/Toronto:20240206T110000
DTEND;TZID=America/Toronto:20240206T120000
DTSTAMP:20260421T131712
CREATED:20231106T183628Z
LAST-MODIFIED:20240207T134518Z
UID:10000366-1707217200-1707220800@wreckmasterstaging.tangiblelaunchpad.com
SUMMARY:Intro to Medium Duty February 6\, 2024
DESCRIPTION:Online Zoom Class
URL:https://wreckmasterstaging.tangiblelaunchpad.com/event/intro-to-medium-duty-february-6-2024/
CATEGORIES:2024 Classes,2024 Free Intro Training,2024 Intro to Medium Duty,MD Intro
ATTACH;FMTTYPE=image/png:https://wreckmasterstaging.tangiblelaunchpad.com/wp-content/uploads/2023/06/INTRO-TO-MD-smaller.png
ORGANIZER;CN="WreckMaster":MAILTO:info@wreckmaster.com
END:VEVENT
BEGIN:VEVENT
DTSTART;TZID=America/Toronto:20240402T110000
DTEND;TZID=America/Toronto:20240402T120000
DTSTAMP:20260421T131712
CREATED:20231108T150044Z
LAST-MODIFIED:20240208T212537Z
UID:10000373-1712055600-1712059200@wreckmasterstaging.tangiblelaunchpad.com
SUMMARY:Intro to Medium Duty 4/5 April 2 2024
DESCRIPTION:Online Zoom Class
URL:https://wreckmasterstaging.tangiblelaunchpad.com/event/intro-to-medium-duty-4-5-april-2-2024/
CATEGORIES:2024 Classes,2024 Free Intro Training,2024 Intro to Medium Duty,MD Intro
ATTACH;FMTTYPE=image/png:https://wreckmasterstaging.tangiblelaunchpad.com/wp-content/uploads/2023/06/INTRO-TO-MD-smaller.png
ORGANIZER;CN="WreckMaster":MAILTO:info@wreckmaster.com
END:VEVENT
BEGIN:VEVENT
DTSTART;TZID=America/Toronto:20240604T110000
DTEND;TZID=America/Toronto:20240604T120000
DTSTAMP:20260421T131712
CREATED:20231129T162245Z
LAST-MODIFIED:20240208T212520Z
UID:10000394-1717498800-1717502400@wreckmasterstaging.tangiblelaunchpad.com
SUMMARY:Intro to Medium Duty 4/5 June 4 2024
DESCRIPTION:Online Zoom Class
URL:https://wreckmasterstaging.tangiblelaunchpad.com/event/intro-to-medium-duty-4-5-june-4-2024/
CATEGORIES:2024 Classes,2024 Free Intro Training,2024 Intro to Medium Duty,MD Intro
ATTACH;FMTTYPE=image/png:https://wreckmasterstaging.tangiblelaunchpad.com/wp-content/uploads/2023/06/INTRO-TO-MD-smaller.png
ORGANIZER;CN="WreckMaster":MAILTO:info@wreckmaster.com
END:VEVENT
BEGIN:VEVENT
DTSTART;TZID=America/Toronto:20240806T110000
DTEND;TZID=America/Toronto:20240806T120000
DTSTAMP:20260421T131712
CREATED:20231129T162535Z
LAST-MODIFIED:20240227T165502Z
UID:10000395-1722942000-1722945600@wreckmasterstaging.tangiblelaunchpad.com
SUMMARY:Intro to Medium Duty 4/5 August 6 2024
DESCRIPTION:Online Zoom Class
URL:https://wreckmasterstaging.tangiblelaunchpad.com/event/intro-to-medium-duty-4-5-august-6-2024/
CATEGORIES:2024 Classes,2024 Free Intro Training,2024 Intro to Medium Duty
ATTACH;FMTTYPE=image/png:https://wreckmasterstaging.tangiblelaunchpad.com/wp-content/uploads/2023/06/INTRO-TO-MD-smaller.png
ORGANIZER;CN="WreckMaster":MAILTO:info@wreckmaster.com
END:VEVENT
BEGIN:VEVENT
DTSTART;TZID=America/Toronto:20241002T140000
DTEND;TZID=America/Toronto:20241002T150000
DTSTAMP:20260421T131712
CREATED:20231129T162845Z
LAST-MODIFIED:20240930T171941Z
UID:10000396-1727877600-1727881200@wreckmasterstaging.tangiblelaunchpad.com
SUMMARY:Intro to Medium Duty 4/5 October 2 2024
DESCRIPTION:Online Zoom Class
URL:https://wreckmasterstaging.tangiblelaunchpad.com/event/intro-to-medium-duty-4-5-october-1-2024/
CATEGORIES:2024 Classes,2024 Free Intro Training,2024 Intro to Medium Duty
ATTACH;FMTTYPE=image/png:https://wreckmasterstaging.tangiblelaunchpad.com/wp-content/uploads/2023/06/INTRO-TO-MD-smaller.png
ORGANIZER;CN="WreckMaster":MAILTO:info@wreckmaster.com
END:VEVENT
BEGIN:VEVENT
DTSTART;TZID=America/Toronto:20241203T110000
DTEND;TZID=America/Toronto:20241203T120000
DTSTAMP:20260421T131712
CREATED:20231129T163139Z
LAST-MODIFIED:20241203T140630Z
UID:10000397-1733223600-1733227200@wreckmasterstaging.tangiblelaunchpad.com
SUMMARY:Intro to Medium Duty 4/5 December 3 2024
DESCRIPTION:Online Zoom Class
URL:https://wreckmasterstaging.tangiblelaunchpad.com/event/intro-to-medium-duty-4-5-december-3-2024/
CATEGORIES:2024 Classes,2024 Free Intro Training,2024 Intro to Medium Duty
ATTACH;FMTTYPE=image/png:https://wreckmasterstaging.tangiblelaunchpad.com/wp-content/uploads/2023/06/INTRO-TO-MD-smaller.png
ORGANIZER;CN="WreckMaster":MAILTO:info@wreckmaster.com
END:VEVENT
END:VCALENDAR